{"text_format":"1","workbook":"xlsx","n_sheets":8,"sheets":["awal","profil","DataSiswa","rekaman","petugas","dibayar","rekapSPP","info"],"not_rendered":{"charts":5,"images":0,"macros":1,"external_links":0,"defined_names":7,"comments":1,"pivot_tables":0},"unopened":[],"bounds":{"document_bytes":16777216,"sheet_cells":100000,"rows_first":2000,"rows_last":500,"rows_between":2000,"halvings":0,"cell_chars":16384,"cell_head_chars":4096},"cells_cut":0,"cells_raw":0,"read":"whole","date_system":"1900"}

{"sheet":"awal","index":0,"n_rows":15,"n_cols":7,"rows_kept":15,"cut":false,"hidden":false,"merged":[]}
[]
[]
[null,null,null,null,null,null,"APLIKASI PEMBAYARAN DAN PENGELOLAAN DATA SPP"]
[null,null,null,null,null,null,{"$f":"profil!B2","v":"SD Muhammadiyah Wirobrajan 3"}]
[null,null,null,null,null,null,{"$f":"\"Alamat: \" &profil!B3 &\", \" &profil!B4 &\", \" &profil!B5 &\", \" &profil!B6","v":"Alamat: Jalan Gatutkaca 19 a, Wirobrajan, Wirobrajan, Kota Yogyakarta"}]
[null,null,null,null,null,null,{"$f":"\"Tahun pelajaran \" &profil!B8","v":"Tahun pelajaran 2019/2020"}]
[]
[]
[]
[]
[]
[]
[]
[]
[null,"Created By : ","Azmzogza"]

{"sheet":"profil","index":1,"n_rows":10,"n_cols":4,"rows_kept":10,"cut":false,"hidden":false,"merged":[]}
[]
["Nama Sekolah","SD Muhammadiyah Wirobrajan 3"]
["Alamat","Jalan Gatutkaca 19 a"]
["Kelurahan","Wirobrajan"]
["Kecamatan","Wirobrajan"]
["Kab/Kota","Kota Yogyakarta"]
["Provinsi","DIY"]
["Tahun Pelajaran","2019/2020"]
["Kepala Sekolah","Cahyono, S.Ag."]
["NIP","753307","NIP","NBM"]

{"sheet":"DataSiswa","index":2,"n_rows":1003,"n_cols":5,"rows_kept":1003,"cut":false,"hidden":false,"merged":[[0,0,0,4]]}
["Input Data Siswa"]
[]
["No","NIS","Nama Siswa","Kelas","SPP"]
[1,4438,"Afisya Nada Putri Finesha","1A",220000]
[2,4439,"Aisya Kinarian Azkiya","1A",220000]
[3]
[4]
[5]
[6]
[7]
[8]
[9]
[10]
[11]
[12]
[13]
[14]
[15]
[16]
[17]
[18]
[19]
[20]
[21]
[22]
[23]
[24]
[25]
[26]
[27]
[28]
[29]
[30]
[31]
[32]
[33]
[34]
[35]
[36]
[37]
[38]
[39]
[40]
[41]
[42]
[43]
[44]
[45]
[46]
[47]
[48]
[49]
[50]
[51]
[52]
[53]
[54]
[55]
[56]
[57]
[58]
[59]
[60]
[61]
[62]
[63]
[64]
[65]
[66]
[67]
[68]
[69]
[70]
[71]
[72]
[73]
[74]
[75]
[76]
[77]
[78]
[79]
[80]
[81]
[82]
[83]
[84]
[85]
[86]
[87]
[88]
[89]
[90]
[91]
[92]
[93]
[94]
[95]
[96]
[97]
[98]
[99]
[100]
[101]
[102]
[103]
[104]
[105]
[106]
[107]
[108]
[109]
[110]
[111]
[112]
[113]
[114]
[115]
[116]
[117]
[118]
[119]
[120]
[121]
[122]
[123]
[124]
[125]
[126]
[127]
[128]
[129]
[130]
[131]
[132]
[133]
[134]
[135]
[136]
[137]
[138]
[139]
[140]
[141]
[142]
[143]
[144]
[145]
[146]
[147]
[148]
[149]
[150]
[151]
[152]
[153]
[154]
[155]
[156]
[157]
[158]
[159]
[160]
[161]
[162]
[163]
[164]
[165]
[166]
[167]
[168]
[169]
[170]
[171]
[172]
[173]
[174]
[175]
[176]
[177]
[178]
[179]
[180]
[181]
[182]
[183]
[184]
[185]
[186]
[187]
[188]
[189]
[190]
[191]
[192]
[193]
[194]
[195]
[196]
[197]
[198]
[199]
[200]
[201]
[202]
[203]
[204]
[205]
[206]
[207]
[208]
[209]
[210]
[211]
[212]
[213]
[214]
[215]
[216]
[217]
[218]
[219]
[220]
[221]
[222]
[223]
[224]
[225]
[226]
[227]
[228]
[229]
[230]
[231]
[232]
[233]
[234]
[235]
[236]
[237]
[238]
[239]
[240]
[241]
[242]
[243]
[244]
[245]
[246]
[247]
[248]
[249]
[250]
[251]
[252]
[253]
[254]
[255]
[256]
[257]
[258]
[259]
[260]
[261]
[262]
[263]
[264]
[265]
[266]
[267]
[268]
[269]
[270]
[271]
[272]
[273]
[274]
[275]
[276]
[277]
[278]
[279]
[280]
[281]
[282]
[283]
[284]
[285]
[286]
[287]
[288]
[289]
[290]
[291]
[292]
[293]
[294]
[295]
[296]
[297]
[298]
[299]
[300]
[301]
[302]
[303]
[304]
[305]
[306]
[307]
[308]
[309]
[310]
[311]
[312]
[313]
[314]
[315]
[316]
[317]
[318]
[319]
[320]
[321]
[322]
[323]
[324]
[325]
[326]
[327]
[328]
[329]
[330]
[331]
[332]
[333]
[334]
[335]
[336]
[337]
[338]
[339]
[340]
[341]
[342]
[343]
[344]
[345]
[346]
[347]
[348]
[349]
[350]
[351]
[352]
[353]
[354]
[355]
[356]
[357]
[358]
[359]
[360]
[361]
[362]
[363]
[364]
[365]
[366]
[367]
[368]
[369]
[370]
[371]
[372]
[373]
[374]
[375]
[376]
[377]
[378]
[379]
[380]
[381]
[382]
[383]
[384]
[385]
[386]
[387]
[388]
[389]
[390]
[391]
[392]
[393]
[394]
[395]
[396]
[397]
[398]
[399]
[400]
[401]
[402]
[403]
[404]
[405]
[406]
[407]
[408]
[409]
[410]
[411]
[412]
[413]
[414]
[415]
[416]
[417]
[418]
[419]
[420]
[421]
[422]
[423]
[424]
[425]
[426]
[427]
[428]
[429]
[430]
[431]
[432]
[433]
[434]
[435]
[436]
[437]
[438]
[439]
[440]
[441]
[442]
[443]
[444]
[445]
[446]
[447]
[448]
[449]
[450]
[451]
[452]
[453]
[454]
[455]
[456]
[457]
[458]
[459]
[460]
[461]
[462]
[463]
[464]
[465]
[466]
[467]
[468]
[469]
[470]
[471]
[472]
[473]
[474]
[475]
[476]
[477]
[478]
[479]
[480]
[481]
[482]
[483]
[484]
[485]
[486]
[487]
[488]
[489]
[490]
[491]
[492]
[493]
[494]
[495]
[496]
[497]
[498]
[499]
[500]
[501]
[502]
[503]
[504]
[505]
[506]
[507]
[508]
[509]
[510]
[511]
[512]
[513]
[514]
[515]
[516]
[517]
[518]
[519]
[520]
[521]
[522]
[523]
[524]
[525]
[526]
[527]
[528]
[529]
[530]
[531]
[532]
[533]
[534]
[535]
[536]
[537]
[538]
[539]
[540]
[541]
[542]
[543]
[544]
[545]
[546]
[547]
[548]
[549]
[550]
[551]
[552]
[553]
[554]
[555]
[556]
[557]
[558]
[559]
[560]
[561]
[562]
[563]
[564]
[565]
[566]
[567]
[568]
[569]
[570]
[571]
[572]
[573]
[574]
[575]
[576]
[577]
[578]
[579]
[580]
[581]
[582]
[583]
[584]
[585]
[586]
[587]
[588]
[589]
[590]
[591]
[592]
[593]
[594]
[595]
[596]
[597]
[598]
[599]
[600]
[601]
[602]
[603]
[604]
[605]
[606]
[607]
[608]
[609]
[610]
[611]
[612]
[613]
[614]
[615]
[616]
[617]
[618]
[619]
[620]
[621]
[622]
[623]
[624]
[625]
[626]
[627]
[628]
[629]
[630]
[631]
[632]
[633]
[634]
[635]
[636]
[637]
[638]
[639]
[640]
[641]
[642]
[643]
[644]
[645]
[646]
[647]
[648]
[649]
[650]
[651]
[652]
[653]
[654]
[655]
[656]
[657]
[658]
[659]
[660]
[661]
[662]
[663]
[664]
[665]
[666]
[667]
[668]
[669]
[670]
[671]
[672]
[673]
[674]
[675]
[676]
[677]
[678]
[679]
[680]
[681]
[682]
[683]
[684]
[685]
[686]
[687]
[688]
[689]
[690]
[691]
[692]
[693]
[694]
[695]
[696]
[697]
[698]
[699]
[700]
[701]
[702]
[703]
[704]
[705]
[706]
[707]
[708]
[709]
[710]
[711]
[712]
[713]
[714]
[715]
[716]
[717]
[718]
[719]
[720]
[721]
[722]
[723]
[724]
[725]
[726]
[727]
[728]
[729]
[730]
[731]
[732]
[733]
[734]
[735]
[736]
[737]
[738]
[739]
[740]
[741]
[742]
[743]
[744]
[745]
[746]
[747]
[748]
[749]
[750]
[751]
[752]
[753]
[754]
[755]
[756]
[757]
[758]
[759]
[760]
[761]
[762]
[763]
[764]
[765]
[766]
[767]
[768]
[769]
[770]
[771]
[772]
[773]
[774]
[775]
[776]
[777]
[778]
[779]
[780]
[781]
[782]
[783]
[784]
[785]
[786]
[787]
[788]
[789]
[790]
[791]
[792]
[793]
[794]
[795]
[796]
[797]
[798]
[799]
[800]
[801]
[802]
[803]
[804]
[805]
[806]
[807]
[808]
[809]
[810]
[811]
[812]
[813]
[814]
[815]
[816]
[817]
[818]
[819]
[820]
[821]
[822]
[823]
[824]
[825]
[826]
[827]
[828]
[829]
[830]
[831]
[832]
[833]
[834]
[835]
[836]
[837]
[838]
[839]
[840]
[841]
[842]
[843]
[844]
[845]
[846]
[847]
[848]
[849]
[850]
[851]
[852]
[853]
[854]
[855]
[856]
[857]
[858]
[859]
[860]
[861]
[862]
[863]
[864]
[865]
[866]
[867]
[868]
[869]
[870]
[871]
[872]
[873]
[874]
[875]
[876]
[877]
[878]
[879]
[880]
[881]
[882]
[883]
[884]
[885]
[886]
[887]
[888]
[889]
[890]
[891]
[892]
[893]
[894]
[895]
[896]
[897]
[898]
[899]
[900]
[901]
[902]
[903]
[904]
[905]
[906]
[907]
[908]
[909]
[910]
[911]
[912]
[913]
[914]
[915]
[916]
[917]
[918]
[919]
[920]
[921]
[922]
[923]
[924]
[925]
[926]
[927]
[928]
[929]
[930]
[931]
[932]
[933]
[934]
[935]
[936]
[937]
[938]
[939]
[940]
[941]
[942]
[943]
[944]
[945]
[946]
[947]
[948]
[949]
[950]
[951]
[952]
[953]
[954]
[955]
[956]
[957]
[958]
[959]
[960]
[961]
[962]
[963]
[964]
[965]
[966]
[967]
[968]
[969]
[970]
[971]
[972]
[973]
[974]
[975]
[976]
[977]
[978]
[979]
[980]
[981]
[982]
[983]
[984]
[985]
[986]
[987]
[988]
[989]
[990]
[991]
[992]
[993]
[994]
[995]
[996]
[997]
[998]
[999]
[1000]

{"sheet":"rekaman","index":3,"n_rows":3,"n_cols":7,"rows_kept":3,"cut":false,"hidden":false,"merged":[[0,0,0,6]]}
["DAFTAR PEMBAYARAN SPP"]
[]
["NIS","Nama Siswa","Tanggal bayar","Waktu bayar","Besar SPP","Bulan","Petugas"]

{"sheet":"petugas","index":4,"n_rows":6,"n_cols":2,"rows_kept":6,"cut":false,"hidden":false,"merged":[]}
["No","Nama Petugas"]
[1,"Isikan nama petugas disini"]
[2]
[3]
[4]
[5]

{"sheet":"dibayar","index":5,"n_rows":1004,"n_cols":407,"rows_kept":139,"cut":true,"hidden":false,"merged":[[2,357,2,368],[2,370,2,381],[2,292,2,303],[2,305,2,316],[2,318,2,329],[2,331,2,342],[2,344,2,355],[2,227,2,238],[2,240,2,251],[2,253,2,264],[2,266,2,277],[2,279,2,290],[2,162,2,173],[2,175,2,186],[2,188,2,199],[2,201,2,212],[2,214,2,225],[2,97,2,108],[2,110,2,121],[2,123,2,134],[2,136,2,147],[2,149,2,160],[2,20,3,20],[2,71,2,82],[2,84,2,95],[2,0,3,0],[2,4,2,15],[2,1,3,1],[2,18,3,18],[2,19,3,19],[2,16,3,16],[2,17,3,17],[2,3,3,3],[2,2,3,2]],"bounds":{"rows_first":62,"rows_last":15,"rows_between":62,"halvings":5}}
["DAFTAR SPP YANG TELAH DIBAYAR"]
[{"$f":"\"Tahun \" &profil!B8","v":"Tahun 2019/2020"},null,null,null,{"$f":"SUM(E5:E1004)","v":0},0,0,0,0,0,0,0,0,0,0,{"$f":"SUM(P5:P1004)","v":0},{"$f":"SUM(Q5:Q1004)","v":0},null,{"$f":"SUM(S5:S1004)","v":2640000},{"$f":"SUM(T5:T1004)","v":5280000},null,null,null,null,null,null,null,null,null,null,null,null,null,null,null,null,null,null,null,null,null,null,null,null,null,null,null,null,null,null,null,null,null,null,null,null,null,null,null,null,null,null,null,null,null,null,null,null,null,null,null,{"$f":"SUM(BT5:BT1004)","v":0},0,0,0,0,0,0,0,0,0,0,{"$f":"SUM(CE5:CE1004)","v":0},null,{"$f":"SUM(CG5:CG1004)","v":0},0,0,0,0,0,0,0,0,0,0,{"$f":"SUM(CR5:CR1004)","v":0},null,{"$f":"SUM(CT5:CT1004)","v":0},0,0,0,0,0,0,0,0,0,0,{"$f":"SUM(DE5:DE1004)","v":0},null,{"$f":"SUM(DG5:DG1004)","v":0},0,0,0,0,0,0,0,0,0,0,{"$f":"SUM(DR5:DR1004)","v":0},null,{"$f":"SUM(DT5:DT1004)","v":0},0,0,0,0,0,0,0,0,0,0,{"$f":"SUM(EE5:EE1004)","v":0},null,{"$f":"SUM(EG5:EG1004)","v":0},0,0,0,0,0,0,0,0,0,0,{"$f":"SUM(ER5:ER1004)","v":0},null,{"$f":"SUM(ET5:ET1004)","v":0},0,0,0,0,0,0,0,0,0,0,{"$f":"SUM(FE5:FE1004)","v":0},null,{"$f":"SUM(FG5:FG1004)","v":0},0,0,0,0,0,0,0,0,0,0,{"$f":"SUM(FR5:FR1004)","v":0},null,{"$f":"SUM(FT5:FT1004)","v":0},0,0,0,0,0,0,0,0,0,0,{"$f":"SUM(GE5:GE1004)","v":0},null,{"$f":"SUM(GG5:GG1004)","v":0},0,0,0,0,0,0,0,0,0,0,{"$f":"SUM(GR5:GR1004)","v":0},null,{"$f":"SUM(GT5:GT1004)","v":0},0,0,0,0,0,0,0,0,0,0,{"$f":"SUM(HE5:HE1004)","v":0},null,{"$f":"SUM(HG5:HG1004)","v":0},0,0,0,0,0,0,0,0,0,0,{"$f":"SUM(HR5:HR1004)","v":0},null,{"$f":"SUM(HT5:HT1004)","v":0},0,0,0,0,0,0,0,0,0,0,{"$f":"SUM(IE5:IE1004)","v":0},null,{"$f":"SUM(IG5:IG1004)","v":0},0,0,0,0,0,0,0,0,0,0,{"$f":"SUM(IR5:IR1004)","v":0},null,{"$f":"SUM(IT5:IT1004)","v":0},0,0,0,0,0,0,0,0,0,0,{"$f":"SUM(JE5:JE1004)","v":0},null,{"$f":"SUM(JG5:JG1004)","v":0},0,0,0,0,0,0,0,0,0,0,{"$f":"SUM(JR5:JR1004)","v":0},null,{"$f":"SUM(JT5:JT1004)","v":0},0,0,0,0,0,0,0,0,0,0,{"$f":"SUM(KE5:KE1004)","v":0},null,{"$f":"SUM(KG5:KG1004)","v":0},0,0,0,0,0,0,0,0,0,0,{"$f":"SUM(KR5:KR1004)","v":0},null,{"$f":"SUM(KT5:KT1004)","v":0},0,0,0,0,0,0,0,0,0,0,{"$f":"SUM(LE5:LE1004)","v":0},null,{"$f":"SUM(LG5:LG1004)","v":0},0,0,0,0,0,0,0,0,0,0,{"$f":"SUM(LR5:LR1004)","v":0},null,{"$f":"SUM(LT5:LT1004)","v":0},0,0,0,0,0,0,0,0,0,0,{"$f":"SUM(ME5:ME1004)","v":0},null,{"$f":"SUM(MG5:MG1004)","v":0},0,0,0,0,0,0,0,0,0,0,{"$f":"SUM(MR5:MR1004)","v":0},null,{"$f":"SUM(MT5:MT1004)","v":0},0,0,0,0,0,0,0,0,0,0,{"$f":"SUM(NE5:NE1004)","v":0},null,{"$f":"SUM(NG5:NG1004)","v":0},0,0,0,0,0,0,0,0,0,0,{"$f":"SUM(NR5:NR1004)","v":0}]
["No","NIS","Nama Siswa","Besar SPP","Pembayaran",null,null,null,null,null,null,null,null,null,null,null,"Jumlah","Sisa","Total satu semester","Total Satu tahun","Kelas",{"$f":"SUM(V5:V1004)","v":0},{"$f":"SUM(W5:W1004)","v":0},{"$f":"SUM(X5:X1004)","v":0},{"$f":"SUM(Y5:Y1004)","v":0},0,0,0,0,0,0,0,0,0,0,0,0,0,0,0,0,0,0,0,0,null,{"$f":"SUM(AU5:AU1004)","v":5280000},{"$f":"SUM(AV5:AV1004)","v":0},{"$f":"SUM(AW5:AW1004)","v":0},{"$f":"SUM(AX5:AX1004)","v":0},0,0,0,0,0,0,0,0,0,0,0,0,0,0,0,0,0,0,0,0,null,"Pembayaran",null,null,null,null,null,null,null,null,null,null,null,null,"Pembayaran",null,null,null,null,null,null,null,null,null,null,null,null,"Pembayaran",null,null,null,null,null,null,null,null,null,null,null,null,"Pembayaran",null,null,null,null,null,null,null,null,null,null,null,null,"Pembayaran",null,null,null,null,null,null,null,null,null,null,null,null,"Pembayaran",null,null,null,null,null,null,null,null,null,null,null,null,"Pembayaran",null,null,null,null,null,null,null,null,null,null,null,null,"Pembayaran",null,null,null,null,null,null,null,null,null,null,null,null,"Pembayaran",null,null,null,null,null,null,null,null,null,null,null,null,"Pembayaran",null,null,null,null,null,null,null,null,null,null,null,null,"Pembayaran",null,null,null,null,null,null,null,null,null,null,null,null,"Pembayaran",null,null,null,null,null,null,null,null,null,null,null,null,"Pembayaran",null,null,null,null,null,null,null,null,null,null,null,null,"Pembayaran",null,null,null,null,null,null,null,null,null,null,null,null,"Pembayaran",null,null,null,null,null,null,null,null,null,null,null,null,"Pembayaran",null,null,null,null,null,null,null,null,null,null,null,null,"Pembayaran",null,null,null,null,null,null,null,null,null,null,null,null,"Pembayaran",null,null,null,null,null,null,null,null,null,null,null,null,"Pembayaran",null,null,null,null,null,null,null,null,null,null,null,null,"Pembayaran",null,null,null,null,null,null,null,null,null,null,null,null,"Pembayaran",null,null,null,null,null,null,null,null,null,null,null,null,"Pembayaran",null,null,null,null,null,null,null,null,null,null,null,null,"Pembayaran",null,null,null,null,null,null,null,null,null,null,null,null,"Pembayaran",null,null,null,null,null,null,null,null,null,null,null,null,"1A","1B","1C","1D","2A","2B","2C","2D","3A","3B","3C","3D","4A","4B","4C","4D","5A","5B","5C","5D","6A","6B","6C","6D"]
[null,null,null,null,"Januari","Februari","Maret","April","Mei","Juni","Juli","Agustus","September","Oktober","November","Desember",null,null,null,null,null,"1A","1B","1C","1D","2A","2B","2C","2D","3A","3B","3C","3D","4A","4B","4C","4D","5A","5B","5C","5D","6A","6B","6C","6D",null,"1A","1B","1C","1D","2A","2B","2C","2D","3A","3B","3C","3D","4A","4B","4C","4D","5A","5B","5C","5D","6A","6B","6C","6D",null,"Januari","Februari","Maret","April","Mei","Juni","Juli","Agustus","September","Oktober","November","Desember",null,"Januari","Februari","Maret","April","Mei","Juni","Juli","Agustus","September","Oktober","November","Desember",null,"Januari","Februari","Maret","April","Mei","Juni","Juli","Agustus","September","Oktober","November","Desember",null,"Januari","Februari","Maret","April","Mei","Juni","Juli","Agustus","September","Oktober","November","Desember",null,"Januari","Februari","Maret","April","Mei","Juni","Juli","Agustus","September","Oktober","November","Desember",null,"Januari","Februari","Maret","April","Mei","Juni","Juli","Agustus","September","Oktober","November","Desember",null,"Januari","Februari","Maret","April","Mei","Juni","Juli","Agustus","September","Oktober","November","Desember",null,"Januari","Februari","Maret","April","Mei","Juni","Juli","Agustus","September","Oktober","November","Desember",null,"Januari","Februari","Maret","April","Mei","Juni","Juli","Agustus","September","Oktober","November","Desember",null,"Januari","Februari","Maret","April","Mei","Juni","Juli","Agustus","September","Oktober","November","Desember",null,"Januari","Februari","Maret","April","Mei","Juni","Juli","Agustus","September","Oktober","November","Desember",null,"Januari","Februari","Maret","April","Mei","Juni","Juli","Agustus","September","Oktober","November","Desember",null,"Januari","Februari","Maret","April","Mei","Juni","Juli","Agustus","September","Oktober","November","Desember",null,"Januari","Februari","Maret","April","Mei","Juni","Juli","Agustus","September","Oktober","November","Desember",null,"Januari","Februari","Maret","April","Mei","Juni","Juli","Agustus","September","Oktober","November","Desember",null,"Januari","Februari","Maret","April","Mei","Juni","Juli","Agustus","September","Oktober","November","Desember",null,"Januari","Februari","Maret","April","Mei","Juni","Juli","Agustus","September","Oktober","November","Desember",null,"Januari","Februari","Maret","April","Mei","Juni","Juli","Agustus","September","Oktober","November","Desember",null,"Januari","Februari","Maret","April","Mei","Juni","Juli","Agustus","September","Oktober","November","Desember",null,"Januari","Februari","Maret","April","Mei","Juni","Juli","Agustus","September","Oktober","November","Desember",null,"Januari","Februari","Maret","April","Mei","Juni","Juli","Agustus","September","Oktober","November","Desember",null,"Januari","Februari","Maret","April","Mei","Juni","Juli","Agustus","September","Oktober","November","Desember",null,"Januari","Februari","Maret","April","Mei","Juni","Juli","Agustus","September","Oktober","November","Desember",null,"Januari","Februari","Maret","April","Mei","Juni","Juli","Agustus","September","Oktober","November","Desember",null,{"$f":"SUM(NT5:NT1004)","v":440000},{"$f":"SUM(NU5:NU1004)","v":0},{"$f":"SUM(NV5:NV1004)","v":0},0,0,0,0,0,0,0,0,0,0,0,0,0,0,0,0,0,0,0,0,0]
[1,{"$f":"IFERROR(DataSiswa!B4,\"\")","v":4438},{"$f":"IFERROR(DataSiswa!C4,\"\")","v":"Afisya Nada Putri Finesha"},{"$f":"IFERROR(DataSiswa!E4,\"\")","v":220000},null,null,null,null,null,null,null,null,null,null,null,null,{"$f":"SUM(E5:P5)","v":0},{"$f":"D5*12-Q5","v":2640000},{"$f":"D5*6","v":1320000},{"$f":"D5*12","v":2640000},{"$f":"IFERROR(VLOOKUP(B5,DataSiswa!$B$4:$D$1003,3,FALSE),\"-\")","v":"1A"},{"$f":"IF(U5=\"1A\",Q5,\"-\")","v":0},{"$f":"IF(U5=\"1B\",Q5,\"-\")","v":"-"},{"$f":"IF(U5=\"1C\",Q5,\"-\")","v":"-"},{"$f":"IF(U5=\"1D\",Q5,\"-\")","v":"-"},{"$f":"IF(U5=\"2A\",Q5,\"-\")","v":"-"},{"$f":"IF(U5=\"2B\",Q5,\"-\")","v":"-"},{"$f":"IF(U5=\"2C\",Q5,\"-\")","v":"-"},{"$f":"IF(U5=\"2D\",Q5,\"-\")","v":"-"},{"$f":"IF(U5=\"3A\",Q5,\"-\")","v":"-"},{"$f":"IF(U5=\"3B\",Q5,\"-\")","v":"-"},{"$f":"IF(U5=\"3C\",Q5,\"-\")","v":"-"},{"$f":"IF(U5=\"3D\",Q5,\"-\")","v":"-"},{"$f":"IF(U5=\"4A\",Q5,\"-\")","v":"-"},{"$f":"IF(U5=\"4B\",Q5,\"-\")","v":"-"},{"$f":"IF(U5=\"4C\",Q5,\"-\")","v":"-"},{"$f":"IF(U5=\"4D\",Q5,\"-\")","v":"-"},{"$f":"IF(U5=\"5A\",Q5,\"-\")","v":"-"},{"$f":"IF(U5=\"5B\",Q5,\"-\")","v":"-"},{"$f":"IF(U5=\"5C\",Q5,\"-\")","v":"-"},{"$f":"IF(U5=\"5D\",Q5,\"-\")","v":"-"},{"$f":"IF(U5=\"6A\",Q5,\"-\")","v":"-"},{"$f":"IF(U5=\"6B\",Q5,\"-\")","v":"-"},{"$f":"IF(U5=\"6C\",Q5,\"-\")","v":"-"},{"$f":"IF(U5=\"6D\",Q5,\"-\")","v":"-"},null,{"$f":"IF(U5=\"1A\",D5*12,\"-\")","v":2640000},{"$f":"IF(U5=\"1B\",D5*12,\"-\")","v":"-"},{"$f":"IF(U5=\"1C\",D5*12,\"-\")","v":"-"},{"$f":"IF(U5=\"1D\",D5*12,\"-\")","v":"-"},{"$f":"IF(U5=\"2A\",D5*12,\"-\")","v":"-"},{"$f":"IF(U5=\"2B\",D5*12,\"-\")","v":"-"},{"$f":"IF(U5=\"2C\",D5*12,\"-\")","v":"-"},{"$f":"IF(U5=\"2D\",D5*12,\"-\")","v":"-"},{"$f":"IF(U5=\"3A\",D5*12,\"-\")","v":"-"},{"$f":"IF(U5=\"3B\",D5*12,\"-\")","v":"-"},{"$f":"IF(U5=\"3C\",D5*12,\"-\")","v":"-"},{"$f":"IF(U5=\"3D\",D5*12,\"-\")","v":"-"},{"$f":"IF(U5=\"4A\",D5*12,\"-\")","v":"-"},{"$f":"IF(U5=\"4B\",D5*12,\"-\")","v":"-"},{"$f":"IF(U5=\"4C\",D5*12,\"-\")","v":"-"},{"$f":"IF(U5=\"4D\",D5*12,\"-\")","v":"-"},{"$f":"IF(U5=\"5A\",D5*12,\"-\")","v":"-"},{"$f":"IF(U5=\"5B\",D5*12,\"-\")","v":"-"},{"$f":"IF(U5=\"5C\",D5*12,\"-\")","v":"-"},{"$f":"IF(U5=\"5D\",D5*12,\"-\")","v":"-"},{"$f":"IF(U5=\"6A\",D5*12,\"-\")","v":"-"},{"$f":"IF(U5=\"6B\",D5*12,\"-\")","v":"-"},{"$f":"IF(U5=\"6C\",D5*12,\"-\")","v":"-"},{"$f":"IF(U5=\"6D\",D5*12,\"-\")","v":"-"},null,{"$f":"IF(U5=\"1A\",E5,\"-\")","v":0},{"$f":"IF(U5=\"1A\",F5,\"-\")","v":0},{"$f":"IF(U5=\"1A\",G5,\"-\")","v":0},{"$f":"IF(U5=\"1A\",H5,\"-\")","v":0},{"$f":"IF(U5=\"1A\",I5,\"-\")","v":0},{"$f":"IF(U5=\"1A\",J5,\"-\")","v":0},{"$f":"IF(U5=\"1A\",K5,\"-\")","v":0},{"$f":"IF(U5=\"1A\",L5,\"-\")","v":0},{"$f":"IF(U5=\"1A\",M5,\"-\")","v":0},{"$f":"IF(U5=\"1A\",N5,\"-\")","v":0},{"$f":"IF(U5=\"1A\",O5,\"-\")","v":0},{"$f":"IF(U5=\"1A\",P5,\"-\")","v":0},null,{"$f":"IF(U5=\"1B\",E5,\"-\")","v":"-"},{"$f":"IF(U5=\"1B\",F5,\"-\")","v":"-"},{"$f":"IF(U5=\"1B\",G5,\"-\")","v":"-"},{"$f":"IF(U5=\"1B\",H5,\"-\")","v":"-"},{"$f":"IF(U5=\"1B\",I5,\"-\")","v":"-"},{"$f":"IF(U5=\"1B\",J5,\"-\")","v":"-"},{"$f":"IF(U5=\"1B\",K5,\"-\")","v":"-"},{"$f":"IF(U5=\"1B\",L5,\"-\")","v":"-"},{"$f":"IF(U5=\"1B\",M5,\"-\")","v":"-"},{"$f":"IF(U5=\"1B\",N5,\"-\")","v":"-"},{"$f":"IF(U5=\"1B\",O5,\"-\")","v":"-"},{"$f":"IF(U5=\"1B\",P5,\"-\")","v":"-"},null,{"$f":"IF(U5=\"1C\",E5,\"-\")","v":"-"},{"$f":"IF(U5=\"1C\",F5,\"-\")","v":"-"},{"$f":"IF(U5=\"1C\",G5,\"-\")","v":"-"},{"$f":"IF(U5=\"1C\",H5,\"-\")","v":"-"},{"$f":"IF(U5=\"1C\",I5,\"-\")","v":"-"},{"$f":"IF(U5=\"1C\",J5,\"-\")","v":"-"},{"$f":"IF(U5=\"1C\",K5,\"-\")","v":"-"},{"$f":"IF(U5=\"1C\",L5,\"-\")","v":"-"},{"$f":"IF(U5=\"1C\",M5,\"-\")","v":"-"},{"$f":"IF(U5=\"1C\",N5,\"-\")","v":"-"},{"$f":"IF(U5=\"1C\",O5,\"-\")","v":"-"},{"$f":"IF(U5=\"1C\",P5,\"-\")","v":"-"},null,{"$f":"IF(U5=\"1D\",E5,\"-\")","v":"-"},{"$f":"IF(U5=\"1D\",F5,\"-\")","v":"-"},{"$f":"IF(U5=\"1D\",G5,\"-\")","v":"-"},{"$f":"IF(U5=\"1D\",H5,\"-\")","v":"-"},{"$f":"IF(U5=\"1D\",I5,\"-\")","v":"-"},{"$f":"IF(U5=\"1D\",J5,\"-\")","v":"-"},{"$f":"IF(U5=\"1D\",K5,\"-\")","v":"-"},{"$f":"IF(U5=\"1D\",L5,\"-\")","v":"-"},{"$f":"IF(U5=\"1D\",M5,\"-\")","v":"-"},{"$f":"IF(U5=\"1D\",N5,\"-\")","v":"-"},{"$f":"IF(U5=\"1D\",O5,\"-\")","v":"-"},{"$f":"IF(U5=\"1D\",P5,\"-\")","v":"-"},null,{"$f":"IF(U5=\"2A\",E5,\"-\")","v":"-"},{"$f":"IF(U5=\"2A\",F5,\"-\")","v":"-"},{"$f":"IF(U5=\"2A\",G5,\"-\")","v":"-"},{"$f":"IF(U5=\"2A\",H5,\"-\")","v":"-"},{"$f":"IF(U5=\"2A\",I5,\"-\")","v":"-"},{"$f":"IF(U5=\"2A\",J5,\"-\")","v":"-"},{"$f":"IF(U5=\"2A\",K5,\"-\")","v":"-"},{"$f":"IF(U5=\"2A\",L5,\"-\")","v":"-"},{"$f":"IF(U5=\"2A\",M5,\"-\")","v":"-"},{"$f":"IF(U5=\"2A\",N5,\"-\")","v":"-"},{"$f":"IF(U5=\"2A\",O5,\"-\")","v":"-"},{"$f":"IF(U5=\"2A\",P5,\"-\")","v":"-"},null,{"$f":"IF(U5=\"2B\",E5,\"-\")","v":"-"},{"$f":"IF(U5=\"2B\",F5,\"-\")","v":"-"},{"$f":"IF(U5=\"2B\",G5,\"-\")","v":"-"},{"$f":"IF(U5=\"2B\",H5,\"-\")","v":"-"},{"$f":"IF(U5=\"2B\",I5,\"-\")","v":"-"},{"$f":"IF(U5=\"2B\",J5,\"-\")","v":"-"},{"$f":"IF(U5=\"2B\",K5,\"-\")","v":"-"},{"$f":"IF(U5=\"2B\",L5,\"-\")","v":"-"},{"$f":"IF(U5=\"2B\",M5,\"-\")","v":"-"},{"$f":"IF(U5=\"2B\",N5,\"-\")","v":"-"},{"$f":"IF(U5=\"2B\",O5,\"-\")","v":"-"},{"$f":"IF(U5=\"2B\",P5,\"-\")","v":"-"},null,{"$f":"IF(U5=\"2C\",E5,\"-\")","v":"-"},{"$f":"IF(U5=\"2C\",F5,\"-\")","v":"-"},{"$f":"IF(U5=\"2C\",G5,\"-\")","v":"-"},{"$f":"IF(U5=\"2C\",H5,\"-\")","v":"-"},{"$f":"IF(U5=\"2C\",I5,\"-\")","v":"-"},{"$f":"IF(U5=\"2C\",J5,\"-\")","v":"-"},{"$f":"IF(U5=\"2C\",K5,\"-\")","v":"-"},{"$f":"IF(U5=\"2C\",L5,\"-\")","v":"-"},{"$f":"IF(U5=\"2C\",M5,\"-\")","v":"-"},{"$f":"IF(U5=\"2C\",N5,\"-\")","v":"-"},{"$f":"IF(U5=\"2C\",O5,\"-\")","v":"-"},{"$f":"IF(U5=\"2C\",P5,\"-\")","v":"-"},null,{"$f":"IF(U5=\"2D\",E5,\"-\")","v":"-"},{"$f":"IF(U5=\"2D\",F5,\"-\")","v":"-"},{"$f":"IF(U5=\"2D\",G5,\"-\")","v":"-"},{"$f":"IF(U5=\"2D\",H5,\"-\")","v":"-"},{"$f":"IF(U5=\"2D\",I5,\"-\")","v":"-"},{"$f":"IF(U5=\"2D\",J5,\"-\")","v":"-"},{"$f":"IF(U5=\"2D\",K5,\"-\")","v":"-"},{"$f":"IF(U5=\"2D\",L5,\"-\")","v":"-"},{"$f":"IF(U5=\"2D\",M5,\"-\")","v":"-"},{"$f":"IF(U5=\"2D\",N5,\"-\")","v":"-"},{"$f":"IF(U5=\"2D\",O5,\"-\")","v":"-"},{"$f":"IF(U5=\"2D\",P5,\"-\")","v":"-"},null,{"$f":"IF(U5=\"3A\",E5,\"-\")","v":"-"},{"$f":"IF(U5=\"3A\",F5,\"-\")","v":"-"},{"$f":"IF(U5=\"3A\",G5,\"-\")","v":"-"},{"$f":"IF(U5=\"3A\",H5,\"-\")","v":"-"},{"$f":"IF(U5=\"3A\",I5,\"-\")","v":"-"},{"$f":"IF(U5=\"3A\",J5,\"-\")","v":"-"},{"$f":"IF(U5=\"3A\",K5,\"-\")","v":"-"},{"$f":"IF(U5=\"3A\",L5,\"-\")","v":"-"},{"$f":"IF(U5=\"3A\",M5,\"-\")","v":"-"},{"$f":"IF(U5=\"3A\",N5,\"-\")","v":"-"},{"$f":"IF(U5=\"3A\",O5,\"-\")","v":"-"},{"$f":"IF(U5=\"3A\",P5,\"-\")","v":"-"},null,{"$f":"IF(U5=\"3B\",E5,\"-\")","v":"-"},{"$f":"IF(U5=\"3B\",F5,\"-\")","v":"-"},{"$f":"IF(U5=\"3B\",G5,\"-\")","v":"-"},{"$f":"IF(U5=\"3B\",H5,\"-\")","v":"-"},{"$f":"IF(U5=\"3B\",I5,\"-\")","v":"-"},{"$f":"IF(U5=\"3B\",J5,\"-\")","v":"-"},{"$f":"IF(U5=\"3B\",K5,\"-\")","v":"-"},{"$f":"IF(U5=\"3B\",L5,\"-\")","v":"-"},{"$f":"IF(U5=\"3B\",M5,\"-\")","v":"-"},{"$f":"IF(U5=\"3B\",N5,\"-\")","v":"-"},{"$f":"IF(U5=\"3B\",O5,\"-\")","v":"-"},{"$f":"IF(U5=\"3B\",P5,\"-\")","v":"-"},null,{"$f":"IF(U5=\"3C\",E5,\"-\")","v":"-"},{"$f":"IF(U5=\"3C\",F5,\"-\")","v":"-"},{"$f":"IF(U5=\"3C\",G5,\"-\")","v":"-"},{"$f":"IF(U5=\"3C\",H5,\"-\")","v":"-"},{"$f":"IF(U5=\"3C\",I5,\"-\")","v":"-"},{"$f":"IF(U5=\"3C\",J5,\"-\")","v":"-"},{"$f":"IF(U5=\"3C\",K5,\"-\")","v":"-"},{"$f":"IF(U5=\"3C\",L5,\"-\")","v":"-"},{"$f":"IF(U5=\"3C\",M5,\"-\")","v":"-"},{"$f":"IF(U5=\"3C\",N5,\"-\")","v":"-"},{"$f":"IF(U5=\"3C\",O5,\"-\")","v":"-"},{"$f":"IF(U5=\"3C\",P5,\"-\")","v":"-"},null,{"$f":"IF(U5=\"3D\",E5,\"-\")","v":"-"},{"$f":"IF(U5=\"3D\",F5,\"-\")","v":"-"},{"$f":"IF(U5=\"3D\",G5,\"-\")","v":"-"},{"$f":"IF(U5=\"3D\",H5,\"-\")","v":"-"},{"$f":"IF(U5=\"3D\",I5,\"-\")","v":"-"},{"$f":"IF(U5=\"3D\",J5,\"-\")","v":"-"},{"$f":"IF(U5=\"3D\",K5,\"-\")","v":"-"},{"$f":"IF(U5=\"3D\",L5,\"-\")","v":"-"},{"$f":"IF(U5=\"3D\",M5,\"-\")","v":"-"},{"$f":"IF(U5=\"3D\",N5,\"-\")","v":"-"},{"$f":"IF(U5=\"3D\",O5,\"-\")","v":"-"},{"$f":"IF(U5=\"3D\",P5,\"-\")","v":"-"},null,{"$f":"IF(U5=\"4A\",E5,\"-\")","v":"-"},{"$f":"IF(U5=\"4A\",F5,\"-\")","v":"-"},{"$f":"IF(U5=\"4A\",G5,\"-\")","v":"-"},{"$f":"IF(U5=\"4A\",H5,\"-\")","v":"-"},{"$f":"IF(U5=\"4A\",I5,\"-\")","v":"-"},{"$f":"IF(U5=\"4A\",J5,\"-\")","v":"-"},{"$f":"IF(U5=\"4A\",K5,\"-\")","v":"-"},{"$f":"IF(U5=\"4A\",L5,\"-\")","v":"-"},{"$f":"IF(U5=\"4A\",M5,\"-\")","v":"-"},{"$f":"IF(U5=\"4A\",N5,\"-\")","v":"-"},{"$f":"IF(U5=\"4A\",O5,\"-\")","v":"-"},{"$f":"IF(U5=\"4A\",P5,\"-\")","v":"-"},null,{"$f":"IF(U5=\"4B\",E5,\"-\")","v":"-"},{"$f":"IF(U5=\"4B\",F5,\"-\")","v":"-"},{"$f":"IF(U5=\"4B\",G5,\"-\")","v":"-"},{"$f":"IF(U5=\"4B\",H5,\"-\")","v":"-"},{"$f":"IF(U5=\"4B\",I5,\"-\")","v":"-"},{"$f":"IF(U5=\"4B\",J5,\"-\")","v":"-"},{"$f":"IF(U5=\"4B\",K5,\"-\")","v":"-"},{"$f":"IF(U5=\"4B\",L5,\"-\")","v":"-"},{"$f":"IF(U5=\"4B\",M5,\"-\")","v":"-"},{"$f":"IF(U5=\"4B\",N5,\"-\")","v":"-"},{"$f":"IF(U5=\"4B\",O5,\"-\")","v":"-"},{"$f":"IF(U5=\"4B\",P5,\"-\")","v":"-"},null,{"$f":"IF(U5=\"4C\",E5,\"-\")","v":"-"},{"$f":"IF(U5=\"4C\",F5,\"-\")","v":"-"},{"$f":"IF(U5=\"4C\",G5,\"-\")","v":"-"},{"$f":"IF(U5=\"4C\",H5,\"-\")","v":"-"},{"$f":"IF(U5=\"4C\",I5,\"-\")","v":"-"},{"$f":"IF(U5=\"4C\",J5,\"-\")","v":"-"},{"$f":"IF(U5=\"4C\",K5,\"-\")","v":"-"},{"$f":"IF(U5=\"4C\",L5,\"-\")","v":"-"},{"$f":"IF(U5=\"4C\",M5,\"-\")","v":"-"},{"$f":"IF(U5=\"4C\",N5,\"-\")","v":"-"},{"$f":"IF(U5=\"4C\",O5,\"-\")","v":"-"},{"$f":"IF(U5=\"4C\",P5,\"-\")","v":"-"},null,{"$f":"IF(U5=\"4D\",E5,\"-\")","v":"-"},{"$f":"IF(U5=\"4D\",F5,\"-\")","v":"-"},{"$f":"IF(U5=\"4D\",G5,\"-\")","v":"-"},{"$f":"IF(U5=\"4D\",H5,\"-\")","v":"-"},{"$f":"IF(U5=\"4D\",I5,\"-\")","v":"-"},{"$f":"IF(U5=\"4D\",J5,\"-\")","v":"-"},{"$f":"IF(U5=\"4D\",K5,\"-\")","v":"-"},{"$f":"IF(U5=\"4D\",L5,\"-\")","v":"-"},{"$f":"IF(U5=\"4D\",M5,\"-\")","v":"-"},{"$f":"IF(U5=\"4D\",N5,\"-\")","v":"-"},{"$f":"IF(U5=\"4D\",O5,\"-\")","v":"-"},{"$f":"IF(U5=\"4D\",P5,\"-\")","v":"-"},null,{"$f":"IF(U5=\"5A\",E5,\"-\")","v":"-"},{"$f":"IF(U5=\"5A\",F5,\"-\")","v":"-"},{"$f":"IF(U5=\"5A\",G5,\"-\")","v":"-"},{"$f":"IF(U5=\"5A\",H5,\"-\")","v":"-"},{"$f":"IF(U5=\"5A\",I5,\"-\")","v":"-"},{"$f":"IF(U5=\"5A\",J5,\"-\")","v":"-"},{"$f":"IF(U5=\"5A\",K5,\"-\")","v":"-"},{"$f":"IF(U5=\"5A\",L5,\"-\")","v":"-"},{"$f":"IF(U5=\"5A\",M5,\"-\")","v":"-"},{"$f":"IF(U5=\"5A\",N5,\"-\")","v":"-"},{"$f":"IF(U5=\"5A\",O5,\"-\")","v":"-"},{"$f":"IF(U5=\"5A\",P5,\"-\")","v":"-"},null,{"$f":"IF(U5=\"5B\",E5,\"-\")","v":"-"},{"$f":"IF(U5=\"5B\",F5,\"-\")","v":"-"},{"$f":"IF(U5=\"5B\",G5,\"-\")","v":"-"},{"$f":"IF(U5=\"5B\",H5,\"-\")","v":"-"},{"$f":"IF(U5=\"5B\",I5,\"-\")","v":"-"},{"$f":"IF(U5=\"5B\",J5,\"-\")","v":"-"},{"$f":"IF(U5=\"5B\",K5,\"-\")","v":"-"},{"$f":"IF(U5=\"5B\",L5,\"-\")","v":"-"},{"$f":"IF(U5=\"5B\",M5,\"-\")","v":"-"},{"$f":"IF(U5=\"5B\",N5,\"-\")","v":"-"},{"$f":"IF(U5=\"5B\",O5,\"-\")","v":"-"},{"$f":"IF(U5=\"5B\",P5,\"-\")","v":"-"},null,{"$f":"IF(U5=\"5C\",E5,\"-\")","v":"-"},{"$f":"IF(U5=\"5C\",F5,\"-\")","v":"-"},{"$f":"IF(U5=\"5C\",G5,\"-\")","v":"-"},{"$f":"IF(U5=\"5C\",H5,\"-\")","v":"-"},{"$f":"IF(U5=\"5C\",I5,\"-\")","v":"-"},{"$f":"IF(U5=\"5C\",J5,\"-\")","v":"-"},{"$f":"IF(U5=\"5C\",K5,\"-\")","v":"-"},{"$f":"IF(U5=\"5C\",L5,\"-\")","v":"-"},{"$f":"IF(U5=\"5C\",M5,\"-\")","v":"-"},{"$f":"IF(U5=\"5C\",N5,\"-\")","v":"-"},{"$f":"IF(U5=\"5C\",O5,\"-\")","v":"-"},{"$f":"IF(U5=\"5C\",P5,\"-\")","v":"-"},null,{"$f":"IF(U5=\"5D\",E5,\"-\")","v":"-"},{"$f":"IF(U5=\"5D\",F5,\"-\")","v":"-"},{"$f":"IF(U5=\"5D\",G5,\"-\")","v":"-"},{"$f":"IF(U5=\"5D\",H5,\"-\")","v":"-"},{"$f":"IF(U5=\"5D\",I5,\"-\")","v":"-"},{"$f":"IF(U5=\"5D\",J5,\"-\")","v":"-"},{"$f":"IF(U5=\"5D\",K5,\"-\")","v":"-"},{"$f":"IF(U5=\"5D\",L5,\"-\")","v":"-"},{"$f":"IF(U5=\"5D\",M5,\"-\")","v":"-"},{"$f":"IF(U5=\"5D\",N5,\"-\")","v":"-"},{"$f":"IF(U5=\"5D\",O5,\"-\")","v":"-"},{"$f":"IF(U5=\"5D\",P5,\"-\")","v":"-"},null,{"$f":"IF(U5=\"6A\",E5,\"-\")","v":"-"},{"$f":"IF(U5=\"6A\",F5,\"-\")","v":"-"},{"$f":"IF(U5=\"6A\",G5,\"-\")","v":"-"},{"$f":"IF(U5=\"6A\",H5,\"-\")","v":"-"},{"$f":"IF(U5=\"6A\",I5,\"-\")","v":"-"},{"$f":"IF(U5=\"6A\",J5,\"-\")","v":"-"},{"$f":"IF(U5=\"6A\",K5,\"-\")","v":"-"},{"$f":"IF(U5=\"6A\",L5,\"-\")","v":"-"},{"$f":"IF(U5=\"6A\",M5,\"-\")","v":"-"},{"$f":"IF(U5=\"6A\",N5,\"-\")","v":"-"},{"$f":"IF(U5=\"6A\",O5,\"-\")","v":"-"},{"$f":"IF(U5=\"6A\",P5,\"-\")","v":"-"},null,{"$f":"IF(U5=\"6B\",E5,\"-\")","v":"-"},{"$f":"IF(U5=\"6B\",F5,\"-\")","v":"-"},{"$f":"IF(U5=\"6B\",G5,\"-\")","v":"-"},{"$f":"IF(U5=\"6B\",H5,\"-\")","v":"-"},{"$f":"IF(U5=\"6B\",I5,\"-\")","v":"-"},{"$f":"IF(U5=\"6B\",J5,\"-\")","v":"-"},{"$f":"IF(U5=\"6B\",K5,\"-\")","v":"-"},{"$f":"IF(U5=\"6B\",L5,\"-\")","v":"-"},{"$f":"IF(U5=\"6B\",M5,\"-\")","v":"-"},{"$f":"IF(U5=\"6B\",N5,\"-\")","v":"-"},{"$f":"IF(U5=\"6B\",O5,\"-\")","v":"-"},{"$f":"IF(U5=\"6B\",P5,\"-\")","v":"-"},null,{"$f":"IF(U5=\"6C\",E5,\"-\")","v":"-"},{"$f":"IF(U5=\"6C\",F5,\"-\")","v":"-"},{"$f":"IF(U5=\"6C\",G5,\"-\")","v":"-"},{"$f":"IF(U5=\"6C\",H5,\"-\")","v":"-"},{"$f":"IF(U5=\"6C\",I5,\"-\")","v":"-"},{"$f":"IF(U5=\"6C\",J5,\"-\")","v":"-"},{"$f":"IF(U5=\"6C\",K5,\"-\")","v":"-"},{"$f":"IF(U5=\"6C\",L5,\"-\")","v":"-"},{"$f":"IF(U5=\"6C\",M5,\"-\")","v":"-"},{"$f":"IF(U5=\"6C\",N5,\"-\")","v":"-"},{"$f":"IF(U5=\"6C\",O5,\"-\")","v":"-"},{"$f":"IF(U5=\"6C\",P5,\"-\")","v":"-"},null,{"$f":"IF(U5=\"6D\",E5,\"-\")","v":"-"},{"$f":"IF(U5=\"6D\",F5,\"-\")","v":"-"},{"$f":"IF(U5=\"6D\",G5,\"-\")","v":"-"},{"$f":"IF(U5=\"6D\",H5,\"-\")","v":"-"},{"$f":"IF(U5=\"6D\",I5,\"-\")","v":"-"},{"$f":"IF(U5=\"6D\",J5,\"-\")","v":"-"},{"$f":"IF(U5=\"6D\",K5,\"-\")","v":"-"},{"$f":"IF(U5=\"6D\",L5,\"-\")","v":"-"},{"$f":"IF(U5=\"6D\",M5,\"-\")","v":"-"},{"$f":"IF(U5=\"6D\",N5,\"-\")","v":"-"},{"$f":"IF(U5=\"6D\",O5,\"-\")","v":"-"},{"$f":"IF(U5=\"6D\",P5,\"-\")","v":"-"},null,{"$f":"IF(U5=\"1A\",D5,\"-\")","v":220000},{"$f":"IF(U5=\"1B\",D5,\"-\")","v":"-"},{"$f":"IF(U5=\"1C\",D5,\"-\")","v":"-"},{"$f":"IF(U5=\"1D\",D5,\"-\")","v":"-"},{"$f":"IF(U5=\"2A\",D5,\"-\")","v":"-"},{"$f":"IF(U5=\"2B\",D5,\"-\")","v":"-"},{"$f":"IF(U5=\"2C\",D5,\"-\")","v":"-"},{"$f":"IF(U5=\"2D\",D5,\"-\")","v":"-"},{"$f":"IF(U5=\"3A\",D5,\"-\")","v":"-"},{"$f":"IF(U5=\"3B\",D5,\"-\")","v":"-"},{"$f":"IF(U5=\"3C\",D5,\"-\")","v":"-"},{"$f":"IF(U5=\"3D\",D5,\"-\")","v":"-"},{"$f":"IF(U5=\"4A\",D5,\"-\")","v":"-"},{"$f":"IF(U5=\"4B\",D5,\"-\")","v":"-"},{"$f":"IF(U5=\"4C\",D5,\"-\")","v":"-"},{"$f":"IF(U5=\"4D\",D5,\"-\")","v":"-"},{"$f":"IF(U5=\"5A\",D5,\"-\")","v":"-"},{"$f":"IF(U5=\"5B\",D5,\"-\")","v":"-"},{"$f":"IF(U5=\"5C\",D5,\"-\")","v":"-"},{"$f":"IF(U5=\"5D\",D5,\"-\")","v":"-"},{"$f":"IF(U5=\"6A\",D5,\"-\")","v":"-"},{"$f":"IF(U5=\"6B\",D5,\"-\")","v":"-"},{"$f":"IF(U5=\"6C\",D5,\"-\")","v":"-"},{"$f":"IF(U5=\"6D\",D5,\"-\")","v":"-"}]
[2,{"$f":"IFERROR(DataSiswa!B5,\"\")","v":4439},{"$f":"IFERROR(DataSiswa!C5,\"\")","v":"Aisya Kinarian Azkiya"},{"$f":"IFERROR(DataSiswa!E5,\"\")","v":220000},null,null,null,null,null,null,null,null,null,null,null,null,{"$f":"SUM(E6:P6)","v":0},{"$f":"D6*12-Q6","v":2640000},{"$f":"D6*6","v":1320000},{"$f":"D6*12","v":2640000},{"$f":"IFERROR(VLOOKUP(B6,DataSiswa!$B$4:$D$1003,3,FALSE),\"-\")","v":"1A"},{"$f":"IF(U6=\"1A\",Q6,\"-\")","v":0},{"$f":"IF(U6=\"1B\",Q6,\"-\")","v":"-"},{"$f":"IF(U6=\"1C\",Q6,\"-\")","v":"-"},{"$f":"IF(U6=\"1D\",Q6,\"-\")","v":"-"},{"$f":"IF(U6=\"2A\",Q6,\"-\")","v":"-"},{"$f":"IF(U6=\"2B\",Q6,\"-\")","v":"-"},{"$f":"IF(U6=\"2C\",Q6,\"-\")","v":"-"},{"$f":"IF(U6=\"2D\",Q6,\"-\")","v":"-"},{"$f":"IF(U6=\"3A\",Q6,\"-\")","v":"-"},{"$f":"IF(U6=\"3B\",Q6,\"-\")","v":"-"},{"$f":"IF(U6=\"3C\",Q6,\"-\")","v":"-"},{"$f":"IF(U6=\"3D\",Q6,\"-\")","v":"-"},{"$f":"IF(U6=\"4A\",Q6,\"-\")","v":"-"},{"$f":"IF(U6=\"4B\",Q6,\"-\")","v":"-"},{"$f":"IF(U6=\"4C\",Q6,\"-\")","v":"-"},{"$f":"IF(U6=\"4D\",Q6,\"-\")","v":"-"},{"$f":"IF(U6=\"5A\",Q6,\"-\")","v":"-"},{"$f":"IF(U6=\"5B\",Q6,\"-\")","v":"-"},{"$f":"IF(U6=\"5C\",Q6,\"-\")","v":"-"},{"$f":"IF(U6=\"5D\",Q6,\"-\")","v":"-"},{"$f":"IF(U6=\"6A\",Q6,\"-\")","v":"-"},{"$f":"IF(U6=\"6B\",Q6,\"-\")","v":"-"},{"$f":"IF(U6=\"6C\",Q6,\"-\")","v":"-"},{"$f":"IF(U6=\"6D\",Q6,\"-\")","v":"-"},null,{"$f":"IF(U6=\"1A\",D6*12,\"-\")","v":2640000},{"$f":"IF(U6=\"1B\",D6*12,\"-\")","v":"-"},{"$f":"IF(U6=\"1C\",D6*12,\"-\")","v":"-"},{"$f":"IF(U6=\"1D\",D6*12,\"-\")","v":"-"},{"$f":"IF(U6=\"2A\",D6*12,\"-\")","v":"-"},{"$f":"IF(U6=\"2B\",D6*12,\"-\")","v":"-"},{"$f":"IF(U6=\"2C\",D6*12,\"-\")","v":"-"},{"$f":"IF(U6=\"2D\",D6*12,\"-\")","v":"-"},{"$f":"IF(U6=\"3A\",D6*12,\"-\")","v":"-"},{"$f":"IF(U6=\"3B\",D6*12,\"-\")","v":"-"},{"$f":"IF(U6=\"3C\",D6*12,\"-\")","v":"-"},{"$f":"IF(U6=\"3D\",D6*12,\"-\")","v":"-"},{"$f":"IF(U6=\"4A\",D6*12,\"-\")","v":"-"},{"$f":"IF(U6=\"4B\",D6*12,\"-\")","v":"-"},{"$f":"IF(U6=\"4C\",D6*12,\"-\")","v":"-"},{"$f":"IF(U6=\"4D\",D6*12,\"-\")","v":"-"},{"$f":"IF(U6=\"5A\",D6*12,\"-\")","v":"-"},{"$f":"IF(U6=\"5B\",D6*12,\"-\")","v":"-"},{"$f":"IF(U6=\"5C\",D6*12,\"-\")","v":"-"},{"$f":"IF(U6=\"5D\",D6*12,\"-\")","v":"-"},{"$f":"IF(U6=\"6A\",D6*12,\"-\")","v":"-"},{"$f":"IF(U6=\"6B\",D6*12,\"-\")","v":"-"},{"$f":"IF(U6=\"6C\",D6*12,\"-\")","v":"-"},{"$f":"IF(U6=\"6D\",D6*12,\"-\")","v":"-"},null,{"$f":"IF(U6=\"1A\",E6,\"-\")","v":0},{"$f":"IF(U6=\"1A\",F6,\"-\")","v":0},{"$f":"IF(U6=\"1A\",G6,\"-\")","v":0},{"$f":"IF(U6=\"1A\",H6,\"-\")","v":0},{"$f":"IF(U6=\"1A\",I6,\"-\")","v":0},{"$f":"IF(U6=\"1A\",J6,\"-\")","v":0},{"$f":"IF(U6=\"1A\",K6,\"-\")","v":0},{"$f":"IF(U6=\"1A\",L6,\"-\")","v":0},{"$f":"IF(U6=\"1A\",M6,\"-\")","v":0},{"$f":"IF(U6=\"1A\",N6,\"-\")","v":0},{"$f":"IF(U6=\"1A\",O6,\"-\")","v":0},{"$f":"IF(U6=\"1A\",P6,\"-\")","v":0},null,{"$f":"IF(U6=\"1B\",E6,\"-\")","v":"-"},{"$f":"IF(U6=\"1B\",F6,\"-\")","v":"-"},{"$f":"IF(U6=\"1B\",G6,\"-\")","v":"-"},{"$f":"IF(U6=\"1B\",H6,\"-\")","v":"-"},{"$f":"IF(U6=\"1B\",I6,\"-\")","v":"-"},{"$f":"IF(U6=\"1B\",J6,\"-\")","v":"-"},{"$f":"IF(U6=\"1B\",K6,\"-\")","v":"-"},{"$f":"IF(U6=\"1B\",L6,\"-\")","v":"-"},{"$f":"IF(U6=\"1B\",M6,\"-\")","v":"-"},{"$f":"IF(U6=\"1B\",N6,\"-\")","v":"-"},{"$f":"IF(U6=\"1B\",O6,\"-\")","v":"-"},{"$f":"IF(U6=\"1B\",P6,\"-\")","v":"-"},null,{"$f":"IF(U6=\"1C\",E6,\"-\")","v":"-"},{"$f":"IF(U6=\"1C\",F6,\"-\")","v":"-"},{"$f":"IF(U6=\"1C\",G6,\"-\")","v":"-"},{"$f":"IF(U6=\"1C\",H6,\"-\")","v":"-"},{"$f":"IF(U6=\"1C\",I6,\"-\")","v":"-"},{"$f":"IF(U6=\"1C\",J6,\"-\")","v":"-"},{"$f":"IF(U6=\"1C\",K6,\"-\")","v":"-"},{"$f":"IF(U6=\"1C\",L6,\"-\")","v":"-"},{"$f":"IF(U6=\"1C\",M6,\"-\")","v":"-"},{"$f":"IF(U6=\"1C\",N6,\"-\")","v":"-"},{"$f":"IF(U6=\"1C\",O6,\"-\")","v":"-"},{"$f":"IF(U6=\"1C\",P6,\"-\")","v":"-"},null,{"$f":"IF(U6=\"1D\",E6,\"-\")","v":"-"},{"$f":"IF(U6=\"1D\",F6,\"-\")","v":"-"},{"$f":"IF(U6=\"1D\",G6,\"-\")","v":"-"},{"$f":"IF(U6=\"1D\",H6,\"-\")","v":"-"},{"$f":"IF(U6=\"1D\",I6,\"-\")","v":"-"},{"$f":"IF(U6=\"1D\",J6,\"-\")","v":"-"},{"$f":"IF(U6=\"1D\",K6,\"-\")","v":"-"},{"$f":"IF(U6=\"1D\",L6,\"-\")","v":"-"},{"$f":"IF(U6=\"1D\",M6,\"-\")","v":"-"},{"$f":"IF(U6=\"1D\",N6,\"-\")","v":"-"},{"$f":"IF(U6=\"1D\",O6,\"-\")","v":"-"},{"$f":"IF(U6=\"1D\",P6,\"-\")","v":"-"},null,{"$f":"IF(U6=\"2A\",E6,\"-\")","v":"-"},{"$f":"IF(U6=\"2A\",F6,\"-\")","v":"-"},{"$f":"IF(U6=\"2A\",G6,\"-\")","v":"-"},{"$f":"IF(U6=\"2A\",H6,\"-\")","v":"-"},{"$f":"IF(U6=\"2A\",I6,\"-\")","v":"-"},{"$f":"IF(U6=\"2A\",J6,\"-\")","v":"-"},{"$f":"IF(U6=\"2A\",K6,\"-\")","v":"-"},{"$f":"IF(U6=\"2A\",L6,\"-\")","v":"-"},{"$f":"IF(U6=\"2A\",M6,\"-\")","v":"-"},{"$f":"IF(U6=\"2A\",N6,\"-\")","v":"-"},{"$f":"IF(U6=\"2A\",O6,\"-\")","v":"-"},{"$f":"IF(U6=\"2A\",P6,\"-\")","v":"-"},null,{"$f":"IF(U6=\"2B\",E6,\"-\")","v":"-"},{"$f":"IF(U6=\"2B\",F6,\"-\")","v":"-"},{"$f":"IF(U6=\"2B\",G6,\"-\")","v":"-"},{"$f":"IF(U6=\"2B\",H6,\"-\")","v":"-"},{"$f":"IF(U6=\"2B\",I6,\"-\")","v":"-"},{"$f":"IF(U6=\"2B\",J6,\"-\")","v":"-"},{"$f":"IF(U6=\"2B\",K6,\"-\")","v":"-"},{"$f":"IF(U6=\"2B\",L6,\"-\")","v":"-"},{"$f":"IF(U6=\"2B\",M6,\"-\")","v":"-"},{"$f":"IF(U6=\"2B\",N6,\"-\")","v":"-"},{"$f":"IF(U6=\"2B\",O6,\"-\")","v":"-"},{"$f":"IF(U6=\"2B\",P6,\"-\")","v":"-"},null,{"$f":"IF(U6=\"2C\",E6,\"-\")","v":"-"},{"$f":"IF(U6=\"2C\",F6,\"-\")","v":"-"},{"$f":"IF(U6=\"2C\",G6,\"-\")","v":"-"},{"$f":"IF(U6=\"2C\",H6,\"-\")","v":"-"},{"$f":"IF(U6=\"2C\",I6,\"-\")","v":"-"},{"$f":"IF(U6=\"2C\",J6,\"-\")","v":"-"},{"$f":"IF(U6=\"2C\",K6,\"-\")","v":"-"},{"$f":"IF(U6=\"2C\",L6,\"-\")","v":"-"},{"$f":"IF(U6=\"2C\",M6,\"-\")","v":"-"},{"$f":"IF(U6=\"2C\",N6,\"-\")","v":"-"},{"$f":"IF(U6=\"2C\",O6,\"-\")","v":"-"},{"$f":"IF(U6=\"2C\",P6,\"-\")","v":"-"},null,{"$f":"IF(U6=\"2D\",E6,\"-\")","v":"-"},{"$f":"IF(U6=\"2D\",F6,\"-\")","v":"-"},{"$f":"IF(U6=\"2D\",G6,\"-\")","v":"-"},{"$f":"IF(U6=\"2D\",H6,\"-\")","v":"-"},{"$f":"IF(U6=\"2D\",I6,\"-\")","v":"-"},{"$f":"IF(U6=\"2D\",J6,\"-\")","v":"-"},{"$f":"IF(U6=\"2D\",K6,\"-\")","v":"-"},{"$f":"IF(U6=\"2D\",L6,\"-\")","v":"-"},{"$f":"IF(U6=\"2D\",M6,\"-\")","v":"-"},{"$f":"IF(U6=\"2D\",N6,\"-\")","v":"-"},{"$f":"IF(U6=\"2D\",O6,\"-\")","v":"-"},{"$f":"IF(U6=\"2D\",P6,\"-\")","v":"-"},null,{"$f":"IF(U6=\"3A\",E6,\"-\")","v":"-"},{"$f":"IF(U6=\"3A\",F6,\"-\")","v":"-"},{"$f":"IF(U6=\"3A\",G6,\"-\")","v":"-"},{"$f":"IF(U6=\"3A\",H6,\"-\")","v":"-"},{"$f":"IF(U6=\"3A\",I6,\"-\")","v":"-"},{"$f":"IF(U6=\"3A\",J6,\"-\")","v":"-"},{"$f":"IF(U6=\"3A\",K6,\"-\")","v":"-"},{"$f":"IF(U6=\"3A\",L6,\"-\")","v":"-"},{"$f":"IF(U6=\"3A\",M6,\"-\")","v":"-"},{"$f":"IF(U6=\"3A\",N6,\"-\")","v":"-"},{"$f":"IF(U6=\"3A\",O6,\"-\")","v":"-"},{"$f":"IF(U6=\"3A\",P6,\"-\")","v":"-"},null,{"$f":"IF(U6=\"3B\",E6,\"-\")","v":"-"},{"$f":"IF(U6=\"3B\",F6,\"-\")","v":"-"},{"$f":"IF(U6=\"3B\",G6,\"-\")","v":"-"},{"$f":"IF(U6=\"3B\",H6,\"-\")","v":"-"},{"$f":"IF(U6=\"3B\",I6,\"-\")","v":"-"},{"$f":"IF(U6=\"3B\",J6,\"-\")","v":"-"},{"$f":"IF(U6=\"3B\",K6,\"-\")","v":"-"},{"$f":"IF(U6=\"3B\",L6,\"-\")","v":"-"},{"$f":"IF(U6=\"3B\",M6,\"-\")","v":"-"},{"$f":"IF(U6=\"3B\",N6,\"-\")","v":"-"},{"$f":"IF(U6=\"3B\",O6,\"-\")","v":"-"},{"$f":"IF(U6=\"3B\",P6,\"-\")","v":"-"},null,{"$f":"IF(U6=\"3C\",E6,\"-\")","v":"-"},{"$f":"IF(U6=\"3C\",F6,\"-\")","v":"-"},{"$f":"IF(U6=\"3C\",G6,\"-\")","v":"-"},{"$f":"IF(U6=\"3C\",H6,\"-\")","v":"-"},{"$f":"IF(U6=\"3C\",I6,\"-\")","v":"-"},{"$f":"IF(U6=\"3C\",J6,\"-\")","v":"-"},{"$f":"IF(U6=\"3C\",K6,\"-\")","v":"-"},{"$f":"IF(U6=\"3C\",L6,\"-\")","v":"-"},{"$f":"IF(U6=\"3C\",M6,\"-\")","v":"-"},{"$f":"IF(U6=\"3C\",N6,\"-\")","v":"-"},{"$f":"IF(U6=\"3C\",O6,\"-\")","v":"-"},{"$f":"IF(U6=\"3C\",P6,\"-\")","v":"-"},null,{"$f":"IF(U6=\"3D\",E6,\"-\")","v":"-"},{"$f":"IF(U6=\"3D\",F6,\"-\")","v":"-"},{"$f":"IF(U6=\"3D\",G6,\"-\")","v":"-"},{"$f":"IF(U6=\"3D\",H6,\"-\")","v":"-"},{"$f":"IF(U6=\"3D\",I6,\"-\")","v":"-"},{"$f":"IF(U6=\"3D\",J6,\"-\")","v":"-"},{"$f":"IF(U6=\"3D\",K6,\"-\")","v":"-"},{"$f":"IF(U6=\"3D\",L6,\"-\")","v":"-"},{"$f":"IF(U6=\"3D\",M6,\"-\")","v":"-"},{"$f":"IF(U6=\"3D\",N6,\"-\")","v":"-"},{"$f":"IF(U6=\"3D\",O6,\"-\")","v":"-"},{"$f":"IF(U6=\"3D\",P6,\"-\")","v":"-"},null,{"$f":"IF(U6=\"4A\",E6,\"-\")","v":"-"},{"$f":"IF(U6=\"4A\",F6,\"-\")","v":"-"},{"$f":"IF(U6=\"4A\",G6,\"-\")","v":"-"},{"$f":"IF(U6=\"4A\",H6,\"-\")","v":"-"},{"$f":"IF(U6=\"4A\",I6,\"-\")","v":"-"},{"$f":"IF(U6=\"4A\",J6,\"-\")","v":"-"},{"$f":"IF(U6=\"4A\",K6,\"-\")","v":"-"},{"$f":"IF(U6=\"4A\",L6,\"-\")","v":"-"},{"$f":"IF(U6=\"4A\",M6,\"-\")","v":"-"},{"$f":"IF(U6=\"4A\",N6,\"-\")","v":"-"},{"$f":"IF(U6=\"4A\",O6,\"-\")","v":"-"},{"$f":"IF(U6=\"4A\",P6,\"-\")","v":"-"},null,{"$f":"IF(U6=\"4B\",E6,\"-\")","v":"-"},{"$f":"IF(U6=\"4B\",F6,\"-\")","v":"-"},{"$f":"IF(U6=\"4B\",G6,\"-\")","v":"-"},{"$f":"IF(U6=\"4B\",H6,\"-\")","v":"-"},{"$f":"IF(U6=\"4B\",I6,\"-\")","v":"-"},{"$f":"IF(U6=\"4B\",J6,\"-\")","v":"-"},{"$f":"IF(U6=\"4B\",K6,\"-\")","v":"-"},{"$f":"IF(U6=\"4B\",L6,\"-\")","v":"-"},{"$f":"IF(U6=\"4B\",M6,\"-\")","v":"-"},{"$f":"IF(U6=\"4B\",N6,\"-\")","v":"-"},{"$f":"IF(U6=\"4B\",O6,\"-\")","v":"-"},{"$f":"IF(U6=\"4B\",P6,\"-\")","v":"-"},null,{"$f":"IF(U6=\"4C\",E6,\"-\")","v":"-"},{"$f":"IF(U6=\"4C\",F6,\"-\")","v":"-"},{"$f":"IF(U6=\"4C\",G6,\"-\")","v":"-"},{"$f":"IF(U6=\"4C\",H6,\"-\")","v":"-"},{"$f":"IF(U6=\"4C\",I6,\"-\")","v":"-"},{"$f":"IF(U6=\"4C\",J6,\"-\")","v":"-"},{"$f":"IF(U6=\"4C\",K6,\"-\")","v":"-"},{"$f":"IF(U6=\"4C\",L6,\"-\")","v":"-"},{"$f":"IF(U6=\"4C\",M6,\"-\")","v":"-"},{"$f":"IF(U6=\"4C\",N6,\"-\")","v":"-"},{"$f":"IF(U6=\"4C\",O6,\"-\")","v":"-"},{"$f":"IF(U6=\"4C\",P6,\"-\")","v":"-"},null,{"$f":"IF(U6=\"4D\",E6,\"-\")","v":"-"},{"$f":"IF(U6=\"4D\",F6,\"-\")","v":"-"},{"$f":"IF(U6=\"4D\",G6,\"-\")","v":"-"},{"$f":"IF(U6=\"4D\",H6,\"-\")","v":"-"},{"$f":"IF(U6=\"4D\",I6,\"-\")","v":"-"},{"$f":"IF(U6=\"4D\",J6,\"-\")","v":"-"},{"$f":"IF(U6=\"4D\",K6,\"-\")","v":"-"},{"$f":"IF(U6=\"4D\",L6,\"-\")","v":"-"},{"$f":"IF(U6=\"4D\",M6,\"-\")","v":"-"},{"$f":"IF(U6=\"4D\",N6,\"-\")","v":"-"},{"$f":"IF(U6=\"4D\",O6,\"-\")","v":"-"},{"$f":"IF(U6=\"4D\",P6,\"-\")","v":"-"},null,{"$f":"IF(U6=\"5A\",E6,\"-\")","v":"-"},{"$f":"IF(U6=\"5A\",F6,\"-\")","v":"-"},{"$f":"IF(U6=\"5A\",G6,\"-\")","v":"-"},{"$f":"IF(U6=\"5A\",H6,\"-\")","v":"-"},{"$f":"IF(U6=\"5A\",I6,\"-\")","v":"-"},{"$f":"IF(U6=\"5A\",J6,\"-\")","v":"-"},{"$f":"IF(U6=\"5A\",K6,\"-\")","v":"-"},{"$f":"IF(U6=\"5A\",L6,\"-\")","v":"-"},{"$f":"IF(U6=\"5A\",M6,\"-\")","v":"-"},{"$f":"IF(U6=\"5A\",N6,\"-\")","v":"-"},{"$f":"IF(U6=\"5A\",O6,\"-\")","v":"-"},{"$f":"IF(U6=\"5A\",P6,\"-\")","v":"-"},null,{"$f":"IF(U6=\"5B\",E6,\"-\")","v":"-"},{"$f":"IF(U6=\"5B\",F6,\"-\")","v":"-"},{"$f":"IF(U6=\"5B\",G6,\"-\")","v":"-"},{"$f":"IF(U6=\"5B\",H6,\"-\")","v":"-"},{"$f":"IF(U6=\"5B\",I6,\"-\")","v":"-"},{"$f":"IF(U6=\"5B\",J6,\"-\")","v":"-"},{"$f":"IF(U6=\"5B\",K6,\"-\")","v":"-"},{"$f":"IF(U6=\"5B\",L6,\"-\")","v":"-"},{"$f":"IF(U6=\"5B\",M6,\"-\")","v":"-"},{"$f":"IF(U6=\"5B\",N6,\"-\")","v":"-"},{"$f":"IF(U6=\"5B\",O6,\"-\")","v":"-"},{"$f":"IF(U6=\"5B\",P6,\"-\")","v":"-"},null,{"$f":"IF(U6=\"5C\",E6,\"-\")","v":"-"},{"$f":"IF(U6=\"5C\",F6,\"-\")","v":"-"},{"$f":"IF(U6=\"5C\",G6,\"-\")","v":"-"},{"$f":"IF(U6=\"5C\",H6,\"-\")","v":"-"},{"$f":"IF(U6=\"5C\",I6,\"-\")","v":"-"},{"$f":"IF(U6=\"5C\",J6,\"-\")","v":"-"},{"$f":"IF(U6=\"5C\",K6,\"-\")","v":"-"},{"$f":"IF(U6=\"5C\",L6,\"-\")","v":"-"},{"$f":"IF(U6=\"5C\",M6,\"-\")","v":"-"},{"$f":"IF(U6=\"5C\",N6,\"-\")","v":"-"},{"$f":"IF(U6=\"5C\",O6,\"-\")","v":"-"},{"$f":"IF(U6=\"5C\",P6,\"-\")","v":"-"},null,{"$f":"IF(U6=\"5D\",E6,\"-\")","v":"-"},{"$f":"IF(U6=\"5D\",F6,\"-\")","v":"-"},{"$f":"IF(U6=\"5D\",G6,\"-\")","v":"-"},{"$f":"IF(U6=\"5D\",H6,\"-\")","v":"-"},{"$f":"IF(U6=\"5D\",I6,\"-\")","v":"-"},{"$f":"IF(U6=\"5D\",J6,\"-\")","v":"-"},{"$f":"IF(U6=\"5D\",K6,\"-\")","v":"-"},{"$f":"IF(U6=\"5D\",L6,\"-\")","v":"-"},{"$f":"IF(U6=\"5D\",M6,\"-\")","v":"-"},{"$f":"IF(U6=\"5D\",N6,\"-\")","v":"-"},{"$f":"IF(U6=\"5D\",O6,\"-\")","v":"-"},{"$f":"IF(U6=\"5D\",P6,\"-\")","v":"-"},null,{"$f":"IF(U6=\"6A\",E6,\"-\")","v":"-"},{"$f":"IF(U6=\"6A\",F6,\"-\")","v":"-"},{"$f":"IF(U6=\"6A\",G6,\"-\")","v":"-"},{"$f":"IF(U6=\"6A\",H6,\"-\")","v":"-"},{"$f":"IF(U6=\"6A\",I6,\"-\")","v":"-"},{"$f":"IF(U6=\"6A\",J6,\"-\")","v":"-"},{"$f":"IF(U6=\"6A\",K6,\"-\")","v":"-"},{"$f":"IF(U6=\"6A\",L6,\"-\")","v":"-"},{"$f":"IF(U6=\"6A\",M6,\"-\")","v":"-"},{"$f":"IF(U6=\"6A\",N6,\"-\")","v":"-"},{"$f":"IF(U6=\"6A\",O6,\"-\")","v":"-"},{"$f":"IF(U6=\"6A\",P6,\"-\")","v":"-"},null,{"$f":"IF(U6=\"6B\",E6,\"-\")","v":"-"},{"$f":"IF(U6=\"6B\",F6,\"-\")","v":"-"},{"$f":"IF(U6=\"6B\",G6,\"-\")","v":"-"},{"$f":"IF(U6=\"6B\",H6,\"-\")","v":"-"},{"$f":"IF(U6=\"6B\",I6,\"-\")","v":"-"},{"$f":"IF(U6=\"6B\",J6,\"-\")","v":"-"},{"$f":"IF(U6=\"6B\",K6,\"-\")","v":"-"},{"$f":"IF(U6=\"6B\",L6,\"-\")","v":"-"},{"$f":"IF(U6=\"6B\",M6,\"-\")","v":"-"},{"$f":"IF(U6=\"6B\",N6,\"-\")","v":"-"},{"$f":"IF(U6=\"6B\",O6,\"-\")","v":"-"},{"$f":"IF(U6=\"6B\",P6,\"-\")","v":"-"},null,{"$f":"IF(U6=\"6C\",E6,\"-\")","v":"-"},{"$f":"IF(U6=\"6C\",F6,\"-\")","v":"-"},{"$f":"IF(U6=\"6C\",G6,\"-\")","v":"-"},{"$f":"IF(U6=\"6C\",H6,\"-\")","v":"-"},{"$f":"IF(U6=\"6C\",I6,\"-\")","v":"-"},{"$f":"IF(U6=\"6C\",J6,\"-\")","v":"-"},{"$f":"IF(U6=\"6C\",K6,\"-\")","v":"-"},{"$f":"IF(U6=\"6C\",L6,\"-\")","v":"-"},{"$f":"IF(U6=\"6C\",M6,\"-\")","v":"-"},{"$f":"IF(U6=\"6C\",N6,\"-\")","v":"-"},{"$f":"IF(U6=\"6C\",O6,\"-\")","v":"-"},{"$f":"IF(U6=\"6C\",P6,\"-\")","v":"-"},null,{"$f":"IF(U6=\"6D\",E6,\"-\")","v":"-"},{"$f":"IF(U6=\"6D\",F6,\"-\")","v":"-"},{"$f":"IF(U6=\"6D\",G6,\"-\")","v":"-"},{"$f":"IF(U6=\"6D\",H6,\"-\")","v":"-"},{"$f":"IF(U6=\"6D\",I6,\"-\")","v":"-"},{"$f":"IF(U6=\"6D\",J6,\"-\")","v":"-"},{"$f":"IF(U6=\"6D\",K6,\"-\")","v":"-"},{"$f":"IF(U6=\"6D\",L6,\"-\")","v":"-"},{"$f":"IF(U6=\"6D\",M6,\"-\")","v":"-"},{"$f":"IF(U6=\"6D\",N6,\"-\")","v":"-"},{"$f":"IF(U6=\"6D\",O6,\"-\")","v":"-"},{"$f":"IF(U6=\"6D\",P6,\"-\")","v":"-"},null,{"$f":"IF(U6=\"1A\",D6,\"-\")","v":220000},{"$f":"IF(U6=\"1B\",D6,\"-\")","v":"-"},{"$f":"IF(U6=\"1C\",D6,\"-\")","v":"-"},{"$f":"IF(U6=\"1D\",D6,\"-\")","v":"-"},{"$f":"IF(U6=\"2A\",D6,\"-\")","v":"-"},{"$f":"IF(U6=\"2B\",D6,\"-\")","v":"-"},{"$f":"IF(U6=\"2C\",D6,\"-\")","v":"-"},{"$f":"IF(U6=\"2D\",D6,\"-\")","v":"-"},{"$f":"IF(U6=\"3A\",D6,\"-\")","v":"-"},{"$f":"IF(U6=\"3B\",D6,\"-\")","v":"-"},{"$f":"IF(U6=\"3C\",D6,\"-\")","v":"-"},{"$f":"IF(U6=\"3D\",D6,\"-\")","v":"-"},{"$f":"IF(U6=\"4A\",D6,\"-\")","v":"-"},{"$f":"IF(U6=\"4B\",D6,\"-\")","v":"-"},{"$f":"IF(U6=\"4C\",D6,\"-\")","v":"-"},{"$f":"IF(U6=\"4D\",D6,\"-\")","v":"-"},{"$f":"IF(U6=\"5A\",D6,\"-\")","v":"-"},{"$f":"IF(U6=\"5B\",D6,\"-\")","v":"-"},{"$f":"IF(U6=\"5C\",D6,\"-\")","v":"-"},{"$f":"IF(U6=\"5D\",D6,\"-\")","v":"-"},{"$f":"IF(U6=\"6A\",D6,\"-\")","v":"-"},{"$f":"IF(U6=\"6B\",D6,\"-\")","v":"-"},{"$f":"IF(U6=\"6C\",D6,\"-\")","v":"-"},{"$f":"IF(U6=\"6D\",D6,\"-\")","v":"-"}]
[3,{"$f":"IFERROR(DataSiswa!B6,\"\")","v":0},{"$f":"IFERROR(DataSiswa!C6,\"\")","v":0},{"$f":"IFERROR(DataSiswa!E6,\"\")","v":0},null,null,null,null,null,null,null,null,null,null,null,null,0,0,0,0,{"$f":"IFERROR(VLOOKUP(B7,DataSiswa!$B$4:$D$1003,3,FALSE),\"-\")","v":"-"},"-","-","-","-","-","-","-","-","-","-","-","-","-","-","-","-","-","-","-","-","-","-","-","-",null,"-","-","-","-","-","-","-","-","-","-","-","-","-","-","-","-","-","-","-","-","-","-","-","-",null,"-","-","-","-","-","-","-","-","-","-","-","-",null,"-","-","-","-","-","-","-","-","-","-","-","-",null,"-","-","-","-","-","-","-","-","-","-","-","-",null,"-","-","-","-","-","-","-","-","-","-","-","-",null,"-","-","-","-","-","-","-","-","-","-","-","-",null,"-","-","-","-","-","-","-","-","-","-","-","-",null,"-","-","-","-","-","-","-","-","-","-","-","-",null,"-","-","-","-","-","-","-","-","-","-","-","-",null,"-","-","-","-","-","-","-","-","-","-","-","-",null,"-","-","-","-","-","-","-","-","-","-","-","-",null,"-","-","-","-","-","-","-","-","-","-","-","-",null,"-","-","-","-","-","-","-","-","-","-","-","-",null,"-","-","-","-","-","-","-","-","-","-","-","-",null,"-","-","-","-","-","-","-","-","-","-","-","-",null,"-","-","-","-","-","-","-","-","-","-","-","-",null,"-","-","-","-","-","-","-","-","-","-","-","-",null,"-","-","-","-","-","-","-","-","-","-","-","-",null,"-","-","-","-","-","-","-","-","-","-","-","-",null,"-","-","-","-","-","-","-","-","-","-","-","-",null,"-","-","-","-","-","-","-","-","-","-","-","-",null,"-","-","-","-","-","-","-","-","-","-","-","-",null,"-","-","-","-","-","-","-","-","-","-","-","-",null,"-","-","-","-","-","-","-","-","-","-","-","-",null,"-","-","-","-","-","-","-","-","-","-","-","-",null,"-","-","-","-","-","-","-","-","-","-","-","-","-","-","-","-","-","-","-","-","-","-","-","-"]
[4,{"$f":"IFERROR(DataSiswa!B7,\"\")","v":0},{"$f":"IFERROR(DataSiswa!C7,\"\")","v":0},{"$f":"IFERROR(DataSiswa!E7,\"\")","v":0},null,null,null,null,null,null,null,null,null,null,null,null,0,0,0,0,{"$f":"IFERROR(VLOOKUP(B8,DataSiswa!$B$4:$D$1003,3,FALSE),\"-\")","v":"-"},"-","-","-","-","-","-","-","-","-","-","-","-","-","-","-","-","-","-","-","-","-","-","-","-",null,"-","-","-","-","-","-","-","-","-","-","-","-","-","-","-","-","-","-","-","-","-","-","-","-",null,"-","-","-","-","-","-","-","-","-","-","-","-",null,"-","-","-","-","-","-","-","-","-","-","-","-",null,"-","-","-","-","-","-","-","-","-","-","-","-",null,"-","-","-","-","-","-","-","-","-","-","-","-",null,"-","-","-","-","-","-","-","-","-","-","-","-",null,"-","-","-","-","-","-","-","-","-","-","-","-",null,"-","-","-","-","-","-","-","-","-","-","-","-",null,"-","-","-","-","-","-","-","-","-","-","-","-",null,"-","-","-","-","-","-","-","-","-","-","-","-",null,"-","-","-","-","-","-","-","-","-","-","-","-",null,"-","-","-","-","-","-","-","-","-","-","-","-",null,"-","-","-","-","-","-","-","-","-","-","-","-",null,"-","-","-","-","-","-","-","-","-","-","-","-",null,"-","-","-","-","-","-","-","-","-","-","-","-",null,"-","-","-","-","-","-","-","-","-","-","-","-",null,"-","-","-","-","-","-","-","-","-","-","-","-",null,"-","-","-","-","-","-","-","-","-","-","-","-",null,"-","-","-","-","-","-","-","-","-","-","-","-",null,"-","-","-","-","-","-","-","-","-","-","-","-",null,"-","-","-","-","-","-","-","-","-","-","-","-",null,"-","-","-","-","-","-","-","-","-","-","-","-",null,"-","-","-","-","-","-","-","-","-","-","-","-",null,"-","-","-","-","-","-","-","-","-","-","-","-",null,"-","-","-","-","-","-","-","-","-","-","-","-",null,"-","-","-","-","-","-","-","-","-","-","-","-","-","-","-","-","-","-","-","-","-","-","-","-"]
[5,{"$f":"IFERROR(DataSiswa!B8,\"\")","v":0},{"$f":"IFERROR(DataSiswa!C8,\"\")","v":0},{"$f":"IFERROR(DataSiswa!E8,\"\")","v":0},null,null,null,null,null,null,null,null,null,null,null,null,0,0,0,0,{"$f":"IFERROR(VLOOKUP(B9,DataSiswa!$B$4:$D$1003,3,FALSE),\"-\")","v":"-"},"-","-","-","-","-","-","-","-","-","-","-","-","-","-","-","-","-","-","-","-","-","-","-","-",null,"-","-","-","-","-","-","-","-","-","-","-","-","-","-","-","-","-","-","-","-","-","-","-","-",null,"-","-","-","-","-","-","-","-","-","-","-","-",null,"-","-","-","-","-","-","-","-","-","-","-","-",null,"-","-","-","-","-","-","-","-","-","-","-","-",null,"-","-","-","-","-","-","-","-","-","-","-","-",null,"-","-","-","-","-","-","-","-","-","-","-","-",null,"-","-","-","-","-","-","-","-","-","-","-","-",null,"-","-","-","-","-","-","-","-","-","-","-","-",null,"-","-","-","-","-","-","-","-","-","-","-","-",null,"-","-","-","-","-","-","-","-","-","-","-","-",null,"-","-","-","-","-","-","-","-","-","-","-","-",null,"-","-","-","-","-","-","-","-","-","-","-","-",null,"-","-","-","-","-","-","-","-","-","-","-","-",null,"-","-","-","-","-","-","-","-","-","-","-","-",null,"-","-","-","-","-","-","-","-","-","-","-","-",null,"-","-","-","-","-","-","-","-","-","-","-","-",null,"-","-","-","-","-","-","-","-","-","-","-","-",null,"-","-","-","-","-","-","-","-","-","-","-","-",null,"-","-","-","-","-","-","-","-","-","-","-","-",null,"-","-","-","-","-","-","-","-","-","-","-","-",null,"-","-","-","-","-","-","-","-","-","-","-","-",null,"-","-","-","-","-","-","-","-","-","-","-","-",null,"-","-","-","-","-","-","-","-","-","-","-","-",null,"-","-","-","-","-","-","-","-","-","-","-","-",null,"-","-","-","-","-","-","-","-","-","-","-","-",null,"-","-","-","-","-","-","-","-","-","-","-","-","-","-","-","-","-","-","-","-","-","-","-","-"]
[6,{"$f":"IFERROR(DataSiswa!B9,\"\")","v":0},{"$f":"IFERROR(DataSiswa!C9,\"\")","v":0},{"$f":"IFERROR(DataSiswa!E9,\"\")","v":0},null,null,null,null,null,null,null,null,null,null,null,null,0,0,0,0,{"$f":"IFERROR(VLOOKUP(B10,DataSiswa!$B$4:$D$1003,3,FALSE),\"-\")","v":"-"},"-","-","-","-","-","-","-","-","-","-","-","-","-","-","-","-","-","-","-","-","-","-","-","-",null,"-","-","-","-","-","-","-","-","-","-","-","-","-","-","-","-","-","-","-","-","-","-","-","-",null,"-","-","-","-","-","-","-","-","-","-","-","-",null,"-","-","-","-","-","-","-","-","-","-","-","-",null,"-","-","-","-","-","-","-","-","-","-","-","-",null,"-","-","-","-","-","-","-","-","-","-","-","-",null,"-","-","-","-","-","-","-","-","-","-","-","-",null,"-","-","-","-","-","-","-","-","-","-","-","-",null,"-","-","-","-","-","-","-","-","-","-","-","-",null,"-","-","-","-","-","-","-","-","-","-","-","-",null,"-","-","-","-","-","-","-","-","-","-","-","-",null,"-","-","-","-","-","-","-","-","-","-","-","-",null,"-","-","-","-","-","-","-","-","-","-","-","-",null,"-","-","-","-","-","-","-","-","-","-","-","-",null,"-","-","-","-","-","-","-","-","-","-","-","-",null,"-","-","-","-","-","-","-","-","-","-","-","-",null,"-","-","-","-","-","-","-","-","-","-","-","-",null,"-","-","-","-","-","-","-","-","-","-","-","-",null,"-","-","-","-","-","-","-","-","-","-","-","-",null,"-","-","-","-","-","-","-","-","-","-","-","-",null,"-","-","-","-","-","-","-","-","-","-","-","-",null,"-","-","-","-","-","-","-","-","-","-","-","-",null,"-","-","-","-","-","-","-","-","-","-","-","-",null,"-","-","-","-","-","-","-","-","-","-","-","-",null,"-","-","-","-","-","-","-","-","-","-","-","-",null,"-","-","-","-","-","-","-","-","-","-","-","-",null,"-","-","-","-","-","-","-","-","-","-","-","-","-","-","-","-","-","-","-","-","-","-","-","-"]
[7,{"$f":"IFERROR(DataSiswa!B10,\"\")","v":0},{"$f":"IFERROR(DataSiswa!C10,\"\")","v":0},{"$f":"IFERROR(DataSiswa!E10,\"\")","v":0},null,null,null,null,null,null,null,null,null,null,null,null,0,0,0,0,{"$f":"IFERROR(VLOOKUP(B11,DataSiswa!$B$4:$D$1003,3,FALSE),\"-\")","v":"-"},"-","-","-","-","-","-","-","-","-","-","-","-","-","-","-","-","-","-","-","-","-","-","-","-",null,"-","-","-","-","-","-","-","-","-","-","-","-","-","-","-","-","-","-","-","-","-","-","-","-",null,"-","-","-","-","-","-","-","-","-","-","-","-",null,"-","-","-","-","-","-","-","-","-","-","-","-",null,"-","-","-","-","-","-","-","-","-","-","-","-",null,"-","-","-","-","-","-","-","-","-","-","-","-",null,"-","-","-","-","-","-","-","-","-","-","-","-",null,"-","-","-","-","-","-","-","-","-","-","-","-",null,"-","-","-","-","-","-","-","-","-","-","-","-",null,"-","-","-","-","-","-","-","-","-","-","-","-",null,"-","-","-","-","-","-","-","-","-","-","-","-",null,"-","-","-","-","-","-","-","-","-","-","-","-",null,"-","-","-","-","-","-","-","-","-","-","-","-",null,"-","-","-","-","-","-","-","-","-","-","-","-",null,"-","-","-","-","-","-","-","-","-","-","-","-",null,"-","-","-","-","-","-","-","-","-","-","-","-",null,"-","-","-","-","-","-","-","-","-","-","-","-",null,"-","-","-","-","-","-","-","-","-","-","-","-",null,"-","-","-","-","-","-","-","-","-","-","-","-",null,"-","-","-","-","-","-","-","-","-","-","-","-",null,"-","-","-","-","-","-","-","-","-","-","-","-",null,"-","-","-","-","-","-","-","-","-","-","-","-",null,"-","-","-","-","-","-","-","-","-","-","-","-",null,"-","-","-","-","-","-","-","-","-","-","-","-",null,"-","-","-","-","-","-","-","-","-","-","-","-",null,"-","-","-","-","-","-","-","-","-","-","-","-",null,"-","-","-","-","-","-","-","-","-","-","-","-","-","-","-","-","-","-","-","-","-","-","-","-"]
[8,{"$f":"IFERROR(DataSiswa!B11,\"\")","v":0},{"$f":"IFERROR(DataSiswa!C11,\"\")","v":0},{"$f":"IFERROR(DataSiswa!E11,\"\")","v":0},null,null,null,null,null,null,null,null,null,null,null,null,0,0,0,0,{"$f":"IFERROR(VLOOKUP(B12,DataSiswa!$B$4:$D$1003,3,FALSE),\"-\")","v":"-"},"-","-","-","-","-","-","-","-","-","-","-","-","-","-","-","-","-","-","-","-","-","-","-","-",null,"-","-","-","-","-","-","-","-","-","-","-","-","-","-","-","-","-","-","-","-","-","-","-","-",null,"-","-","-","-","-","-","-","-","-","-","-","-",null,"-","-","-","-","-","-","-","-","-","-","-","-",null,"-","-","-","-","-","-","-","-","-","-","-","-",null,"-","-","-","-","-","-","-","-","-","-","-","-",null,"-","-","-","-","-","-","-","-","-","-","-","-",null,"-","-","-","-","-","-","-","-","-","-","-","-",null,"-","-","-","-","-","-","-","-","-","-","-","-",null,"-","-","-","-","-","-","-","-","-","-","-","-",null,"-","-","-","-","-","-","-","-","-","-","-","-",null,"-","-","-","-","-","-","-","-","-","-","-","-",null,"-","-","-","-","-","-","-","-","-","-","-","-",null,"-","-","-","-","-","-","-","-","-","-","-","-",null,"-","-","-","-","-","-","-","-","-","-","-","-",null,"-","-","-","-","-","-","-","-","-","-","-","-",null,"-","-","-","-","-","-","-","-","-","-","-","-",null,"-","-","-","-","-","-","-","-","-","-","-","-",null,"-","-","-","-","-","-","-","-","-","-","-","-",null,"-","-","-","-","-","-","-","-","-","-","-","-",null,"-","-","-","-","-","-","-","-","-","-","-","-",null,"-","-","-","-","-","-","-","-","-","-","-","-",null,"-","-","-","-","-","-","-","-","-","-","-","-",null,"-","-","-","-","-","-","-","-","-","-","-","-",null,"-","-","-","-","-","-","-","-","-","-","-","-",null,"-","-","-","-","-","-","-","-","-","-","-","-",null,"-","-","-","-","-","-","-","-","-","-","-","-","-","-","-","-","-","-","-","-","-","-","-","-"]
[9,{"$f":"IFERROR(DataSiswa!B12,\"\")","v":0},{"$f":"IFERROR(DataSiswa!C12,\"\")","v":0},{"$f":"IFERROR(DataSiswa!E12,\"\")","v":0},null,null,null,null,null,null,null,null,null,null,null,null,0,0,0,0,{"$f":"IFERROR(VLOOKUP(B13,DataSiswa!$B$4:$D$1003,3,FALSE),\"-\")","v":"-"},"-","-","-","-","-","-","-","-","-","-","-","-","-","-","-","-","-","-","-","-","-","-","-","-",null,"-","-","-","-","-","-","-","-","-","-","-","-","-","-","-","-","-","-","-","-","-","-","-","-",null,"-","-","-","-","-","-","-","-","-","-","-","-",null,"-","-","-","-","-","-","-","-","-","-","-","-",null,"-","-","-","-","-","-","-","-","-","-","-","-",null,"-","-","-","-","-","-","-","-","-","-","-","-",null,"-","-","-","-","-","-","-","-","-","-","-","-",null,"-","-","-","-","-","-","-","-","-","-","-","-",null,"-","-","-","-","-","-","-","-","-","-","-","-",null,"-","-","-","-","-","-","-","-","-","-","-","-",null,"-","-","-","-","-","-","-","-","-","-","-","-",null,"-","-","-","-","-","-","-","-","-","-","-","-",null,"-","-","-","-","-","-","-","-","-","-","-","-",null,"-","-","-","-","-","-","-","-","-","-","-","-",null,"-","-","-","-","-","-","-","-","-","-","-","-",null,"-","-","-","-","-","-","-","-","-","-","-","-",null,"-","-","-","-","-","-","-","-","-","-","-","-",null,"-","-","-","-","-","-","-","-","-","-","-","-",null,"-","-","-","-","-","-","-","-","-","-","-","-",null,"-","-","-","-","-","-","-","-","-","-","-","-",null,"-","-","-","-","-","-","-","-","-","-","-","-",null,"-","-","-","-","-","-","-","-","-","-","-","-",null,"-","-","-","-","-","-","-","-","-","-","-","-",null,"-","-","-","-","-","-","-","-","-","-","-","-",null,"-","-","-","-","-","-","-","-","-","-","-","-",null,"-","-","-","-","-","-","-","-","-","-","-","-",null,"-","-","-","-","-","-","-","-","-","-","-","-","-","-","-","-","-","-","-","-","-","-","-","-"]
[10,{"$f":"IFERROR(DataSiswa!B13,\"\")","v":0},{"$f":"IFERROR(DataSiswa!C13,\"\")","v":0},{"$f":"IFERROR(DataSiswa!E13,\"\")","v":0},null,null,null,null,null,null,null,null,null,null,null,null,0,0,0,0,{"$f":"IFERROR(VLOOKUP(B14,DataSiswa!$B$4:$D$1003,3,FALSE),\"-\")","v":"-"},"-","-","-","-","-","-","-","-","-","-","-","-","-","-","-","-","-","-","-","-","-","-","-","-",null,"-","-","-","-","-","-","-","-","-","-","-","-","-","-","-","-","-","-","-","-","-","-","-","-",null,"-","-","-","-","-","-","-","-","-","-","-","-",null,"-","-","-","-","-","-","-","-","-","-","-","-",null,"-","-","-","-","-","-","-","-","-","-","-","-",null,"-","-","-","-","-","-","-","-","-","-","-","-",null,"-","-","-","-","-","-","-","-","-","-","-","-",null,"-","-","-","-","-","-","-","-","-","-","-","-",null,"-","-","-","-","-","-","-","-","-","-","-","-",null,"-","-","-","-","-","-","-","-","-","-","-","-",null,"-","-","-","-","-","-","-","-","-","-","-","-",null,"-","-","-","-","-","-","-","-","-","-","-","-",null,"-","-","-","-","-","-","-","-","-","-","-","-",null,"-","-","-","-","-","-","-","-","-","-","-","-",null,"-","-","-","-","-","-","-","-","-","-","-","-",null,"-","-","-","-","-","-","-","-","-","-","-","-",null,"-","-","-","-","-","-","-","-","-","-","-","-",null,"-","-","-","-","-","-","-","-","-","-","-","-",null,"-","-","-","-","-","-","-","-","-","-","-","-",null,"-","-","-","-","-","-","-","-","-","-","-","-",null,"-","-","-","-","-","-","-","-","-","-","-","-",null,"-","-","-","-","-","-","-","-","-","-","-","-",null,"-","-","-","-","-","-","-","-","-","-","-","-",null,"-","-","-","-","-","-","-","-","-","-","-","-",null,"-","-","-","-","-","-","-","-","-","-","-","-",null,"-","-","-","-","-","-","-","-","-","-","-","-",null,"-","-","-","-","-","-","-","-","-","-","-","-","-","-","-","-","-","-","-","-","-","-","-","-"]
[11,{"$f":"IFERROR(DataSiswa!B14,\"\")","v":0},{"$f":"IFERROR(DataSiswa!C14,\"\")","v":0},{"$f":"IFERROR(DataSiswa!E14,\"\")","v":0},null,null,null,null,null,null,null,null,null,null,null,null,0,0,0,0,{"$f":"IFERROR(VLOOKUP(B15,DataSiswa!$B$4:$D$1003,3,FALSE),\"-\")","v":"-"},"-","-","-","-","-","-","-","-","-","-","-","-","-","-","-","-","-","-","-","-","-","-","-","-",null,"-","-","-","-","-","-","-","-","-","-","-","-","-","-","-","-","-","-","-","-","-","-","-","-",null,"-","-","-","-","-","-","-","-","-","-","-","-",null,"-","-","-","-","-","-","-","-","-","-","-","-",null,"-","-","-","-","-","-","-","-","-","-","-","-",null,"-","-","-","-","-","-","-","-","-","-","-","-",null,"-","-","-","-","-","-","-","-","-","-","-","-",null,"-","-","-","-","-","-","-","-","-","-","-","-",null,"-","-","-","-","-","-","-","-","-","-","-","-",null,"-","-","-","-","-","-","-","-","-","-","-","-",null,"-","-","-","-","-","-","-","-","-","-","-","-",null,"-","-","-","-","-","-","-","-","-","-","-","-",null,"-","-","-","-","-","-","-","-","-","-","-","-",null,"-","-","-","-","-","-","-","-","-","-","-","-",null,"-","-","-","-","-","-","-","-","-","-","-","-",null,"-","-","-","-","-","-","-","-","-","-","-","-",null,"-","-","-","-","-","-","-","-","-","-","-","-",null,"-","-","-","-","-","-","-","-","-","-","-","-",null,"-","-","-","-","-","-","-","-","-","-","-","-",null,"-","-","-","-","-","-","-","-","-","-","-","-",null,"-","-","-","-","-","-","-","-","-","-","-","-",null,"-","-","-","-","-","-","-","-","-","-","-","-",null,"-","-","-","-","-","-","-","-","-","-","-","-",null,"-","-","-","-","-","-","-","-","-","-","-","-",null,"-","-","-","-","-","-","-","-","-","-","-","-",null,"-","-","-","-","-","-","-","-","-","-","-","-",null,"-","-","-","-","-","-","-","-","-","-","-","-","-","-","-","-","-","-","-","-","-","-","-","-"]
[12,{"$f":"IFERROR(DataSiswa!B15,\"\")","v":0},{"$f":"IFERROR(DataSiswa!C15,\"\")","v":0},{"$f":"IFERROR(DataSiswa!E15,\"\")","v":0},null,null,null,null,null,null,null,null,null,null,null,null,0,0,0,0,{"$f":"IFERROR(VLOOKUP(B16,DataSiswa!$B$4:$D$1003,3,FALSE),\"-\")","v":"-"},"-","-","-","-","-","-","-","-","-","-","-","-","-","-","-","-","-","-","-","-","-","-","-","-",null,"-","-","-","-","-","-","-","-","-","-","-","-","-","-","-","-","-","-","-","-","-","-","-","-",null,"-","-","-","-","-","-","-","-","-","-","-","-",null,"-","-","-","-","-","-","-","-","-","-","-","-",null,"-","-","-","-","-","-","-","-","-","-","-","-",null,"-","-","-","-","-","-","-","-","-","-","-","-",null,"-","-","-","-","-","-","-","-","-","-","-","-",null,"-","-","-","-","-","-","-","-","-","-","-","-",null,"-","-","-","-","-","-","-","-","-","-","-","-",null,"-","-","-","-","-","-","-","-","-","-","-","-",null,"-","-","-","-","-","-","-","-","-","-","-","-",null,"-","-","-","-","-","-","-","-","-","-","-","-",null,"-","-","-","-","-","-","-","-","-","-","-","-",null,"-","-","-","-","-","-","-","-","-","-","-","-",null,"-","-","-","-","-","-","-","-","-","-","-","-",null,"-","-","-","-","-","-","-","-","-","-","-","-",null,"-","-","-","-","-","-","-","-","-","-","-","-",null,"-","-","-","-","-","-","-","-","-","-","-","-",null,"-","-","-","-","-","-","-","-","-","-","-","-",null,"-","-","-","-","-","-","-","-","-","-","-","-",null,"-","-","-","-","-","-","-","-","-","-","-","-",null,"-","-","-","-","-","-","-","-","-","-","-","-",null,"-","-","-","-","-","-","-","-","-","-","-","-",null,"-","-","-","-","-","-","-","-","-","-","-","-",null,"-","-","-","-","-","-","-","-","-","-","-","-",null,"-","-","-","-","-","-","-","-","-","-","-","-",null,"-","-","-","-","-","-","-","-","-","-","-","-","-","-","-","-","-","-","-","-","-","-","-","-"]
[13,{"$f":"IFERROR(DataSiswa!B16,\"\")","v":0},{"$f":"IFERROR(DataSiswa!C16,\"\")","v":0},{"$f":"IFERROR(DataSiswa!E16,\"\")","v":0},null,null,null,null,null,null,null,null,null,null,null,null,0,0,0,0,{"$f":"IFERROR(VLOOKUP(B17,DataSiswa!$B$4:$D$1003,3,FALSE),\"-\")","v":"-"},"-","-","-","-","-","-","-","-","-","-","-","-","-","-","-","-","-","-","-","-","-","-","-","-",null,"-","-","-","-","-","-","-","-","-","-","-","-","-","-","-","-","-","-","-","-","-","-","-","-",null,"-","-","-","-","-","-","-","-","-","-","-","-",null,"-","-","-","-","-","-","-","-","-","-","-","-",null,"-","-","-","-","-","-","-","-","-","-","-","-",null,"-","-","-","-","-","-","-","-","-","-","-","-",null,"-","-","-","-","-","-","-","-","-","-","-","-",null,"-","-","-","-","-","-","-","-","-","-","-","-",null,"-","-","-","-","-","-","-","-","-","-","-","-",null,"-","-","-","-","-","-","-","-","-","-","-","-",null,"-","-","-","-","-","-","-","-","-","-","-","-",null,"-","-","-","-","-","-","-","-","-","-","-","-",null,"-","-","-","-","-","-","-","-","-","-","-","-",null,"-","-","-","-","-","-","-","-","-","-","-","-",null,"-","-","-","-","-","-","-","-","-","-","-","-",null,"-","-","-","-","-","-","-","-","-","-","-","-",null,"-","-","-","-","-","-","-","-","-","-","-","-",null,"-","-","-","-","-","-","-","-","-","-","-","-",null,"-","-","-","-","-","-","-","-","-","-","-","-",null,"-","-","-","-","-","-","-","-","-","-","-","-",null,"-","-","-","-","-","-","-","-","-","-","-","-",null,"-","-","-","-","-","-","-","-","-","-","-","-",null,"-","-","-","-","-","-","-","-","-","-","-","-",null,"-","-","-","-","-","-","-","-","-","-","-","-",null,"-","-","-","-","-","-","-","-","-","-","-","-",null,"-","-","-","-","-","-","-","-","-","-","-","-",null,"-","-","-","-","-","-","-","-","-","-","-","-","-","-","-","-","-","-","-","-","-","-","-","-"]
[14,{"$f":"IFERROR(DataSiswa!B17,\"\")","v":0},{"$f":"IFERROR(DataSiswa!C17,\"\")","v":0},{"$f":"IFERROR(DataSiswa!E17,\"\")","v":0},null,null,null,null,null,null,null,null,null,null,null,null,0,0,0,0,{"$f":"IFERROR(VLOOKUP(B18,DataSiswa!$B$4:$D$1003,3,FALSE),\"-\")","v":"-"},"-","-","-","-","-","-","-","-","-","-","-","-","-","-","-","-","-","-","-","-","-","-","-","-",null,"-","-","-","-","-","-","-","-","-","-","-","-","-","-","-","-","-","-","-","-","-","-","-","-",null,"-","-","-","-","-","-","-","-","-","-","-","-",null,"-","-","-","-","-","-","-","-","-","-","-","-",null,"-","-","-","-","-","-","-","-","-","-","-","-",null,"-","-","-","-","-","-","-","-","-","-","-","-",null,"-","-","-","-","-","-","-","-","-","-","-","-",null,"-","-","-","-","-","-","-","-","-","-","-","-",null,"-","-","-","-","-","-","-","-","-","-","-","-",null,"-","-","-","-","-","-","-","-","-","-","-","-",null,"-","-","-","-","-","-","-","-","-","-","-","-",null,"-","-","-","-","-","-","-","-","-","-","-","-",null,"-","-","-","-","-","-","-","-","-","-","-","-",null,"-","-","-","-","-","-","-","-","-","-","-","-",null,"-","-","-","-","-","-","-","-","-","-","-","-",null,"-","-","-","-","-","-","-","-","-","-","-","-",null,"-","-","-","-","-","-","-","-","-","-","-","-",null,"-","-","-","-","-","-","-","-","-","-","-","-",null,"-","-","-","-","-","-","-","-","-","-","-","-",null,"-","-","-","-","-","-","-","-","-","-","-","-",null,"-","-","-","-","-","-","-","-","-","-","-","-",null,"-","-","-","-","-","-","-","-","-","-","-","-",null,"-","-","-","-","-","-","-","-","-","-","-","-",null,"-","-","-","-","-","-","-","-","-","-","-","-",null,"-","-","-","-","-","-","-","-","-","-","-","-",null,"-","-","-","-","-","-","-","-","-","-","-","-",null,"-","-","-","-","-","-","-","-","-","-","-","-","-","-","-","-","-","-","-","-","-","-","-","-"]
[15,{"$f":"IFERROR(DataSiswa!B18,\"\")","v":0},{"$f":"IFERROR(DataSiswa!C18,\"\")","v":0},{"$f":"IFERROR(DataSiswa!E18,\"\")","v":0},null,null,null,null,null,null,null,null,null,null,null,null,0,0,0,0,{"$f":"IFERROR(VLOOKUP(B19,DataSiswa!$B$4:$D$1003,3,FALSE),\"-\")","v":"-"},"-","-","-","-","-","-","-","-","-","-","-","-","-","-","-","-","-","-","-","-","-","-","-","-",null,"-","-","-","-","-","-","-","-","-","-","-","-","-","-","-","-","-","-","-","-","-","-","-","-",null,"-","-","-","-","-","-","-","-","-","-","-","-",null,"-","-","-","-","-","-","-","-","-","-","-","-",null,"-","-","-","-","-","-","-","-","-","-","-","-",null,"-","-","-","-","-","-","-","-","-","-","-","-",null,"-","-","-","-","-","-","-","-","-","-","-","-",null,"-","-","-","-","-","-","-","-","-","-","-","-",null,"-","-","-","-","-","-","-","-","-","-","-","-",null,"-","-","-","-","-","-","-","-","-","-","-","-",null,"-","-","-","-","-","-","-","-","-","-","-","-",null,"-","-","-","-","-","-","-","-","-","-","-","-",null,"-","-","-","-","-","-","-","-","-","-","-","-",null,"-","-","-","-","-","-","-","-","-","-","-","-",null,"-","-","-","-","-","-","-","-","-","-","-","-",null,"-","-","-","-","-","-","-","-","-","-","-","-",null,"-","-","-","-","-","-","-","-","-","-","-","-",null,"-","-","-","-","-","-","-","-","-","-","-","-",null,"-","-","-","-","-","-","-","-","-","-","-","-",null,"-","-","-","-","-","-","-","-","-","-","-","-",null,"-","-","-","-","-","-","-","-","-","-","-","-",null,"-","-","-","-","-","-","-","-","-","-","-","-",null,"-","-","-","-","-","-","-","-","-","-","-","-",null,"-","-","-","-","-","-","-","-","-","-","-","-",null,"-","-","-","-","-","-","-","-","-","-","-","-",null,"-","-","-","-","-","-","-","-","-","-","-","-",null,"-","-","-","-","-","-","-","-","-","-","-","-","-","-","-","-","-","-","-","-","-","-","-","-"]
[16,{"$f":"IFERROR(DataSiswa!B19,\"\")","v":0},{"$f":"IFERROR(DataSiswa!C19,\"\")","v":0},{"$f":"IFERROR(DataSiswa!E19,\"\")","v":0},null,null,null,null,null,null,null,null,null,null,null,null,0,0,0,0,{"$f":"IFERROR(VLOOKUP(B20,DataSiswa!$B$4:$D$1003,3,FALSE),\"-\")","v":"-"},"-","-","-","-","-","-","-","-","-","-","-","-","-","-","-","-","-","-","-","-","-","-","-","-",null,"-","-","-","-","-","-","-","-","-","-","-","-","-","-","-","-","-","-","-","-","-","-","-","-",null,"-","-","-","-","-","-","-","-","-","-","-","-",null,"-","-","-","-","-","-","-","-","-","-","-","-",null,"-","-","-","-","-","-","-","-","-","-","-","-",null,"-","-","-","-","-","-","-","-","-","-","-","-",null,"-","-","-","-","-","-","-","-","-","-","-","-",null,"-","-","-","-","-","-","-","-","-","-","-","-",null,"-","-","-","-","-","-","-","-","-","-","-","-",null,"-","-","-","-","-","-","-","-","-","-","-","-",null,"-","-","-","-","-","-","-","-","-","-","-","-",null,"-","-","-","-","-","-","-","-","-","-","-","-",null,"-","-","-","-","-","-","-","-","-","-","-","-",null,"-","-","-","-","-","-","-","-","-","-","-","-",null,"-","-","-","-","-","-","-","-","-","-","-","-",null,"-","-","-","-","-","-","-","-","-","-","-","-",null,"-","-","-","-","-","-","-","-","-","-","-","-",null,"-","-","-","-","-","-","-","-","-","-","-","-",null,"-","-","-","-","-","-","-","-","-","-","-","-",null,"-","-","-","-","-","-","-","-","-","-","-","-",null,"-","-","-","-","-","-","-","-","-","-","-","-",null,"-","-","-","-","-","-","-","-","-","-","-","-",null,"-","-","-","-","-","-","-","-","-","-","-","-",null,"-","-","-","-","-","-","-","-","-","-","-","-",null,"-","-","-","-","-","-","-","-","-","-","-","-",null,"-","-","-","-","-","-","-","-","-","-","-","-",null,"-","-","-","-","-","-","-","-","-","-","-","-","-","-","-","-","-","-","-","-","-","-","-","-"]
[17,{"$f":"IFERROR(DataSiswa!B20,\"\")","v":0},{"$f":"IFERROR(DataSiswa!C20,\"\")","v":0},{"$f":"IFERROR(DataSiswa!E20,\"\")","v":0},null,null,null,null,null,null,null,null,null,null,null,null,0,0,0,0,{"$f":"IFERROR(VLOOKUP(B21,DataSiswa!$B$4:$D$1003,3,FALSE),\"-\")","v":"-"},"-","-","-","-","-","-","-","-","-","-","-","-","-","-","-","-","-","-","-","-","-","-","-","-",null,"-","-","-","-","-","-","-","-","-","-","-","-","-","-","-","-","-","-","-","-","-","-","-","-",null,"-","-","-","-","-","-","-","-","-","-","-","-",null,"-","-","-","-","-","-","-","-","-","-","-","-",null,"-","-","-","-","-","-","-","-","-","-","-","-",null,"-","-","-","-","-","-","-","-","-","-","-","-",null,"-","-","-","-","-","-","-","-","-","-","-","-",null,"-","-","-","-","-","-","-","-","-","-","-","-",null,"-","-","-","-","-","-","-","-","-","-","-","-",null,"-","-","-","-","-","-","-","-","-","-","-","-",null,"-","-","-","-","-","-","-","-","-","-","-","-",null,"-","-","-","-","-","-","-","-","-","-","-","-",null,"-","-","-","-","-","-","-","-","-","-","-","-",null,"-","-","-","-","-","-","-","-","-","-","-","-",null,"-","-","-","-","-","-","-","-","-","-","-","-",null,"-","-","-","-","-","-","-","-","-","-","-","-",null,"-","-","-","-","-","-","-","-","-","-","-","-",null,"-","-","-","-","-","-","-","-","-","-","-","-",null,"-","-","-","-","-","-","-","-","-","-","-","-",null,"-","-","-","-","-","-","-","-","-","-","-","-",null,"-","-","-","-","-","-","-","-","-","-","-","-",null,"-","-","-","-","-","-","-","-","-","-","-","-",null,"-","-","-","-","-","-","-","-","-","-","-","-",null,"-","-","-","-","-","-","-","-","-","-","-","-",null,"-","-","-","-","-","-","-","-","-","-","-","-",null,"-","-","-","-","-","-","-","-","-","-","-","-",null,"-","-","-","-","-","-","-","-","-","-","-","-","-","-","-","-","-","-","-","-","-","-","-","-"]
[18,{"$f":"IFERROR(DataSiswa!B21,\"\")","v":0},{"$f":"IFERROR(DataSiswa!C21,\"\")","v":0},{"$f":"IFERROR(DataSiswa!E21,\"\")","v":0},null,null,null,null,null,null,null,null,null,null,null,null,0,0,0,0,{"$f":"IFERROR(VLOOKUP(B22,DataSiswa!$B$4:$D$1003,3,FALSE),\"-\")","v":"-"},"-","-","-","-","-","-","-","-","-","-","-","-","-","-","-","-","-","-","-","-","-","-","-","-",null,"-","-","-","-","-","-","-","-","-","-","-","-","-","-","-","-","-","-","-","-","-","-","-","-",null,"-","-","-","-","-","-","-","-","-","-","-","-",null,"-","-","-","-","-","-","-","-","-","-","-","-",null,"-","-","-","-","-","-","-","-","-","-","-","-",null,"-","-","-","-","-","-","-","-","-","-","-","-",null,"-","-","-","-","-","-","-","-","-","-","-","-",null,"-","-","-","-","-","-","-","-","-","-","-","-",null,"-","-","-","-","-","-","-","-","-","-","-","-",null,"-","-","-","-","-","-","-","-","-","-","-","-",null,"-","-","-","-","-","-","-","-","-","-","-","-",null,"-","-","-","-","-","-","-","-","-","-","-","-",null,"-","-","-","-","-","-","-","-","-","-","-","-",null,"-","-","-","-","-","-","-","-","-","-","-","-",null,"-","-","-","-","-","-","-","-","-","-","-","-",null,"-","-","-","-","-","-","-","-","-","-","-","-",null,"-","-","-","-","-","-","-","-","-","-","-","-",null,"-","-","-","-","-","-","-","-","-","-","-","-",null,"-","-","-","-","-","-","-","-","-","-","-","-",null,"-","-","-","-","-","-","-","-","-","-","-","-",null,"-","-","-","-","-","-","-","-","-","-","-","-",null,"-","-","-","-","-","-","-","-","-","-","-","-",null,"-","-","-","-","-","-","-","-","-","-","-","-",null,"-","-","-","-","-","-","-","-","-","-","-","-",null,"-","-","-","-","-","-","-","-","-","-","-","-",null,"-","-","-","-","-","-","-","-","-","-","-","-",null,"-","-","-","-","-","-","-","-","-","-","-","-","-","-","-","-","-","-","-","-","-","-","-","-"]
[19,{"$f":"IFERROR(DataSiswa!B22,\"\")","v":0},{"$f":"IFERROR(DataSiswa!C22,\"\")","v":0},{"$f":"IFERROR(DataSiswa!E22,\"\")","v":0},null,null,null,null,null,null,null,null,null,null,null,null,0,0,0,0,{"$f":"IFERROR(VLOOKUP(B23,DataSiswa!$B$4:$D$1003,3,FALSE),\"-\")","v":"-"},"-","-","-","-","-","-","-","-","-","-","-","-","-","-","-","-","-","-","-","-","-","-","-","-",null,"-","-","-","-","-","-","-","-","-","-","-","-","-","-","-","-","-","-","-","-","-","-","-","-",null,"-","-","-","-","-","-","-","-","-","-","-","-",null,"-","-","-","-","-","-","-","-","-","-","-","-",null,"-","-","-","-","-","-","-","-","-","-","-","-",null,"-","-","-","-","-","-","-","-","-","-","-","-",null,"-","-","-","-","-","-","-","-","-","-","-","-",null,"-","-","-","-","-","-","-","-","-","-","-","-",null,"-","-","-","-","-","-","-","-","-","-","-","-",null,"-","-","-","-","-","-","-","-","-","-","-","-",null,"-","-","-","-","-","-","-","-","-","-","-","-",null,"-","-","-","-","-","-","-","-","-","-","-","-",null,"-","-","-","-","-","-","-","-","-","-","-","-",null,"-","-","-","-","-","-","-","-","-","-","-","-",null,"-","-","-","-","-","-","-","-","-","-","-","-",null,"-","-","-","-","-","-","-","-","-","-","-","-",null,"-","-","-","-","-","-","-","-","-","-","-","-",null,"-","-","-","-","-","-","-","-","-","-","-","-",null,"-","-","-","-","-","-","-","-","-","-","-","-",null,"-","-","-","-","-","-","-","-","-","-","-","-",null,"-","-","-","-","-","-","-","-","-","-","-","-",null,"-","-","-","-","-","-","-","-","-","-","-","-",null,"-","-","-","-","-","-","-","-","-","-","-","-",null,"-","-","-","-","-","-","-","-","-","-","-","-",null,"-","-","-","-","-","-","-","-","-","-","-","-",null,"-","-","-","-","-","-","-","-","-","-","-","-",null,"-","-","-","-","-","-","-","-","-","-","-","-","-","-","-","-","-","-","-","-","-","-","-","-"]
[20,{"$f":"IFERROR(DataSiswa!B23,\"\")","v":0},{"$f":"IFERROR(DataSiswa!C23,\"\")","v":0},{"$f":"IFERROR(DataSiswa!E23,\"\")","v":0},null,null,null,null,null,null,null,null,null,null,null,null,0,0,0,0,{"$f":"IFERROR(VLOOKUP(B24,DataSiswa!$B$4:$D$1003,3,FALSE),\"-\")","v":"-"},"-","-","-","-","-","-","-","-","-","-","-","-","-","-","-","-","-","-","-","-","-","-","-","-",null,"-","-","-","-","-","-","-","-","-","-","-","-","-","-","-","-","-","-","-","-","-","-","-","-",null,"-","-","-","-","-","-","-","-","-","-","-","-",null,"-","-","-","-","-","-","-","-","-","-","-","-",null,"-","-","-","-","-","-","-","-","-","-","-","-",null,"-","-","-","-","-","-","-","-","-","-","-","-",null,"-","-","-","-","-","-","-","-","-","-","-","-",null,"-","-","-","-","-","-","-","-","-","-","-","-",null,"-","-","-","-","-","-","-","-","-","-","-","-",null,"-","-","-","-","-","-","-","-","-","-","-","-",null,"-","-","-","-","-","-","-","-","-","-","-","-",null,"-","-","-","-","-","-","-","-","-","-","-","-",null,"-","-","-","-","-","-","-","-","-","-","-","-",null,"-","-","-","-","-","-","-","-","-","-","-","-",null,"-","-","-","-","-","-","-","-","-","-","-","-",null,"-","-","-","-","-","-","-","-","-","-","-","-",null,"-","-","-","-","-","-","-","-","-","-","-","-",null,"-","-","-","-","-","-","-","-","-","-","-","-",null,"-","-","-","-","-","-","-","-","-","-","-","-",null,"-","-","-","-","-","-","-","-","-","-","-","-",null,"-","-","-","-","-","-","-","-","-","-","-","-",null,"-","-","-","-","-","-","-","-","-","-","-","-",null,"-","-","-","-","-","-","-","-","-","-","-","-",null,"-","-","-","-","-","-","-","-","-","-","-","-",null,"-","-","-","-","-","-","-","-","-","-","-","-",null,"-","-","-","-","-","-","-","-","-","-","-","-",null,"-","-","-","-","-","-","-","-","-","-","-","-","-","-","-","-","-","-","-","-","-","-","-","-"]
[21,{"$f":"IFERROR(DataSiswa!B24,\"\")","v":0},{"$f":"IFERROR(DataSiswa!C24,\"\")","v":0},{"$f":"IFERROR(DataSiswa!E24,\"\")","v":0},null,null,null,null,null,null,null,null,null,null,null,null,0,0,0,0,{"$f":"IFERROR(VLOOKUP(B25,DataSiswa!$B$4:$D$1003,3,FALSE),\"-\")","v":"-"},"-","-","-","-","-","-","-","-","-","-","-","-","-","-","-","-","-","-","-","-","-","-","-","-",null,"-","-","-","-","-","-","-","-","-","-","-","-","-","-","-","-","-","-","-","-","-","-","-","-",null,"-","-","-","-","-","-","-","-","-","-","-","-",null,"-","-","-","-","-","-","-","-","-","-","-","-",null,"-","-","-","-","-","-","-","-","-","-","-","-",null,"-","-","-","-","-","-","-","-","-","-","-","-",null,"-","-","-","-","-","-","-","-","-","-","-","-",null,"-","-","-","-","-","-","-","-","-","-","-","-",null,"-","-","-","-","-","-","-","-","-","-","-","-",null,"-","-","-","-","-","-","-","-","-","-","-","-",null,"-","-","-","-","-","-","-","-","-","-","-","-",null,"-","-","-","-","-","-","-","-","-","-","-","-",null,"-","-","-","-","-","-","-","-","-","-","-","-",null,"-","-","-","-","-","-","-","-","-","-","-","-",null,"-","-","-","-","-","-","-","-","-","-","-","-",null,"-","-","-","-","-","-","-","-","-","-","-","-",null,"-","-","-","-","-","-","-","-","-","-","-","-",null,"-","-","-","-","-","-","-","-","-","-","-","-",null,"-","-","-","-","-","-","-","-","-","-","-","-",null,"-","-","-","-","-","-","-","-","-","-","-","-",null,"-","-","-","-","-","-","-","-","-","-","-","-",null,"-","-","-","-","-","-","-","-","-","-","-","-",null,"-","-","-","-","-","-","-","-","-","-","-","-",null,"-","-","-","-","-","-","-","-","-","-","-","-",null,"-","-","-","-","-","-","-","-","-","-","-","-",null,"-","-","-","-","-","-","-","-","-","-","-","-",null,"-","-","-","-","-","-","-","-","-","-","-","-","-","-","-","-","-","-","-","-","-","-","-","-"]
[22,{"$f":"IFERROR(DataSiswa!B25,\"\")","v":0},{"$f":"IFERROR(DataSiswa!C25,\"\")","v":0},{"$f":"IFERROR(DataSiswa!E25,\"\")","v":0},null,null,null,null,null,null,null,null,null,null,null,null,0,0,0,0,{"$f":"IFERROR(VLOOKUP(B26,DataSiswa!$B$4:$D$1003,3,FALSE),\"-\")","v":"-"},"-","-","-","-","-","-","-","-","-","-","-","-","-","-","-","-","-","-","-","-","-","-","-","-",null,"-","-","-","-","-","-","-","-","-","-","-","-","-","-","-","-","-","-","-","-","-","-","-","-",null,"-","-","-","-","-","-","-","-","-","-","-","-",null,"-","-","-","-","-","-","-","-","-","-","-","-",null,"-","-","-","-","-","-","-","-","-","-","-","-",null,"-","-","-","-","-","-","-","-","-","-","-","-",null,"-","-","-","-","-","-","-","-","-","-","-","-",null,"-","-","-","-","-","-","-","-","-","-","-","-",null,"-","-","-","-","-","-","-","-","-","-","-","-",null,"-","-","-","-","-","-","-","-","-","-","-","-",null,"-","-","-","-","-","-","-","-","-","-","-","-",null,"-","-","-","-","-","-","-","-","-","-","-","-",null,"-","-","-","-","-","-","-","-","-","-","-","-",null,"-","-","-","-","-","-","-","-","-","-","-","-",null,"-","-","-","-","-","-","-","-","-","-","-","-",null,"-","-","-","-","-","-","-","-","-","-","-","-",null,"-","-","-","-","-","-","-","-","-","-","-","-",null,"-","-","-","-","-","-","-","-","-","-","-","-",null,"-","-","-","-","-","-","-","-","-","-","-","-",null,"-","-","-","-","-","-","-","-","-","-","-","-",null,"-","-","-","-","-","-","-","-","-","-","-","-",null,"-","-","-","-","-","-","-","-","-","-","-","-",null,"-","-","-","-","-","-","-","-","-","-","-","-",null,"-","-","-","-","-","-","-","-","-","-","-","-",null,"-","-","-","-","-","-","-","-","-","-","-","-",null,"-","-","-","-","-","-","-","-","-","-","-","-",null,"-","-","-","-","-","-","-","-","-","-","-","-","-","-","-","-","-","-","-","-","-","-","-","-"]
[23,{"$f":"IFERROR(DataSiswa!B26,\"\")","v":0},{"$f":"IFERROR(DataSiswa!C26,\"\")","v":0},{"$f":"IFERROR(DataSiswa!E26,\"\")","v":0},null,null,null,null,null,null,null,null,null,null,null,null,0,0,0,0,{"$f":"IFERROR(VLOOKUP(B27,DataSiswa!$B$4:$D$1003,3,FALSE),\"-\")","v":"-"},"-","-","-","-","-","-","-","-","-","-","-","-","-","-","-","-","-","-","-","-","-","-","-","-",null,"-","-","-","-","-","-","-","-","-","-","-","-","-","-","-","-","-","-","-","-","-","-","-","-",null,"-","-","-","-","-","-","-","-","-","-","-","-",null,"-","-","-","-","-","-","-","-","-","-","-","-",null,"-","-","-","-","-","-","-","-","-","-","-","-",null,"-","-","-","-","-","-","-","-","-","-","-","-",null,"-","-","-","-","-","-","-","-","-","-","-","-",null,"-","-","-","-","-","-","-","-","-","-","-","-",null,"-","-","-","-","-","-","-","-","-","-","-","-",null,"-","-","-","-","-","-","-","-","-","-","-","-",null,"-","-","-","-","-","-","-","-","-","-","-","-",null,"-","-","-","-","-","-","-","-","-","-","-","-",null,"-","-","-","-","-","-","-","-","-","-","-","-",null,"-","-","-","-","-","-","-","-","-","-","-","-",null,"-","-","-","-","-","-","-","-","-","-","-","-",null,"-","-","-","-","-","-","-","-","-","-","-","-",null,"-","-","-","-","-","-","-","-","-","-","-","-",null,"-","-","-","-","-","-","-","-","-","-","-","-",null,"-","-","-","-","-","-","-","-","-","-","-","-",null,"-","-","-","-","-","-","-","-","-","-","-","-",null,"-","-","-","-","-","-","-","-","-","-","-","-",null,"-","-","-","-","-","-","-","-","-","-","-","-",null,"-","-","-","-","-","-","-","-","-","-","-","-",null,"-","-","-","-","-","-","-","-","-","-","-","-",null,"-","-","-","-","-","-","-","-","-","-","-","-",null,"-","-","-","-","-","-","-","-","-","-","-","-",null,"-","-","-","-","-","-","-","-","-","-","-","-","-","-","-","-","-","-","-","-","-","-","-","-"]
[24,{"$f":"IFERROR(DataSiswa!B27,\"\")","v":0},{"$f":"IFERROR(DataSiswa!C27,\"\")","v":0},{"$f":"IFERROR(DataSiswa!E27,\"\")","v":0},null,null,null,null,null,null,null,null,null,null,null,null,0,0,0,0,{"$f":"IFERROR(VLOOKUP(B28,DataSiswa!$B$4:$D$1003,3,FALSE),\"-\")","v":"-"},"-","-","-","-","-","-","-","-","-","-","-","-","-","-","-","-","-","-","-","-","-","-","-","-",null,"-","-","-","-","-","-","-","-","-","-","-","-","-","-","-","-","-","-","-","-","-","-","-","-",null,"-","-","-","-","-","-","-","-","-","-","-","-",null,"-","-","-","-","-","-","-","-","-","-","-","-",null,"-","-","-","-","-","-","-","-","-","-","-","-",null,"-","-","-","-","-","-","-","-","-","-","-","-",null,"-","-","-","-","-","-","-","-","-","-","-","-",null,"-","-","-","-","-","-","-","-","-","-","-","-",null,"-","-","-","-","-","-","-","-","-","-","-","-",null,"-","-","-","-","-","-","-","-","-","-","-","-",null,"-","-","-","-","-","-","-","-","-","-","-","-",null,"-","-","-","-","-","-","-","-","-","-","-","-",null,"-","-","-","-","-","-","-","-","-","-","-","-",null,"-","-","-","-","-","-","-","-","-","-","-","-",null,"-","-","-","-","-","-","-","-","-","-","-","-",null,"-","-","-","-","-","-","-","-","-","-","-","-",null,"-","-","-","-","-","-","-","-","-","-","-","-",null,"-","-","-","-","-","-","-","-","-","-","-","-",null,"-","-","-","-","-","-","-","-","-","-","-","-",null,"-","-","-","-","-","-","-","-","-","-","-","-",null,"-","-","-","-","-","-","-","-","-","-","-","-",null,"-","-","-","-","-","-","-","-","-","-","-","-",null,"-","-","-","-","-","-","-","-","-","-","-","-",null,"-","-","-","-","-","-","-","-","-","-","-","-",null,"-","-","-","-","-","-","-","-","-","-","-","-",null,"-","-","-","-","-","-","-","-","-","-","-","-",null,"-","-","-","-","-","-","-","-","-","-","-","-","-","-","-","-","-","-","-","-","-","-","-","-"]
[25,{"$f":"IFERROR(DataSiswa!B28,\"\")","v":0},{"$f":"IFERROR(DataSiswa!C28,\"\")","v":0},{"$f":"IFERROR(DataSiswa!E28,\"\")","v":0},null,null,null,null,null,null,null,null,null,null,null,null,0,0,0,0,{"$f":"IFERROR(VLOOKUP(B29,DataSiswa!$B$4:$D$1003,3,FALSE),\"-\")","v":"-"},"-","-","-","-","-","-","-","-","-","-","-","-","-","-","-","-","-","-","-","-","-","-","-","-",null,"-","-","-","-","-","-","-","-","-","-","-","-","-","-","-","-","-","-","-","-","-","-","-","-",null,"-","-","-","-","-","-","-","-","-","-","-","-",null,"-","-","-","-","-","-","-","-","-","-","-","-",null,"-","-","-","-","-","-","-","-","-","-","-","-",null,"-","-","-","-","-","-","-","-","-","-","-","-",null,"-","-","-","-","-","-","-","-","-","-","-","-",null,"-","-","-","-","-","-","-","-","-","-","-","-",null,"-","-","-","-","-","-","-","-","-","-","-","-",null,"-","-","-","-","-","-","-","-","-","-","-","-",null,"-","-","-","-","-","-","-","-","-","-","-","-",null,"-","-","-","-","-","-","-","-","-","-","-","-",null,"-","-","-","-","-","-","-","-","-","-","-","-",null,"-","-","-","-","-","-","-","-","-","-","-","-",null,"-","-","-","-","-","-","-","-","-","-","-","-",null,"-","-","-","-","-","-","-","-","-","-","-","-",null,"-","-","-","-","-","-","-","-","-","-","-","-",null,"-","-","-","-","-","-","-","-","-","-","-","-",null,"-","-","-","-","-","-","-","-","-","-","-","-",null,"-","-","-","-","-","-","-","-","-","-","-","-",null,"-","-","-","-","-","-","-","-","-","-","-","-",null,"-","-","-","-","-","-","-","-","-","-","-","-",null,"-","-","-","-","-","-","-","-","-","-","-","-",null,"-","-","-","-","-","-","-","-","-","-","-","-",null,"-","-","-","-","-","-","-","-","-","-","-","-",null,"-","-","-","-","-","-","-","-","-","-","-","-",null,"-","-","-","-","-","-","-","-","-","-","-","-","-","-","-","-","-","-","-","-","-","-","-","-"]
[26,{"$f":"IFERROR(DataSiswa!B29,\"\")","v":0},{"$f":"IFERROR(DataSiswa!C29,\"\")","v":0},{"$f":"IFERROR(DataSiswa!E29,\"\")","v":0},null,null,null,null,null,null,null,null,null,null,null,null,0,0,0,0,{"$f":"IFERROR(VLOOKUP(B30,DataSiswa!$B$4:$D$1003,3,FALSE),\"-\")","v":"-"},"-","-","-","-","-","-","-","-","-","-","-","-","-","-","-","-","-","-","-","-","-","-","-","-",null,"-","-","-","-","-","-","-","-","-","-","-","-","-","-","-","-","-","-","-","-","-","-","-","-",null,"-","-","-","-","-","-","-","-","-","-","-","-",null,"-","-","-","-","-","-","-","-","-","-","-","-",null,"-","-","-","-","-","-","-","-","-","-","-","-",null,"-","-","-","-","-","-","-","-","-","-","-","-",null,"-","-","-","-","-","-","-","-","-","-","-","-",null,"-","-","-","-","-","-","-","-","-","-","-","-",null,"-","-","-","-","-","-","-","-","-","-","-","-",null,"-","-","-","-","-","-","-","-","-","-","-","-",null,"-","-","-","-","-","-","-","-","-","-","-","-",null,"-","-","-","-","-","-","-","-","-","-","-","-",null,"-","-","-","-","-","-","-","-","-","-","-","-",null,"-","-","-","-","-","-","-","-","-","-","-","-",null,"-","-","-","-","-","-","-","-","-","-","-","-",null,"-","-","-","-","-","-","-","-","-","-","-","-",null,"-","-","-","-","-","-","-","-","-","-","-","-",null,"-","-","-","-","-","-","-","-","-","-","-","-",null,"-","-","-","-","-","-","-","-","-","-","-","-",null,"-","-","-","-","-","-","-","-","-","-","-","-",null,"-","-","-","-","-","-","-","-","-","-","-","-",null,"-","-","-","-","-","-","-","-","-","-","-","-",null,"-","-","-","-","-","-","-","-","-","-","-","-",null,"-","-","-","-","-","-","-","-","-","-","-","-",null,"-","-","-","-","-","-","-","-","-","-","-","-",null,"-","-","-","-","-","-","-","-","-","-","-","-",null,"-","-","-","-","-","-","-","-","-","-","-","-","-","-","-","-","-","-","-","-","-","-","-","-"]
[27,{"$f":"IFERROR(DataSiswa!B30,\"\")","v":0},{"$f":"IFERROR(DataSiswa!C30,\"\")","v":0},{"$f":"IFERROR(DataSiswa!E30,\"\")","v":0},null,null,null,null,null,null,null,null,null,null,null,null,0,0,0,0,{"$f":"IFERROR(VLOOKUP(B31,DataSiswa!$B$4:$D$1003,3,FALSE),\"-\")","v":"-"},"-","-","-","-","-","-","-","-","-","-","-","-","-","-","-","-","-","-","-","-","-","-","-","-",null,"-","-","-","-","-","-","-","-","-","-","-","-","-","-","-","-","-","-","-","-","-","-","-","-",null,"-","-","-","-","-","-","-","-","-","-","-","-",null,"-","-","-","-","-","-","-","-","-","-","-","-",null,"-","-","-","-","-","-","-","-","-","-","-","-",null,"-","-","-","-","-","-","-","-","-","-","-","-",null,"-","-","-","-","-","-","-","-","-","-","-","-",null,"-","-","-","-","-","-","-","-","-","-","-","-",null,"-","-","-","-","-","-","-","-","-","-","-","-",null,"-","-","-","-","-","-","-","-","-","-","-","-",null,"-","-","-","-","-","-","-","-","-","-","-","-",null,"-","-","-","-","-","-","-","-","-","-","-","-",null,"-","-","-","-","-","-","-","-","-","-","-","-",null,"-","-","-","-","-","-","-","-","-","-","-","-",null,"-","-","-","-","-","-","-","-","-","-","-","-",null,"-","-","-","-","-","-","-","-","-","-","-","-",null,"-","-","-","-","-","-","-","-","-","-","-","-",null,"-","-","-","-","-","-","-","-","-","-","-","-",null,"-","-","-","-","-","-","-","-","-","-","-","-",null,"-","-","-","-","-","-","-","-","-","-","-","-",null,"-","-","-","-","-","-","-","-","-","-","-","-",null,"-","-","-","-","-","-","-","-","-","-","-","-",null,"-","-","-","-","-","-","-","-","-","-","-","-",null,"-","-","-","-","-","-","-","-","-","-","-","-",null,"-","-","-","-","-","-","-","-","-","-","-","-",null,"-","-","-","-","-","-","-","-","-","-","-","-",null,"-","-","-","-","-","-","-","-","-","-","-","-","-","-","-","-","-","-","-","-","-","-","-","-"]
[28,{"$f":"IFERROR(DataSiswa!B31,\"\")","v":0},{"$f":"IFERROR(DataSiswa!C31,\"\")","v":0},{"$f":"IFERROR(DataSiswa!E31,\"\")","v":0},null,null,null,null,null,null,null,null,null,null,null,null,0,0,0,0,{"$f":"IFERROR(VLOOKUP(B32,DataSiswa!$B$4:$D$1003,3,FALSE),\"-\")","v":"-"},"-","-","-","-","-","-","-","-","-","-","-","-","-","-","-","-","-","-","-","-","-","-","-","-",null,"-","-","-","-","-","-","-","-","-","-","-","-","-","-","-","-","-","-","-","-","-","-","-","-",null,"-","-","-","-","-","-","-","-","-","-","-","-",null,"-","-","-","-","-","-","-","-","-","-","-","-",null,"-","-","-","-","-","-","-","-","-","-","-","-",null,"-","-","-","-","-","-","-","-","-","-","-","-",null,"-","-","-","-","-","-","-","-","-","-","-","-",null,"-","-","-","-","-","-","-","-","-","-","-","-",null,"-","-","-","-","-","-","-","-","-","-","-","-",null,"-","-","-","-","-","-","-","-","-","-","-","-",null,"-","-","-","-","-","-","-","-","-","-","-","-",null,"-","-","-","-","-","-","-","-","-","-","-","-",null,"-","-","-","-","-","-","-","-","-","-","-","-",null,"-","-","-","-","-","-","-","-","-","-","-","-",null,"-","-","-","-","-","-","-","-","-","-","-","-",null,"-","-","-","-","-","-","-","-","-","-","-","-",null,"-","-","-","-","-","-","-","-","-","-","-","-",null,"-","-","-","-","-","-","-","-","-","-","-","-",null,"-","-","-","-","-","-","-","-","-","-","-","-",null,"-","-","-","-","-","-","-","-","-","-","-","-",null,"-","-","-","-","-","-","-","-","-","-","-","-",null,"-","-","-","-","-","-","-","-","-","-","-","-",null,"-","-","-","-","-","-","-","-","-","-","-","-",null,"-","-","-","-","-","-","-","-","-","-","-","-",null,"-","-","-","-","-","-","-","-","-","-","-","-",null,"-","-","-","-","-","-","-","-","-","-","-","-",null,"-","-","-","-","-","-","-","-","-","-","-","-","-","-","-","-","-","-","-","-","-","-","-","-"]
[29,{"$f":"IFERROR(DataSiswa!B32,\"\")","v":0},{"$f":"IFERROR(DataSiswa!C32,\"\")","v":0},{"$f":"IFERROR(DataSiswa!E32,\"\")","v":0},null,null,null,null,null,null,null,null,null,null,null,null,0,0,0,0,{"$f":"IFERROR(VLOOKUP(B33,DataSiswa!$B$4:$D$1003,3,FALSE),\"-\")","v":"-"},"-","-","-","-","-","-","-","-","-","-","-","-","-","-","-","-","-","-","-","-","-","-","-","-",null,"-","-","-","-","-","-","-","-","-","-","-","-","-","-","-","-","-","-","-","-","-","-","-","-",null,"-","-","-","-","-","-","-","-","-","-","-","-",null,"-","-","-","-","-","-","-","-","-","-","-","-",null,"-","-","-","-","-","-","-","-","-","-","-","-",null,"-","-","-","-","-","-","-","-","-","-","-","-",null,"-","-","-","-","-","-","-","-","-","-","-","-",null,"-","-","-","-","-","-","-","-","-","-","-","-",null,"-","-","-","-","-","-","-","-","-","-","-","-",null,"-","-","-","-","-","-","-","-","-","-","-","-",null,"-","-","-","-","-","-","-","-","-","-","-","-",null,"-","-","-","-","-","-","-","-","-","-","-","-",null,"-","-","-","-","-","-","-","-","-","-","-","-",null,"-","-","-","-","-","-","-","-","-","-","-","-",null,"-","-","-","-","-","-","-","-","-","-","-","-",null,"-","-","-","-","-","-","-","-","-","-","-","-",null,"-","-","-","-","-","-","-","-","-","-","-","-",null,"-","-","-","-","-","-","-","-","-","-","-","-",null,"-","-","-","-","-","-","-","-","-","-","-","-",null,"-","-","-","-","-","-","-","-","-","-","-","-",null,"-","-","-","-","-","-","-","-","-","-","-","-",null,"-","-","-","-","-","-","-","-","-","-","-","-",null,"-","-","-","-","-","-","-","-","-","-","-","-",null,"-","-","-","-","-","-","-","-","-","-","-","-",null,"-","-","-","-","-","-","-","-","-","-","-","-",null,"-","-","-","-","-","-","-","-","-","-","-","-",null,"-","-","-","-","-","-","-","-","-","-","-","-","-","-","-","-","-","-","-","-","-","-","-","-"]
[30,{"$f":"IFERROR(DataSiswa!B33,\"\")","v":0},{"$f":"IFERROR(DataSiswa!C33,\"\")","v":0},{"$f":"IFERROR(DataSiswa!E33,\"\")","v":0},null,null,null,null,null,null,null,null,null,null,null,null,0,0,0,0,{"$f":"IFERROR(VLOOKUP(B34,DataSiswa!$B$4:$D$1003,3,FALSE),\"-\")","v":"-"},"-","-","-","-","-","-","-","-","-","-","-","-","-","-","-","-","-","-","-","-","-","-","-","-",null,"-","-","-","-","-","-","-","-","-","-","-","-","-","-","-","-","-","-","-","-","-","-","-","-",null,"-","-","-","-","-","-","-","-","-","-","-","-",null,"-","-","-","-","-","-","-","-","-","-","-","-",null,"-","-","-","-","-","-","-","-","-","-","-","-",null,"-","-","-","-","-","-","-","-","-","-","-","-",null,"-","-","-","-","-","-","-","-","-","-","-","-",null,"-","-","-","-","-","-","-","-","-","-","-","-",null,"-","-","-","-","-","-","-","-","-","-","-","-",null,"-","-","-","-","-","-","-","-","-","-","-","-",null,"-","-","-","-","-","-","-","-","-","-","-","-",null,"-","-","-","-","-","-","-","-","-","-","-","-",null,"-","-","-","-","-","-","-","-","-","-","-","-",null,"-","-","-","-","-","-","-","-","-","-","-","-",null,"-","-","-","-","-","-","-","-","-","-","-","-",null,"-","-","-","-","-","-","-","-","-","-","-","-",null,"-","-","-","-","-","-","-","-","-","-","-","-",null,"-","-","-","-","-","-","-","-","-","-","-","-",null,"-","-","-","-","-","-","-","-","-","-","-","-",null,"-","-","-","-","-","-","-","-","-","-","-","-",null,"-","-","-","-","-","-","-","-","-","-","-","-",null,"-","-","-","-","-","-","-","-","-","-","-","-",null,"-","-","-","-","-","-","-","-","-","-","-","-",null,"-","-","-","-","-","-","-","-","-","-","-","-",null,"-","-","-","-","-","-","-","-","-","-","-","-",null,"-","-","-","-","-","-","-","-","-","-","-","-",null,"-","-","-","-","-","-","-","-","-","-","-","-","-","-","-","-","-","-","-","-","-","-","-","-"]
[31,{"$f":"IFERROR(DataSiswa!B34,\"\")","v":0},{"$f":"IFERROR(DataSiswa!C34,\"\")","v":0},{"$f":"IFERROR(DataSiswa!E34,\"\")","v":0},null,null,null,null,null,null,null,null,null,null,null,null,0,0,0,0,{"$f":"IFERROR(VLOOKUP(B35,DataSiswa!$B$4:$D$1003,3,FALSE),\"-\")","v":"-"},"-","-","-","-","-","-","-","-","-","-","-","-","-","-","-","-","-","-","-","-","-","-","-","-",null,"-","-","-","-","-","-","-","-","-","-","-","-","-","-","-","-","-","-","-","-","-","-","-","-",null,"-","-","-","-","-","-","-","-","-","-","-","-",null,"-","-","-","-","-","-","-","-","-","-","-","-",null,"-","-","-","-","-","-","-","-","-","-","-","-",null,"-","-","-","-","-","-","-","-","-","-","-","-",null,"-","-","-","-","-","-","-","-","-","-","-","-",null,"-","-","-","-","-","-","-","-","-","-","-","-",null,"-","-","-","-","-","-","-","-","-","-","-","-",null,"-","-","-","-","-","-","-","-","-","-","-","-",null,"-","-","-","-","-","-","-","-","-","-","-","-",null,"-","-","-","-","-","-","-","-","-","-","-","-",null,"-","-","-","-","-","-","-","-","-","-","-","-",null,"-","-","-","-","-","-","-","-","-","-","-","-",null,"-","-","-","-","-","-","-","-","-","-","-","-",null,"-","-","-","-","-","-","-","-","-","-","-","-",null,"-","-","-","-","-","-","-","-","-","-","-","-",null,"-","-","-","-","-","-","-","-","-","-","-","-",null,"-","-","-","-","-","-","-","-","-","-","-","-",null,"-","-","-","-","-","-","-","-","-","-","-","-",null,"-","-","-","-","-","-","-","-","-","-","-","-",null,"-","-","-","-","-","-","-","-","-","-","-","-",null,"-","-","-","-","-","-","-","-","-","-","-","-",null,"-","-","-","-","-","-","-","-","-","-","-","-",null,"-","-","-","-","-","-","-","-","-","-","-","-",null,"-","-","-","-","-","-","-","-","-","-","-","-",null,"-","-","-","-","-","-","-","-","-","-","-","-","-","-","-","-","-","-","-","-","-","-","-","-"]
[32,{"$f":"IFERROR(DataSiswa!B35,\"\")","v":0},{"$f":"IFERROR(DataSiswa!C35,\"\")","v":0},{"$f":"IFERROR(DataSiswa!E35,\"\")","v":0},null,null,null,null,null,null,null,null,null,null,null,null,0,0,0,0,{"$f":"IFERROR(VLOOKUP(B36,DataSiswa!$B$4:$D$1003,3,FALSE),\"-\")","v":"-"},"-","-","-","-","-","-","-","-","-","-","-","-","-","-","-","-","-","-","-","-","-","-","-","-",null,"-","-","-","-","-","-","-","-","-","-","-","-","-","-","-","-","-","-","-","-","-","-","-","-",null,"-","-","-","-","-","-","-","-","-","-","-","-",null,"-","-","-","-","-","-","-","-","-","-","-","-",null,"-","-","-","-","-","-","-","-","-","-","-","-",null,"-","-","-","-","-","-","-","-","-","-","-","-",null,"-","-","-","-","-","-","-","-","-","-","-","-",null,"-","-","-","-","-","-","-","-","-","-","-","-",null,"-","-","-","-","-","-","-","-","-","-","-","-",null,"-","-","-","-","-","-","-","-","-","-","-","-",null,"-","-","-","-","-","-","-","-","-","-","-","-",null,"-","-","-","-","-","-","-","-","-","-","-","-",null,"-","-","-","-","-","-","-","-","-","-","-","-",null,"-","-","-","-","-","-","-","-","-","-","-","-",null,"-","-","-","-","-","-","-","-","-","-","-","-",null,"-","-","-","-","-","-","-","-","-","-","-","-",null,"-","-","-","-","-","-","-","-","-","-","-","-",null,"-","-","-","-","-","-","-","-","-","-","-","-",null,"-","-","-","-","-","-","-","-","-","-","-","-",null,"-","-","-","-","-","-","-","-","-","-","-","-",null,"-","-","-","-","-","-","-","-","-","-","-","-",null,"-","-","-","-","-","-","-","-","-","-","-","-",null,"-","-","-","-","-","-","-","-","-","-","-","-",null,"-","-","-","-","-","-","-","-","-","-","-","-",null,"-","-","-","-","-","-","-","-","-","-","-","-",null,"-","-","-","-","-","-","-","-","-","-","-","-",null,"-","-","-","-","-","-","-","-","-","-","-","-","-","-","-","-","-","-","-","-","-","-","-","-"]
[33,{"$f":"IFERROR(DataSiswa!B36,\"\")","v":0},{"$f":"IFERROR(DataSiswa!C36,\"\")","v":0},{"$f":"IFERROR(DataSiswa!E36,\"\")","v":0},null,null,null,null,null,null,null,null,null,null,null,null,0,0,0,0,{"$f":"IFERROR(VLOOKUP(B37,DataSiswa!$B$4:$D$1003,3,FALSE),\"-\")","v":"-"},"-","-","-","-","-","-","-","-","-","-","-","-","-","-","-","-","-","-","-","-","-","-","-","-",null,"-","-","-","-","-","-","-","-","-","-","-","-","-","-","-","-","-","-","-","-","-","-","-","-",null,"-","-","-","-","-","-","-","-","-","-","-","-",null,"-","-","-","-","-","-","-","-","-","-","-","-",null,"-","-","-","-","-","-","-","-","-","-","-","-",null,"-","-","-","-","-","-","-","-","-","-","-","-",null,"-","-","-","-","-","-","-","-","-","-","-","-",null,"-","-","-","-","-","-","-","-","-","-","-","-",null,"-","-","-","-","-","-","-","-","-","-","-","-",null,"-","-","-","-","-","-","-","-","-","-","-","-",null,"-","-","-","-","-","-","-","-","-","-","-","-",null,"-","-","-","-","-","-","-","-","-","-","-","-",null,"-","-","-","-","-","-","-","-","-","-","-","-",null,"-","-","-","-","-","-","-","-","-","-","-","-",null,"-","-","-","-","-","-","-","-","-","-","-","-",null,"-","-","-","-","-","-","-","-","-","-","-","-",null,"-","-","-","-","-","-","-","-","-","-","-","-",null,"-","-","-","-","-","-","-","-","-","-","-","-",null,"-","-","-","-","-","-","-","-","-","-","-","-",null,"-","-","-","-","-","-","-","-","-","-","-","-",null,"-","-","-","-","-","-","-","-","-","-","-","-",null,"-","-","-","-","-","-","-","-","-","-","-","-",null,"-","-","-","-","-","-","-","-","-","-","-","-",null,"-","-","-","-","-","-","-","-","-","-","-","-",null,"-","-","-","-","-","-","-","-","-","-","-","-",null,"-","-","-","-","-","-","-","-","-","-","-","-",null,"-","-","-","-","-","-","-","-","-","-","-","-","-","-","-","-","-","-","-","-","-","-","-","-"]
[34,{"$f":"IFERROR(DataSiswa!B37,\"\")","v":0},{"$f":"IFERROR(DataSiswa!C37,\"\")","v":0},{"$f":"IFERROR(DataSiswa!E37,\"\")","v":0},null,null,null,null,null,null,null,null,null,null,null,null,0,0,0,0,{"$f":"IFERROR(VLOOKUP(B38,DataSiswa!$B$4:$D$1003,3,FALSE),\"-\")","v":"-"},"-","-","-","-","-","-","-","-","-","-","-","-","-","-","-","-","-","-","-","-","-","-","-","-",null,"-","-","-","-","-","-","-","-","-","-","-","-","-","-","-","-","-","-","-","-","-","-","-","-",null,"-","-","-","-","-","-","-","-","-","-","-","-",null,"-","-","-","-","-","-","-","-","-","-","-","-",null,"-","-","-","-","-","-","-","-","-","-","-","-",null,"-","-","-","-","-","-","-","-","-","-","-","-",null,"-","-","-","-","-","-","-","-","-","-","-","-",null,"-","-","-","-","-","-","-","-","-","-","-","-",null,"-","-","-","-","-","-","-","-","-","-","-","-",null,"-","-","-","-","-","-","-","-","-","-","-","-",null,"-","-","-","-","-","-","-","-","-","-","-","-",null,"-","-","-","-","-","-","-","-","-","-","-","-",null,"-","-","-","-","-","-","-","-","-","-","-","-",null,"-","-","-","-","-","-","-","-","-","-","-","-",null,"-","-","-","-","-","-","-","-","-","-","-","-",null,"-","-","-","-","-","-","-","-","-","-","-","-",null,"-","-","-","-","-","-","-","-","-","-","-","-",null,"-","-","-","-","-","-","-","-","-","-","-","-",null,"-","-","-","-","-","-","-","-","-","-","-","-",null,"-","-","-","-","-","-","-","-","-","-","-","-",null,"-","-","-","-","-","-","-","-","-","-","-","-",null,"-","-","-","-","-","-","-","-","-","-","-","-",null,"-","-","-","-","-","-","-","-","-","-","-","-",null,"-","-","-","-","-","-","-","-","-","-","-","-",null,"-","-","-","-","-","-","-","-","-","-","-","-",null,"-","-","-","-","-","-","-","-","-","-","-","-",null,"-","-","-","-","-","-","-","-","-","-","-","-","-","-","-","-","-","-","-","-","-","-","-","-"]
[35,{"$f":"IFERROR(DataSiswa!B38,\"\")","v":0},{"$f":"IFERROR(DataSiswa!C38,\"\")","v":0},{"$f":"IFERROR(DataSiswa!E38,\"\")","v":0},null,null,null,null,null,null,null,null,null,null,null,null,0,0,0,0,{"$f":"IFERROR(VLOOKUP(B39,DataSiswa!$B$4:$D$1003,3,FALSE),\"-\")","v":"-"},"-","-","-","-","-","-","-","-","-","-","-","-","-","-","-","-","-","-","-","-","-","-","-","-",null,"-","-","-","-","-","-","-","-","-","-","-","-","-","-","-","-","-","-","-","-","-","-","-","-",null,"-","-","-","-","-","-","-","-","-","-","-","-",null,"-","-","-","-","-","-","-","-","-","-","-","-",null,"-","-","-","-","-","-","-","-","-","-","-","-",null,"-","-","-","-","-","-","-","-","-","-","-","-",null,"-","-","-","-","-","-","-","-","-","-","-","-",null,"-","-","-","-","-","-","-","-","-","-","-","-",null,"-","-","-","-","-","-","-","-","-","-","-","-",null,"-","-","-","-","-","-","-","-","-","-","-","-",null,"-","-","-","-","-","-","-","-","-","-","-","-",null,"-","-","-","-","-","-","-","-","-","-","-","-",null,"-","-","-","-","-","-","-","-","-","-","-","-",null,"-","-","-","-","-","-","-","-","-","-","-","-",null,"-","-","-","-","-","-","-","-","-","-","-","-",null,"-","-","-","-","-","-","-","-","-","-","-","-",null,"-","-","-","-","-","-","-","-","-","-","-","-",null,"-","-","-","-","-","-","-","-","-","-","-","-",null,"-","-","-","-","-","-","-","-","-","-","-","-",null,"-","-","-","-","-","-","-","-","-","-","-","-",null,"-","-","-","-","-","-","-","-","-","-","-","-",null,"-","-","-","-","-","-","-","-","-","-","-","-",null,"-","-","-","-","-","-","-","-","-","-","-","-",null,"-","-","-","-","-","-","-","-","-","-","-","-",null,"-","-","-","-","-","-","-","-","-","-","-","-",null,"-","-","-","-","-","-","-","-","-","-","-","-",null,"-","-","-","-","-","-","-","-","-","-","-","-","-","-","-","-","-","-","-","-","-","-","-","-"]
[36,{"$f":"IFERROR(DataSiswa!B39,\"\")","v":0},{"$f":"IFERROR(DataSiswa!C39,\"\")","v":0},{"$f":"IFERROR(DataSiswa!E39,\"\")","v":0},null,null,null,null,null,null,null,null,null,null,null,null,0,0,0,0,{"$f":"IFERROR(VLOOKUP(B40,DataSiswa!$B$4:$D$1003,3,FALSE),\"-\")","v":"-"},"-","-","-","-","-","-","-","-","-","-","-","-","-","-","-","-","-","-","-","-","-","-","-","-",null,"-","-","-","-","-","-","-","-","-","-","-","-","-","-","-","-","-","-","-","-","-","-","-","-",null,"-","-","-","-","-","-","-","-","-","-","-","-",null,"-","-","-","-","-","-","-","-","-","-","-","-",null,"-","-","-","-","-","-","-","-","-","-","-","-",null,"-","-","-","-","-","-","-","-","-","-","-","-",null,"-","-","-","-","-","-","-","-","-","-","-","-",null,"-","-","-","-","-","-","-","-","-","-","-","-",null,"-","-","-","-","-","-","-","-","-","-","-","-",null,"-","-","-","-","-","-","-","-","-","-","-","-",null,"-","-","-","-","-","-","-","-","-","-","-","-",null,"-","-","-","-","-","-","-","-","-","-","-","-",null,"-","-","-","-","-","-","-","-","-","-","-","-",null,"-","-","-","-","-","-","-","-","-","-","-","-",null,"-","-","-","-","-","-","-","-","-","-","-","-",null,"-","-","-","-","-","-","-","-","-","-","-","-",null,"-","-","-","-","-","-","-","-","-","-","-","-",null,"-","-","-","-","-","-","-","-","-","-","-","-",null,"-","-","-","-","-","-","-","-","-","-","-","-",null,"-","-","-","-","-","-","-","-","-","-","-","-",null,"-","-","-","-","-","-","-","-","-","-","-","-",null,"-","-","-","-","-","-","-","-","-","-","-","-",null,"-","-","-","-","-","-","-","-","-","-","-","-",null,"-","-","-","-","-","-","-","-","-","-","-","-",null,"-","-","-","-","-","-","-","-","-","-","-","-",null,"-","-","-","-","-","-","-","-","-","-","-","-",null,"-","-","-","-","-","-","-","-","-","-","-","-","-","-","-","-","-","-","-","-","-","-","-","-"]
[37,{"$f":"IFERROR(DataSiswa!B40,\"\")","v":0},{"$f":"IFERROR(DataSiswa!C40,\"\")","v":0},{"$f":"IFERROR(DataSiswa!E40,\"\")","v":0},null,null,null,null,null,null,null,null,null,null,null,null,0,0,0,0,{"$f":"IFERROR(VLOOKUP(B41,DataSiswa!$B$4:$D$1003,3,FALSE),\"-\")","v":"-"},"-","-","-","-","-","-","-","-","-","-","-","-","-","-","-","-","-","-","-","-","-","-","-","-",null,"-","-","-","-","-","-","-","-","-","-","-","-","-","-","-","-","-","-","-","-","-","-","-","-",null,"-","-","-","-","-","-","-","-","-","-","-","-",null,"-","-","-","-","-","-","-","-","-","-","-","-",null,"-","-","-","-","-","-","-","-","-","-","-","-",null,"-","-","-","-","-","-","-","-","-","-","-","-",null,"-","-","-","-","-","-","-","-","-","-","-","-",null,"-","-","-","-","-","-","-","-","-","-","-","-",null,"-","-","-","-","-","-","-","-","-","-","-","-",null,"-","-","-","-","-","-","-","-","-","-","-","-",null,"-","-","-","-","-","-","-","-","-","-","-","-",null,"-","-","-","-","-","-","-","-","-","-","-","-",null,"-","-","-","-","-","-","-","-","-","-","-","-",null,"-","-","-","-","-","-","-","-","-","-","-","-",null,"-","-","-","-","-","-","-","-","-","-","-","-",null,"-","-","-","-","-","-","-","-","-","-","-","-",null,"-","-","-","-","-","-","-","-","-","-","-","-",null,"-","-","-","-","-","-","-","-","-","-","-","-",null,"-","-","-","-","-","-","-","-","-","-","-","-",null,"-","-","-","-","-","-","-","-","-","-","-","-",null,"-","-","-","-","-","-","-","-","-","-","-","-",null,"-","-","-","-","-","-","-","-","-","-","-","-",null,"-","-","-","-","-","-","-","-","-","-","-","-",null,"-","-","-","-","-","-","-","-","-","-","-","-",null,"-","-","-","-","-","-","-","-","-","-","-","-",null,"-","-","-","-","-","-","-","-","-","-","-","-",null,"-","-","-","-","-","-","-","-","-","-","-","-","-","-","-","-","-","-","-","-","-","-","-","-"]
[38,{"$f":"IFERROR(DataSiswa!B41,\"\")","v":0},{"$f":"IFERROR(DataSiswa!C41,\"\")","v":0},{"$f":"IFERROR(DataSiswa!E41,\"\")","v":0},null,null,null,null,null,null,null,null,null,null,null,null,0,0,0,0,{"$f":"IFERROR(VLOOKUP(B42,DataSiswa!$B$4:$D$1003,3,FALSE),\"-\")","v":"-"},"-","-","-","-","-","-","-","-","-","-","-","-","-","-","-","-","-","-","-","-","-","-","-","-",null,"-","-","-","-","-","-","-","-","-","-","-","-","-","-","-","-","-","-","-","-","-","-","-","-",null,"-","-","-","-","-","-","-","-","-","-","-","-",null,"-","-","-","-","-","-","-","-","-","-","-","-",null,"-","-","-","-","-","-","-","-","-","-","-","-",null,"-","-","-","-","-","-","-","-","-","-","-","-",null,"-","-","-","-","-","-","-","-","-","-","-","-",null,"-","-","-","-","-","-","-","-","-","-","-","-",null,"-","-","-","-","-","-","-","-","-","-","-","-",null,"-","-","-","-","-","-","-","-","-","-","-","-",null,"-","-","-","-","-","-","-","-","-","-","-","-",null,"-","-","-","-","-","-","-","-","-","-","-","-",null,"-","-","-","-","-","-","-","-","-","-","-","-",null,"-","-","-","-","-","-","-","-","-","-","-","-",null,"-","-","-","-","-","-","-","-","-","-","-","-",null,"-","-","-","-","-","-","-","-","-","-","-","-",null,"-","-","-","-","-","-","-","-","-","-","-","-",null,"-","-","-","-","-","-","-","-","-","-","-","-",null,"-","-","-","-","-","-","-","-","-","-","-","-",null,"-","-","-","-","-","-","-","-","-","-","-","-",null,"-","-","-","-","-","-","-","-","-","-","-","-",null,"-","-","-","-","-","-","-","-","-","-","-","-",null,"-","-","-","-","-","-","-","-","-","-","-","-",null,"-","-","-","-","-","-","-","-","-","-","-","-",null,"-","-","-","-","-","-","-","-","-","-","-","-",null,"-","-","-","-","-","-","-","-","-","-","-","-",null,"-","-","-","-","-","-","-","-","-","-","-","-","-","-","-","-","-","-","-","-","-","-","-","-"]
[39,{"$f":"IFERROR(DataSiswa!B42,\"\")","v":0},{"$f":"IFERROR(DataSiswa!C42,\"\")","v":0},{"$f":"IFERROR(DataSiswa!E42,\"\")","v":0},null,null,null,null,null,null,null,null,null,null,null,null,0,0,0,0,{"$f":"IFERROR(VLOOKUP(B43,DataSiswa!$B$4:$D$1003,3,FALSE),\"-\")","v":"-"},"-","-","-","-","-","-","-","-","-","-","-","-","-","-","-","-","-","-","-","-","-","-","-","-",null,"-","-","-","-","-","-","-","-","-","-","-","-","-","-","-","-","-","-","-","-","-","-","-","-",null,"-","-","-","-","-","-","-","-","-","-","-","-",null,"-","-","-","-","-","-","-","-","-","-","-","-",null,"-","-","-","-","-","-","-","-","-","-","-","-",null,"-","-","-","-","-","-","-","-","-","-","-","-",null,"-","-","-","-","-","-","-","-","-","-","-","-",null,"-","-","-","-","-","-","-","-","-","-","-","-",null,"-","-","-","-","-","-","-","-","-","-","-","-",null,"-","-","-","-","-","-","-","-","-","-","-","-",null,"-","-","-","-","-","-","-","-","-","-","-","-",null,"-","-","-","-","-","-","-","-","-","-","-","-",null,"-","-","-","-","-","-","-","-","-","-","-","-",null,"-","-","-","-","-","-","-","-","-","-","-","-",null,"-","-","-","-","-","-","-","-","-","-","-","-",null,"-","-","-","-","-","-","-","-","-","-","-","-",null,"-","-","-","-","-","-","-","-","-","-","-","-",null,"-","-","-","-","-","-","-","-","-","-","-","-",null,"-","-","-","-","-","-","-","-","-","-","-","-",null,"-","-","-","-","-","-","-","-","-","-","-","-",null,"-","-","-","-","-","-","-","-","-","-","-","-",null,"-","-","-","-","-","-","-","-","-","-","-","-",null,"-","-","-","-","-","-","-","-","-","-","-","-",null,"-","-","-","-","-","-","-","-","-","-","-","-",null,"-","-","-","-","-","-","-","-","-","-","-","-",null,"-","-","-","-","-","-","-","-","-","-","-","-",null,"-","-","-","-","-","-","-","-","-","-","-","-","-","-","-","-","-","-","-","-","-","-","-","-"]
[40,{"$f":"IFERROR(DataSiswa!B43,\"\")","v":0},{"$f":"IFERROR(DataSiswa!C43,\"\")","v":0},{"$f":"IFERROR(DataSiswa!E43,\"\")","v":0},null,null,null,null,null,null,null,null,null,null,null,null,0,0,0,0,{"$f":"IFERROR(VLOOKUP(B44,DataSiswa!$B$4:$D$1003,3,FALSE),\"-\")","v":"-"},"-","-","-","-","-","-","-","-","-","-","-","-","-","-","-","-","-","-","-","-","-","-","-","-",null,"-","-","-","-","-","-","-","-","-","-","-","-","-","-","-","-","-","-","-","-","-","-","-","-",null,"-","-","-","-","-","-","-","-","-","-","-","-",null,"-","-","-","-","-","-","-","-","-","-","-","-",null,"-","-","-","-","-","-","-","-","-","-","-","-",null,"-","-","-","-","-","-","-","-","-","-","-","-",null,"-","-","-","-","-","-","-","-","-","-","-","-",null,"-","-","-","-","-","-","-","-","-","-","-","-",null,"-","-","-","-","-","-","-","-","-","-","-","-",null,"-","-","-","-","-","-","-","-","-","-","-","-",null,"-","-","-","-","-","-","-","-","-","-","-","-",null,"-","-","-","-","-","-","-","-","-","-","-","-",null,"-","-","-","-","-","-","-","-","-","-","-","-",null,"-","-","-","-","-","-","-","-","-","-","-","-",null,"-","-","-","-","-","-","-","-","-","-","-","-",null,"-","-","-","-","-","-","-","-","-","-","-","-",null,"-","-","-","-","-","-","-","-","-","-","-","-",null,"-","-","-","-","-","-","-","-","-","-","-","-",null,"-","-","-","-","-","-","-","-","-","-","-","-",null,"-","-","-","-","-","-","-","-","-","-","-","-",null,"-","-","-","-","-","-","-","-","-","-","-","-",null,"-","-","-","-","-","-","-","-","-","-","-","-",null,"-","-","-","-","-","-","-","-","-","-","-","-",null,"-","-","-","-","-","-","-","-","-","-","-","-",null,"-","-","-","-","-","-","-","-","-","-","-","-",null,"-","-","-","-","-","-","-","-","-","-","-","-",null,"-","-","-","-","-","-","-","-","-","-","-","-","-","-","-","-","-","-","-","-","-","-","-","-"]
[41,{"$f":"IFERROR(DataSiswa!B44,\"\")","v":0},{"$f":"IFERROR(DataSiswa!C44,\"\")","v":0},{"$f":"IFERROR(DataSiswa!E44,\"\")","v":0},null,null,null,null,null,null,null,null,null,null,null,null,0,0,0,0,{"$f":"IFERROR(VLOOKUP(B45,DataSiswa!$B$4:$D$1003,3,FALSE),\"-\")","v":"-"},"-","-","-","-","-","-","-","-","-","-","-","-","-","-","-","-","-","-","-","-","-","-","-","-",null,"-","-","-","-","-","-","-","-","-","-","-","-","-","-","-","-","-","-","-","-","-","-","-","-",null,"-","-","-","-","-","-","-","-","-","-","-","-",null,"-","-","-","-","-","-","-","-","-","-","-","-",null,"-","-","-","-","-","-","-","-","-","-","-","-",null,"-","-","-","-","-","-","-","-","-","-","-","-",null,"-","-","-","-","-","-","-","-","-","-","-","-",null,"-","-","-","-","-","-","-","-","-","-","-","-",null,"-","-","-","-","-","-","-","-","-","-","-","-",null,"-","-","-","-","-","-","-","-","-","-","-","-",null,"-","-","-","-","-","-","-","-","-","-","-","-",null,"-","-","-","-","-","-","-","-","-","-","-","-",null,"-","-","-","-","-","-","-","-","-","-","-","-",null,"-","-","-","-","-","-","-","-","-","-","-","-",null,"-","-","-","-","-","-","-","-","-","-","-","-",null,"-","-","-","-","-","-","-","-","-","-","-","-",null,"-","-","-","-","-","-","-","-","-","-","-","-",null,"-","-","-","-","-","-","-","-","-","-","-","-",null,"-","-","-","-","-","-","-","-","-","-","-","-",null,"-","-","-","-","-","-","-","-","-","-","-","-",null,"-","-","-","-","-","-","-","-","-","-","-","-",null,"-","-","-","-","-","-","-","-","-","-","-","-",null,"-","-","-","-","-","-","-","-","-","-","-","-",null,"-","-","-","-","-","-","-","-","-","-","-","-",null,"-","-","-","-","-","-","-","-","-","-","-","-",null,"-","-","-","-","-","-","-","-","-","-","-","-",null,"-","-","-","-","-","-","-","-","-","-","-","-","-","-","-","-","-","-","-","-","-","-","-","-"]
[42,{"$f":"IFERROR(DataSiswa!B45,\"\")","v":0},{"$f":"IFERROR(DataSiswa!C45,\"\")","v":0},{"$f":"IFERROR(DataSiswa!E45,\"\")","v":0},null,null,null,null,null,null,null,null,null,null,null,null,0,0,0,0,{"$f":"IFERROR(VLOOKUP(B46,DataSiswa!$B$4:$D$1003,3,FALSE),\"-\")","v":"-"},"-","-","-","-","-","-","-","-","-","-","-","-","-","-","-","-","-","-","-","-","-","-","-","-",null,"-","-","-","-","-","-","-","-","-","-","-","-","-","-","-","-","-","-","-","-","-","-","-","-",null,"-","-","-","-","-","-","-","-","-","-","-","-",null,"-","-","-","-","-","-","-","-","-","-","-","-",null,"-","-","-","-","-","-","-","-","-","-","-","-",null,"-","-","-","-","-","-","-","-","-","-","-","-",null,"-","-","-","-","-","-","-","-","-","-","-","-",null,"-","-","-","-","-","-","-","-","-","-","-","-",null,"-","-","-","-","-","-","-","-","-","-","-","-",null,"-","-","-","-","-","-","-","-","-","-","-","-",null,"-","-","-","-","-","-","-","-","-","-","-","-",null,"-","-","-","-","-","-","-","-","-","-","-","-",null,"-","-","-","-","-","-","-","-","-","-","-","-",null,"-","-","-","-","-","-","-","-","-","-","-","-",null,"-","-","-","-","-","-","-","-","-","-","-","-",null,"-","-","-","-","-","-","-","-","-","-","-","-",null,"-","-","-","-","-","-","-","-","-","-","-","-",null,"-","-","-","-","-","-","-","-","-","-","-","-",null,"-","-","-","-","-","-","-","-","-","-","-","-",null,"-","-","-","-","-","-","-","-","-","-","-","-",null,"-","-","-","-","-","-","-","-","-","-","-","-",null,"-","-","-","-","-","-","-","-","-","-","-","-",null,"-","-","-","-","-","-","-","-","-","-","-","-",null,"-","-","-","-","-","-","-","-","-","-","-","-",null,"-","-","-","-","-","-","-","-","-","-","-","-",null,"-","-","-","-","-","-","-","-","-","-","-","-",null,"-","-","-","-","-","-","-","-","-","-","-","-","-","-","-","-","-","-","-","-","-","-","-","-"]
[43,{"$f":"IFERROR(DataSiswa!B46,\"\")","v":0},{"$f":"IFERROR(DataSiswa!C46,\"\")","v":0},{"$f":"IFERROR(DataSiswa!E46,\"\")","v":0},null,null,null,null,null,null,null,null,null,null,null,null,0,0,0,0,{"$f":"IFERROR(VLOOKUP(B47,DataSiswa!$B$4:$D$1003,3,FALSE),\"-\")","v":"-"},"-","-","-","-","-","-","-","-","-","-","-","-","-","-","-","-","-","-","-","-","-","-","-","-",null,"-","-","-","-","-","-","-","-","-","-","-","-","-","-","-","-","-","-","-","-","-","-","-","-",null,"-","-","-","-","-","-","-","-","-","-","-","-",null,"-","-","-","-","-","-","-","-","-","-","-","-",null,"-","-","-","-","-","-","-","-","-","-","-","-",null,"-","-","-","-","-","-","-","-","-","-","-","-",null,"-","-","-","-","-","-","-","-","-","-","-","-",null,"-","-","-","-","-","-","-","-","-","-","-","-",null,"-","-","-","-","-","-","-","-","-","-","-","-",null,"-","-","-","-","-","-","-","-","-","-","-","-",null,"-","-","-","-","-","-","-","-","-","-","-","-",null,"-","-","-","-","-","-","-","-","-","-","-","-",null,"-","-","-","-","-","-","-","-","-","-","-","-",null,"-","-","-","-","-","-","-","-","-","-","-","-",null,"-","-","-","-","-","-","-","-","-","-","-","-",null,"-","-","-","-","-","-","-","-","-","-","-","-",null,"-","-","-","-","-","-","-","-","-","-","-","-",null,"-","-","-","-","-","-","-","-","-","-","-","-",null,"-","-","-","-","-","-","-","-","-","-","-","-",null,"-","-","-","-","-","-","-","-","-","-","-","-",null,"-","-","-","-","-","-","-","-","-","-","-","-",null,"-","-","-","-","-","-","-","-","-","-","-","-",null,"-","-","-","-","-","-","-","-","-","-","-","-",null,"-","-","-","-","-","-","-","-","-","-","-","-",null,"-","-","-","-","-","-","-","-","-","-","-","-",null,"-","-","-","-","-","-","-","-","-","-","-","-",null,"-","-","-","-","-","-","-","-","-","-","-","-","-","-","-","-","-","-","-","-","-","-","-","-"]
[44,{"$f":"IFERROR(DataSiswa!B47,\"\")","v":0},{"$f":"IFERROR(DataSiswa!C47,\"\")","v":0},{"$f":"IFERROR(DataSiswa!E47,\"\")","v":0},null,null,null,null,null,null,null,null,null,null,null,null,0,0,0,0,{"$f":"IFERROR(VLOOKUP(B48,DataSiswa!$B$4:$D$1003,3,FALSE),\"-\")","v":"-"},"-","-","-","-","-","-","-","-","-","-","-","-","-","-","-","-","-","-","-","-","-","-","-","-",null,"-","-","-","-","-","-","-","-","-","-","-","-","-","-","-","-","-","-","-","-","-","-","-","-",null,"-","-","-","-","-","-","-","-","-","-","-","-",null,"-","-","-","-","-","-","-","-","-","-","-","-",null,"-","-","-","-","-","-","-","-","-","-","-","-",null,"-","-","-","-","-","-","-","-","-","-","-","-",null,"-","-","-","-","-","-","-","-","-","-","-","-",null,"-","-","-","-","-","-","-","-","-","-","-","-",null,"-","-","-","-","-","-","-","-","-","-","-","-",null,"-","-","-","-","-","-","-","-","-","-","-","-",null,"-","-","-","-","-","-","-","-","-","-","-","-",null,"-","-","-","-","-","-","-","-","-","-","-","-",null,"-","-","-","-","-","-","-","-","-","-","-","-",null,"-","-","-","-","-","-","-","-","-","-","-","-",null,"-","-","-","-","-","-","-","-","-","-","-","-",null,"-","-","-","-","-","-","-","-","-","-","-","-",null,"-","-","-","-","-","-","-","-","-","-","-","-",null,"-","-","-","-","-","-","-","-","-","-","-","-",null,"-","-","-","-","-","-","-","-","-","-","-","-",null,"-","-","-","-","-","-","-","-","-","-","-","-",null,"-","-","-","-","-","-","-","-","-","-","-","-",null,"-","-","-","-","-","-","-","-","-","-","-","-",null,"-","-","-","-","-","-","-","-","-","-","-","-",null,"-","-","-","-","-","-","-","-","-","-","-","-",null,"-","-","-","-","-","-","-","-","-","-","-","-",null,"-","-","-","-","-","-","-","-","-","-","-","-",null,"-","-","-","-","-","-","-","-","-","-","-","-","-","-","-","-","-","-","-","-","-","-","-","-"]
[45,{"$f":"IFERROR(DataSiswa!B48,\"\")","v":0},{"$f":"IFERROR(DataSiswa!C48,\"\")","v":0},{"$f":"IFERROR(DataSiswa!E48,\"\")","v":0},null,null,null,null,null,null,null,null,null,null,null,null,0,0,0,0,{"$f":"IFERROR(VLOOKUP(B49,DataSiswa!$B$4:$D$1003,3,FALSE),\"-\")","v":"-"},"-","-","-","-","-","-","-","-","-","-","-","-","-","-","-","-","-","-","-","-","-","-","-","-",null,"-","-","-","-","-","-","-","-","-","-","-","-","-","-","-","-","-","-","-","-","-","-","-","-",null,"-","-","-","-","-","-","-","-","-","-","-","-",null,"-","-","-","-","-","-","-","-","-","-","-","-",null,"-","-","-","-","-","-","-","-","-","-","-","-",null,"-","-","-","-","-","-","-","-","-","-","-","-",null,"-","-","-","-","-","-","-","-","-","-","-","-",null,"-","-","-","-","-","-","-","-","-","-","-","-",null,"-","-","-","-","-","-","-","-","-","-","-","-",null,"-","-","-","-","-","-","-","-","-","-","-","-",null,"-","-","-","-","-","-","-","-","-","-","-","-",null,"-","-","-","-","-","-","-","-","-","-","-","-",null,"-","-","-","-","-","-","-","-","-","-","-","-",null,"-","-","-","-","-","-","-","-","-","-","-","-",null,"-","-","-","-","-","-","-","-","-","-","-","-",null,"-","-","-","-","-","-","-","-","-","-","-","-",null,"-","-","-","-","-","-","-","-","-","-","-","-",null,"-","-","-","-","-","-","-","-","-","-","-","-",null,"-","-","-","-","-","-","-","-","-","-","-","-",null,"-","-","-","-","-","-","-","-","-","-","-","-",null,"-","-","-","-","-","-","-","-","-","-","-","-",null,"-","-","-","-","-","-","-","-","-","-","-","-",null,"-","-","-","-","-","-","-","-","-","-","-","-",null,"-","-","-","-","-","-","-","-","-","-","-","-",null,"-","-","-","-","-","-","-","-","-","-","-","-",null,"-","-","-","-","-","-","-","-","-","-","-","-",null,"-","-","-","-","-","-","-","-","-","-","-","-","-","-","-","-","-","-","-","-","-","-","-","-"]
[46,{"$f":"IFERROR(DataSiswa!B49,\"\")","v":0},{"$f":"IFERROR(DataSiswa!C49,\"\")","v":0},{"$f":"IFERROR(DataSiswa!E49,\"\")","v":0},null,null,null,null,null,null,null,null,null,null,null,null,0,0,0,0,{"$f":"IFERROR(VLOOKUP(B50,DataSiswa!$B$4:$D$1003,3,FALSE),\"-\")","v":"-"},"-","-","-","-","-","-","-","-","-","-","-","-","-","-","-","-","-","-","-","-","-","-","-","-",null,"-","-","-","-","-","-","-","-","-","-","-","-","-","-","-","-","-","-","-","-","-","-","-","-",null,"-","-","-","-","-","-","-","-","-","-","-","-",null,"-","-","-","-","-","-","-","-","-","-","-","-",null,"-","-","-","-","-","-","-","-","-","-","-","-",null,"-","-","-","-","-","-","-","-","-","-","-","-",null,"-","-","-","-","-","-","-","-","-","-","-","-",null,"-","-","-","-","-","-","-","-","-","-","-","-",null,"-","-","-","-","-","-","-","-","-","-","-","-",null,"-","-","-","-","-","-","-","-","-","-","-","-",null,"-","-","-","-","-","-","-","-","-","-","-","-",null,"-","-","-","-","-","-","-","-","-","-","-","-",null,"-","-","-","-","-","-","-","-","-","-","-","-",null,"-","-","-","-","-","-","-","-","-","-","-","-",null,"-","-","-","-","-","-","-","-","-","-","-","-",null,"-","-","-","-","-","-","-","-","-","-","-","-",null,"-","-","-","-","-","-","-","-","-","-","-","-",null,"-","-","-","-","-","-","-","-","-","-","-","-",null,"-","-","-","-","-","-","-","-","-","-","-","-",null,"-","-","-","-","-","-","-","-","-","-","-","-",null,"-","-","-","-","-","-","-","-","-","-","-","-",null,"-","-","-","-","-","-","-","-","-","-","-","-",null,"-","-","-","-","-","-","-","-","-","-","-","-",null,"-","-","-","-","-","-","-","-","-","-","-","-",null,"-","-","-","-","-","-","-","-","-","-","-","-",null,"-","-","-","-","-","-","-","-","-","-","-","-",null,"-","-","-","-","-","-","-","-","-","-","-","-","-","-","-","-","-","-","-","-","-","-","-","-"]
[47,{"$f":"IFERROR(DataSiswa!B50,\"\")","v":0},{"$f":"IFERROR(DataSiswa!C50,\"\")","v":0},{"$f":"IFERROR(DataSiswa!E50,\"\")","v":0},null,null,null,null,null,null,null,null,null,null,null,null,0,0,0,0,{"$f":"IFERROR(VLOOKUP(B51,DataSiswa!$B$4:$D$1003,3,FALSE),\"-\")","v":"-"},"-","-","-","-","-","-","-","-","-","-","-","-","-","-","-","-","-","-","-","-","-","-","-","-",null,"-","-","-","-","-","-","-","-","-","-","-","-","-","-","-","-","-","-","-","-","-","-","-","-",null,"-","-","-","-","-","-","-","-","-","-","-","-",null,"-","-","-","-","-","-","-","-","-","-","-","-",null,"-","-","-","-","-","-","-","-","-","-","-","-",null,"-","-","-","-","-","-","-","-","-","-","-","-",null,"-","-","-","-","-","-","-","-","-","-","-","-",null,"-","-","-","-","-","-","-","-","-","-","-","-",null,"-","-","-","-","-","-","-","-","-","-","-","-",null,"-","-","-","-","-","-","-","-","-","-","-","-",null,"-","-","-","-","-","-","-","-","-","-","-","-",null,"-","-","-","-","-","-","-","-","-","-","-","-",null,"-","-","-","-","-","-","-","-","-","-","-","-",null,"-","-","-","-","-","-","-","-","-","-","-","-",null,"-","-","-","-","-","-","-","-","-","-","-","-",null,"-","-","-","-","-","-","-","-","-","-","-","-",null,"-","-","-","-","-","-","-","-","-","-","-","-",null,"-","-","-","-","-","-","-","-","-","-","-","-",null,"-","-","-","-","-","-","-","-","-","-","-","-",null,"-","-","-","-","-","-","-","-","-","-","-","-",null,"-","-","-","-","-","-","-","-","-","-","-","-",null,"-","-","-","-","-","-","-","-","-","-","-","-",null,"-","-","-","-","-","-","-","-","-","-","-","-",null,"-","-","-","-","-","-","-","-","-","-","-","-",null,"-","-","-","-","-","-","-","-","-","-","-","-",null,"-","-","-","-","-","-","-","-","-","-","-","-",null,"-","-","-","-","-","-","-","-","-","-","-","-","-","-","-","-","-","-","-","-","-","-","-","-"]
[48,{"$f":"IFERROR(DataSiswa!B51,\"\")","v":0},{"$f":"IFERROR(DataSiswa!C51,\"\")","v":0},{"$f":"IFERROR(DataSiswa!E51,\"\")","v":0},null,null,null,null,null,null,null,null,null,null,null,null,0,0,0,0,{"$f":"IFERROR(VLOOKUP(B52,DataSiswa!$B$4:$D$1003,3,FALSE),\"-\")","v":"-"},"-","-","-","-","-","-","-","-","-","-","-","-","-","-","-","-","-","-","-","-","-","-","-","-",null,"-","-","-","-","-","-","-","-","-","-","-","-","-","-","-","-","-","-","-","-","-","-","-","-",null,"-","-","-","-","-","-","-","-","-","-","-","-",null,"-","-","-","-","-","-","-","-","-","-","-","-",null,"-","-","-","-","-","-","-","-","-","-","-","-",null,"-","-","-","-","-","-","-","-","-","-","-","-",null,"-","-","-","-","-","-","-","-","-","-","-","-",null,"-","-","-","-","-","-","-","-","-","-","-","-",null,"-","-","-","-","-","-","-","-","-","-","-","-",null,"-","-","-","-","-","-","-","-","-","-","-","-",null,"-","-","-","-","-","-","-","-","-","-","-","-",null,"-","-","-","-","-","-","-","-","-","-","-","-",null,"-","-","-","-","-","-","-","-","-","-","-","-",null,"-","-","-","-","-","-","-","-","-","-","-","-",null,"-","-","-","-","-","-","-","-","-","-","-","-",null,"-","-","-","-","-","-","-","-","-","-","-","-",null,"-","-","-","-","-","-","-","-","-","-","-","-",null,"-","-","-","-","-","-","-","-","-","-","-","-",null,"-","-","-","-","-","-","-","-","-","-","-","-",null,"-","-","-","-","-","-","-","-","-","-","-","-",null,"-","-","-","-","-","-","-","-","-","-","-","-",null,"-","-","-","-","-","-","-","-","-","-","-","-",null,"-","-","-","-","-","-","-","-","-","-","-","-",null,"-","-","-","-","-","-","-","-","-","-","-","-",null,"-","-","-","-","-","-","-","-","-","-","-","-",null,"-","-","-","-","-","-","-","-","-","-","-","-",null,"-","-","-","-","-","-","-","-","-","-","-","-","-","-","-","-","-","-","-","-","-","-","-","-"]
[49,{"$f":"IFERROR(DataSiswa!B52,\"\")","v":0},{"$f":"IFERROR(DataSiswa!C52,\"\")","v":0},{"$f":"IFERROR(DataSiswa!E52,\"\")","v":0},null,null,null,null,null,null,null,null,null,null,null,null,0,0,0,0,{"$f":"IFERROR(VLOOKUP(B53,DataSiswa!$B$4:$D$1003,3,FALSE),\"-\")","v":"-"},"-","-","-","-","-","-","-","-","-","-","-","-","-","-","-","-","-","-","-","-","-","-","-","-",null,"-","-","-","-","-","-","-","-","-","-","-","-","-","-","-","-","-","-","-","-","-","-","-","-",null,"-","-","-","-","-","-","-","-","-","-","-","-",null,"-","-","-","-","-","-","-","-","-","-","-","-",null,"-","-","-","-","-","-","-","-","-","-","-","-",null,"-","-","-","-","-","-","-","-","-","-","-","-",null,"-","-","-","-","-","-","-","-","-","-","-","-",null,"-","-","-","-","-","-","-","-","-","-","-","-",null,"-","-","-","-","-","-","-","-","-","-","-","-",null,"-","-","-","-","-","-","-","-","-","-","-","-",null,"-","-","-","-","-","-","-","-","-","-","-","-",null,"-","-","-","-","-","-","-","-","-","-","-","-",null,"-","-","-","-","-","-","-","-","-","-","-","-",null,"-","-","-","-","-","-","-","-","-","-","-","-",null,"-","-","-","-","-","-","-","-","-","-","-","-",null,"-","-","-","-","-","-","-","-","-","-","-","-",null,"-","-","-","-","-","-","-","-","-","-","-","-",null,"-","-","-","-","-","-","-","-","-","-","-","-",null,"-","-","-","-","-","-","-","-","-","-","-","-",null,"-","-","-","-","-","-","-","-","-","-","-","-",null,"-","-","-","-","-","-","-","-","-","-","-","-",null,"-","-","-","-","-","-","-","-","-","-","-","-",null,"-","-","-","-","-","-","-","-","-","-","-","-",null,"-","-","-","-","-","-","-","-","-","-","-","-",null,"-","-","-","-","-","-","-","-","-","-","-","-",null,"-","-","-","-","-","-","-","-","-","-","-","-",null,"-","-","-","-","-","-","-","-","-","-","-","-","-","-","-","-","-","-","-","-","-","-","-","-"]
[50,{"$f":"IFERROR(DataSiswa!B53,\"\")","v":0},{"$f":"IFERROR(DataSiswa!C53,\"\")","v":0},{"$f":"IFERROR(DataSiswa!E53,\"\")","v":0},null,null,null,null,null,null,null,null,null,null,null,null,0,0,0,0,{"$f":"IFERROR(VLOOKUP(B54,DataSiswa!$B$4:$D$1003,3,FALSE),\"-\")","v":"-"},"-","-","-","-","-","-","-","-","-","-","-","-","-","-","-","-","-","-","-","-","-","-","-","-",null,"-","-","-","-","-","-","-","-","-","-","-","-","-","-","-","-","-","-","-","-","-","-","-","-",null,"-","-","-","-","-","-","-","-","-","-","-","-",null,"-","-","-","-","-","-","-","-","-","-","-","-",null,"-","-","-","-","-","-","-","-","-","-","-","-",null,"-","-","-","-","-","-","-","-","-","-","-","-",null,"-","-","-","-","-","-","-","-","-","-","-","-",null,"-","-","-","-","-","-","-","-","-","-","-","-",null,"-","-","-","-","-","-","-","-","-","-","-","-",null,"-","-","-","-","-","-","-","-","-","-","-","-",null,"-","-","-","-","-","-","-","-","-","-","-","-",null,"-","-","-","-","-","-","-","-","-","-","-","-",null,"-","-","-","-","-","-","-","-","-","-","-","-",null,"-","-","-","-","-","-","-","-","-","-","-","-",null,"-","-","-","-","-","-","-","-","-","-","-","-",null,"-","-","-","-","-","-","-","-","-","-","-","-",null,"-","-","-","-","-","-","-","-","-","-","-","-",null,"-","-","-","-","-","-","-","-","-","-","-","-",null,"-","-","-","-","-","-","-","-","-","-","-","-",null,"-","-","-","-","-","-","-","-","-","-","-","-",null,"-","-","-","-","-","-","-","-","-","-","-","-",null,"-","-","-","-","-","-","-","-","-","-","-","-",null,"-","-","-","-","-","-","-","-","-","-","-","-",null,"-","-","-","-","-","-","-","-","-","-","-","-",null,"-","-","-","-","-","-","-","-","-","-","-","-",null,"-","-","-","-","-","-","-","-","-","-","-","-",null,"-","-","-","-","-","-","-","-","-","-","-","-","-","-","-","-","-","-","-","-","-","-","-","-"]
[51,{"$f":"IFERROR(DataSiswa!B54,\"\")","v":0},{"$f":"IFERROR(DataSiswa!C54,\"\")","v":0},{"$f":"IFERROR(DataSiswa!E54,\"\")","v":0},null,null,null,null,null,null,null,null,null,null,null,null,0,0,0,0,{"$f":"IFERROR(VLOOKUP(B55,DataSiswa!$B$4:$D$1003,3,FALSE),\"-\")","v":"-"},"-","-","-","-","-","-","-","-","-","-","-","-","-","-","-","-","-","-","-","-","-","-","-","-",null,"-","-","-","-","-","-","-","-","-","-","-","-","-","-","-","-","-","-","-","-","-","-","-","-",null,"-","-","-","-","-","-","-","-","-","-","-","-",null,"-","-","-","-","-","-","-","-","-","-","-","-",null,"-","-","-","-","-","-","-","-","-","-","-","-",null,"-","-","-","-","-","-","-","-","-","-","-","-",null,"-","-","-","-","-","-","-","-","-","-","-","-",null,"-","-","-","-","-","-","-","-","-","-","-","-",null,"-","-","-","-","-","-","-","-","-","-","-","-",null,"-","-","-","-","-","-","-","-","-","-","-","-",null,"-","-","-","-","-","-","-","-","-","-","-","-",null,"-","-","-","-","-","-","-","-","-","-","-","-",null,"-","-","-","-","-","-","-","-","-","-","-","-",null,"-","-","-","-","-","-","-","-","-","-","-","-",null,"-","-","-","-","-","-","-","-","-","-","-","-",null,"-","-","-","-","-","-","-","-","-","-","-","-",null,"-","-","-","-","-","-","-","-","-","-","-","-",null,"-","-","-","-","-","-","-","-","-","-","-","-",null,"-","-","-","-","-","-","-","-","-","-","-","-",null,"-","-","-","-","-","-","-","-","-","-","-","-",null,"-","-","-","-","-","-","-","-","-","-","-","-",null,"-","-","-","-","-","-","-","-","-","-","-","-",null,"-","-","-","-","-","-","-","-","-","-","-","-",null,"-","-","-","-","-","-","-","-","-","-","-","-",null,"-","-","-","-","-","-","-","-","-","-","-","-",null,"-","-","-","-","-","-","-","-","-","-","-","-",null,"-","-","-","-","-","-","-","-","-","-","-","-","-","-","-","-","-","-","-","-","-","-","-","-"]
[52,{"$f":"IFERROR(DataSiswa!B55,\"\")","v":0},{"$f":"IFERROR(DataSiswa!C55,\"\")","v":0},{"$f":"IFERROR(DataSiswa!E55,\"\")","v":0},null,null,null,null,null,null,null,null,null,null,null,null,0,0,0,0,{"$f":"IFERROR(VLOOKUP(B56,DataSiswa!$B$4:$D$1003,3,FALSE),\"-\")","v":"-"},"-","-","-","-","-","-","-","-","-","-","-","-","-","-","-","-","-","-","-","-","-","-","-","-",null,"-","-","-","-","-","-","-","-","-","-","-","-","-","-","-","-","-","-","-","-","-","-","-","-",null,"-","-","-","-","-","-","-","-","-","-","-","-",null,"-","-","-","-","-","-","-","-","-","-","-","-",null,"-","-","-","-","-","-","-","-","-","-","-","-",null,"-","-","-","-","-","-","-","-","-","-","-","-",null,"-","-","-","-","-","-","-","-","-","-","-","-",null,"-","-","-","-","-","-","-","-","-","-","-","-",null,"-","-","-","-","-","-","-","-","-","-","-","-",null,"-","-","-","-","-","-","-","-","-","-","-","-",null,"-","-","-","-","-","-","-","-","-","-","-","-",null,"-","-","-","-","-","-","-","-","-","-","-","-",null,"-","-","-","-","-","-","-","-","-","-","-","-",null,"-","-","-","-","-","-","-","-","-","-","-","-",null,"-","-","-","-","-","-","-","-","-","-","-","-",null,"-","-","-","-","-","-","-","-","-","-","-","-",null,"-","-","-","-","-","-","-","-","-","-","-","-",null,"-","-","-","-","-","-","-","-","-","-","-","-",null,"-","-","-","-","-","-","-","-","-","-","-","-",null,"-","-","-","-","-","-","-","-","-","-","-","-",null,"-","-","-","-","-","-","-","-","-","-","-","-",null,"-","-","-","-","-","-","-","-","-","-","-","-",null,"-","-","-","-","-","-","-","-","-","-","-","-",null,"-","-","-","-","-","-","-","-","-","-","-","-",null,"-","-","-","-","-","-","-","-","-","-","-","-",null,"-","-","-","-","-","-","-","-","-","-","-","-",null,"-","-","-","-","-","-","-","-","-","-","-","-","-","-","-","-","-","-","-","-","-","-","-","-"]
[53,{"$f":"IFERROR(DataSiswa!B56,\"\")","v":0},{"$f":"IFERROR(DataSiswa!C56,\"\")","v":0},{"$f":"IFERROR(DataSiswa!E56,\"\")","v":0},null,null,null,null,null,null,null,null,null,null,null,null,0,0,0,0,{"$f":"IFERROR(VLOOKUP(B57,DataSiswa!$B$4:$D$1003,3,FALSE),\"-\")","v":"-"},"-","-","-","-","-","-","-","-","-","-","-","-","-","-","-","-","-","-","-","-","-","-","-","-",null,"-","-","-","-","-","-","-","-","-","-","-","-","-","-","-","-","-","-","-","-","-","-","-","-",null,"-","-","-","-","-","-","-","-","-","-","-","-",null,"-","-","-","-","-","-","-","-","-","-","-","-",null,"-","-","-","-","-","-","-","-","-","-","-","-",null,"-","-","-","-","-","-","-","-","-","-","-","-",null,"-","-","-","-","-","-","-","-","-","-","-","-",null,"-","-","-","-","-","-","-","-","-","-","-","-",null,"-","-","-","-","-","-","-","-","-","-","-","-",null,"-","-","-","-","-","-","-","-","-","-","-","-",null,"-","-","-","-","-","-","-","-","-","-","-","-",null,"-","-","-","-","-","-","-","-","-","-","-","-",null,"-","-","-","-","-","-","-","-","-","-","-","-",null,"-","-","-","-","-","-","-","-","-","-","-","-",null,"-","-","-","-","-","-","-","-","-","-","-","-",null,"-","-","-","-","-","-","-","-","-","-","-","-",null,"-","-","-","-","-","-","-","-","-","-","-","-",null,"-","-","-","-","-","-","-","-","-","-","-","-",null,"-","-","-","-","-","-","-","-","-","-","-","-",null,"-","-","-","-","-","-","-","-","-","-","-","-",null,"-","-","-","-","-","-","-","-","-","-","-","-",null,"-","-","-","-","-","-","-","-","-","-","-","-",null,"-","-","-","-","-","-","-","-","-","-","-","-",null,"-","-","-","-","-","-","-","-","-","-","-","-",null,"-","-","-","-","-","-","-","-","-","-","-","-",null,"-","-","-","-","-","-","-","-","-","-","-","-",null,"-","-","-","-","-","-","-","-","-","-","-","-","-","-","-","-","-","-","-","-","-","-","-","-"]
[54,{"$f":"IFERROR(DataSiswa!B57,\"\")","v":0},{"$f":"IFERROR(DataSiswa!C57,\"\")","v":0},{"$f":"IFERROR(DataSiswa!E57,\"\")","v":0},null,null,null,null,null,null,null,null,null,null,null,null,0,0,0,0,{"$f":"IFERROR(VLOOKUP(B58,DataSiswa!$B$4:$D$1003,3,FALSE),\"-\")","v":"-"},"-","-","-","-","-","-","-","-","-","-","-","-","-","-","-","-","-","-","-","-","-","-","-","-",null,"-","-","-","-","-","-","-","-","-","-","-","-","-","-","-","-","-","-","-","-","-","-","-","-",null,"-","-","-","-","-","-","-","-","-","-","-","-",null,"-","-","-","-","-","-","-","-","-","-","-","-",null,"-","-","-","-","-","-","-","-","-","-","-","-",null,"-","-","-","-","-","-","-","-","-","-","-","-",null,"-","-","-","-","-","-","-","-","-","-","-","-",null,"-","-","-","-","-","-","-","-","-","-","-","-",null,"-","-","-","-","-","-","-","-","-","-","-","-",null,"-","-","-","-","-","-","-","-","-","-","-","-",null,"-","-","-","-","-","-","-","-","-","-","-","-",null,"-","-","-","-","-","-","-","-","-","-","-","-",null,"-","-","-","-","-","-","-","-","-","-","-","-",null,"-","-","-","-","-","-","-","-","-","-","-","-",null,"-","-","-","-","-","-","-","-","-","-","-","-",null,"-","-","-","-","-","-","-","-","-","-","-","-",null,"-","-","-","-","-","-","-","-","-","-","-","-",null,"-","-","-","-","-","-","-","-","-","-","-","-",null,"-","-","-","-","-","-","-","-","-","-","-","-",null,"-","-","-","-","-","-","-","-","-","-","-","-",null,"-","-","-","-","-","-","-","-","-","-","-","-",null,"-","-","-","-","-","-","-","-","-","-","-","-",null,"-","-","-","-","-","-","-","-","-","-","-","-",null,"-","-","-","-","-","-","-","-","-","-","-","-",null,"-","-","-","-","-","-","-","-","-","-","-","-",null,"-","-","-","-","-","-","-","-","-","-","-","-",null,"-","-","-","-","-","-","-","-","-","-","-","-","-","-","-","-","-","-","-","-","-","-","-","-"]
[55,{"$f":"IFERROR(DataSiswa!B58,\"\")","v":0},{"$f":"IFERROR(DataSiswa!C58,\"\")","v":0},{"$f":"IFERROR(DataSiswa!E58,\"\")","v":0},null,null,null,null,null,null,null,null,null,null,null,null,0,0,0,0,{"$f":"IFERROR(VLOOKUP(B59,DataSiswa!$B$4:$D$1003,3,FALSE),\"-\")","v":"-"},"-","-","-","-","-","-","-","-","-","-","-","-","-","-","-","-","-","-","-","-","-","-","-","-",null,"-","-","-","-","-","-","-","-","-","-","-","-","-","-","-","-","-","-","-","-","-","-","-","-",null,"-","-","-","-","-","-","-","-","-","-","-","-",null,"-","-","-","-","-","-","-","-","-","-","-","-",null,"-","-","-","-","-","-","-","-","-","-","-","-",null,"-","-","-","-","-","-","-","-","-","-","-","-",null,"-","-","-","-","-","-","-","-","-","-","-","-",null,"-","-","-","-","-","-","-","-","-","-","-","-",null,"-","-","-","-","-","-","-","-","-","-","-","-",null,"-","-","-","-","-","-","-","-","-","-","-","-",null,"-","-","-","-","-","-","-","-","-","-","-","-",null,"-","-","-","-","-","-","-","-","-","-","-","-",null,"-","-","-","-","-","-","-","-","-","-","-","-",null,"-","-","-","-","-","-","-","-","-","-","-","-",null,"-","-","-","-","-","-","-","-","-","-","-","-",null,"-","-","-","-","-","-","-","-","-","-","-","-",null,"-","-","-","-","-","-","-","-","-","-","-","-",null,"-","-","-","-","-","-","-","-","-","-","-","-",null,"-","-","-","-","-","-","-","-","-","-","-","-",null,"-","-","-","-","-","-","-","-","-","-","-","-",null,"-","-","-","-","-","-","-","-","-","-","-","-",null,"-","-","-","-","-","-","-","-","-","-","-","-",null,"-","-","-","-","-","-","-","-","-","-","-","-",null,"-","-","-","-","-","-","-","-","-","-","-","-",null,"-","-","-","-","-","-","-","-","-","-","-","-",null,"-","-","-","-","-","-","-","-","-","-","-","-",null,"-","-","-","-","-","-","-","-","-","-","-","-","-","-","-","-","-","-","-","-","-","-","-","-"]
[56,{"$f":"IFERROR(DataSiswa!B59,\"\")","v":0},{"$f":"IFERROR(DataSiswa!C59,\"\")","v":0},{"$f":"IFERROR(DataSiswa!E59,\"\")","v":0},null,null,null,null,null,null,null,null,null,null,null,null,0,0,0,0,{"$f":"IFERROR(VLOOKUP(B60,DataSiswa!$B$4:$D$1003,3,FALSE),\"-\")","v":"-"},"-","-","-","-","-","-","-","-","-","-","-","-","-","-","-","-","-","-","-","-","-","-","-","-",null,"-","-","-","-","-","-","-","-","-","-","-","-","-","-","-","-","-","-","-","-","-","-","-","-",null,"-","-","-","-","-","-","-","-","-","-","-","-",null,"-","-","-","-","-","-","-","-","-","-","-","-",null,"-","-","-","-","-","-","-","-","-","-","-","-",null,"-","-","-","-","-","-","-","-","-","-","-","-",null,"-","-","-","-","-","-","-","-","-","-","-","-",null,"-","-","-","-","-","-","-","-","-","-","-","-",null,"-","-","-","-","-","-","-","-","-","-","-","-",null,"-","-","-","-","-","-","-","-","-","-","-","-",null,"-","-","-","-","-","-","-","-","-","-","-","-",null,"-","-","-","-","-","-","-","-","-","-","-","-",null,"-","-","-","-","-","-","-","-","-","-","-","-",null,"-","-","-","-","-","-","-","-","-","-","-","-",null,"-","-","-","-","-","-","-","-","-","-","-","-",null,"-","-","-","-","-","-","-","-","-","-","-","-",null,"-","-","-","-","-","-","-","-","-","-","-","-",null,"-","-","-","-","-","-","-","-","-","-","-","-",null,"-","-","-","-","-","-","-","-","-","-","-","-",null,"-","-","-","-","-","-","-","-","-","-","-","-",null,"-","-","-","-","-","-","-","-","-","-","-","-",null,"-","-","-","-","-","-","-","-","-","-","-","-",null,"-","-","-","-","-","-","-","-","-","-","-","-",null,"-","-","-","-","-","-","-","-","-","-","-","-",null,"-","-","-","-","-","-","-","-","-","-","-","-",null,"-","-","-","-","-","-","-","-","-","-","-","-",null,"-","-","-","-","-","-","-","-","-","-","-","-","-","-","-","-","-","-","-","-","-","-","-","-"]
[57,{"$f":"IFERROR(DataSiswa!B60,\"\")","v":0},{"$f":"IFERROR(DataSiswa!C60,\"\")","v":0},{"$f":"IFERROR(DataSiswa!E60,\"\")","v":0},null,null,null,null,null,null,null,null,null,null,null,null,0,0,0,0,{"$f":"IFERROR(VLOOKUP(B61,DataSiswa!$B$4:$D$1003,3,FALSE),\"-\")","v":"-"},"-","-","-","-","-","-","-","-","-","-","-","-","-","-","-","-","-","-","-","-","-","-","-","-",null,"-","-","-","-","-","-","-","-","-","-","-","-","-","-","-","-","-","-","-","-","-","-","-","-",null,"-","-","-","-","-","-","-","-","-","-","-","-",null,"-","-","-","-","-","-","-","-","-","-","-","-",null,"-","-","-","-","-","-","-","-","-","-","-","-",null,"-","-","-","-","-","-","-","-","-","-","-","-",null,"-","-","-","-","-","-","-","-","-","-","-","-",null,"-","-","-","-","-","-","-","-","-","-","-","-",null,"-","-","-","-","-","-","-","-","-","-","-","-",null,"-","-","-","-","-","-","-","-","-","-","-","-",null,"-","-","-","-","-","-","-","-","-","-","-","-",null,"-","-","-","-","-","-","-","-","-","-","-","-",null,"-","-","-","-","-","-","-","-","-","-","-","-",null,"-","-","-","-","-","-","-","-","-","-","-","-",null,"-","-","-","-","-","-","-","-","-","-","-","-",null,"-","-","-","-","-","-","-","-","-","-","-","-",null,"-","-","-","-","-","-","-","-","-","-","-","-",null,"-","-","-","-","-","-","-","-","-","-","-","-",null,"-","-","-","-","-","-","-","-","-","-","-","-",null,"-","-","-","-","-","-","-","-","-","-","-","-",null,"-","-","-","-","-","-","-","-","-","-","-","-",null,"-","-","-","-","-","-","-","-","-","-","-","-",null,"-","-","-","-","-","-","-","-","-","-","-","-",null,"-","-","-","-","-","-","-","-","-","-","-","-",null,"-","-","-","-","-","-","-","-","-","-","-","-",null,"-","-","-","-","-","-","-","-","-","-","-","-",null,"-","-","-","-","-","-","-","-","-","-","-","-","-","-","-","-","-","-","-","-","-","-","-","-"]
[58,{"$f":"IFERROR(DataSiswa!B61,\"\")","v":0},{"$f":"IFERROR(DataSiswa!C61,\"\")","v":0},{"$f":"IFERROR(DataSiswa!E61,\"\")","v":0},null,null,null,null,null,null,null,null,null,null,null,null,0,0,0,0,{"$f":"IFERROR(VLOOKUP(B62,DataSiswa!$B$4:$D$1003,3,FALSE),\"-\")","v":"-"},"-","-","-","-","-","-","-","-","-","-","-","-","-","-","-","-","-","-","-","-","-","-","-","-",null,"-","-","-","-","-","-","-","-","-","-","-","-","-","-","-","-","-","-","-","-","-","-","-","-",null,"-","-","-","-","-","-","-","-","-","-","-","-",null,"-","-","-","-","-","-","-","-","-","-","-","-",null,"-","-","-","-","-","-","-","-","-","-","-","-",null,"-","-","-","-","-","-","-","-","-","-","-","-",null,"-","-","-","-","-","-","-","-","-","-","-","-",null,"-","-","-","-","-","-","-","-","-","-","-","-",null,"-","-","-","-","-","-","-","-","-","-","-","-",null,"-","-","-","-","-","-","-","-","-","-","-","-",null,"-","-","-","-","-","-","-","-","-","-","-","-",null,"-","-","-","-","-","-","-","-","-","-","-","-",null,"-","-","-","-","-","-","-","-","-","-","-","-",null,"-","-","-","-","-","-","-","-","-","-","-","-",null,"-","-","-","-","-","-","-","-","-","-","-","-",null,"-","-","-","-","-","-","-","-","-","-","-","-",null,"-","-","-","-","-","-","-","-","-","-","-","-",null,"-","-","-","-","-","-","-","-","-","-","-","-",null,"-","-","-","-","-","-","-","-","-","-","-","-",null,"-","-","-","-","-","-","-","-","-","-","-","-",null,"-","-","-","-","-","-","-","-","-","-","-","-",null,"-","-","-","-","-","-","-","-","-","-","-","-",null,"-","-","-","-","-","-","-","-","-","-","-","-",null,"-","-","-","-","-","-","-","-","-","-","-","-",null,"-","-","-","-","-","-","-","-","-","-","-","-",null,"-","-","-","-","-","-","-","-","-","-","-","-",null,"-","-","-","-","-","-","-","-","-","-","-","-","-","-","-","-","-","-","-","-","-","-","-","-"]
[70,{"$f":"IFERROR(DataSiswa!B73,\"\")","v":0},{"$f":"IFERROR(DataSiswa!C73,\"\")","v":0},{"$f":"IFERROR(DataSiswa!E73,\"\")","v":0},null,null,null,null,null,null,null,null,null,null,null,null,0,0,0,0,{"$f":"IFERROR(VLOOKUP(B74,DataSiswa!$B$4:$D$1003,3,FALSE),\"-\")","v":"-"},"-","-","-","-","-","-","-","-","-","-","-","-","-","-","-","-","-","-","-","-","-","-","-","-",null,"-","-","-","-","-","-","-","-","-","-","-","-","-","-","-","-","-","-","-","-","-","-","-","-",null,"-","-","-","-","-","-","-","-","-","-","-","-",null,"-","-","-","-","-","-","-","-","-","-","-","-",null,"-","-","-","-","-","-","-","-","-","-","-","-",null,"-","-","-","-","-","-","-","-","-","-","-","-",null,"-","-","-","-","-","-","-","-","-","-","-","-",null,"-","-","-","-","-","-","-","-","-","-","-","-",null,"-","-","-","-","-","-","-","-","-","-","-","-",null,"-","-","-","-","-","-","-","-","-","-","-","-",null,"-","-","-","-","-","-","-","-","-","-","-","-",null,"-","-","-","-","-","-","-","-","-","-","-","-",null,"-","-","-","-","-","-","-","-","-","-","-","-",null,"-","-","-","-","-","-","-","-","-","-","-","-",null,"-","-","-","-","-","-","-","-","-","-","-","-",null,"-","-","-","-","-","-","-","-","-","-","-","-",null,"-","-","-","-","-","-","-","-","-","-","-","-",null,"-","-","-","-","-","-","-","-","-","-","-","-",null,"-","-","-","-","-","-","-","-","-","-","-","-",null,"-","-","-","-","-","-","-","-","-","-","-","-",null,"-","-","-","-","-","-","-","-","-","-","-","-",null,"-","-","-","-","-","-","-","-","-","-","-","-",null,"-","-","-","-","-","-","-","-","-","-","-","-",null,"-","-","-","-","-","-","-","-","-","-","-","-",null,"-","-","-","-","-","-","-","-","-","-","-","-",null,"-","-","-","-","-","-","-","-","-","-","-","-",null,"-","-","-","-","-","-","-","-","-","-","-","-","-","-","-","-","-","-","-","-","-","-","-","-"]
[74,{"$f":"IFERROR(DataSiswa!B77,\"\")","v":0},{"$f":"IFERROR(DataSiswa!C77,\"\")","v":0},{"$f":"IFERROR(DataSiswa!E77,\"\")","v":0},null,null,null,null,null,null,null,null,null,null,null,null,0,0,0,0,{"$f":"IFERROR(VLOOKUP(B78,DataSiswa!$B$4:$D$1003,3,FALSE),\"-\")","v":"-"},"-","-","-","-","-","-","-","-","-","-","-","-","-","-","-","-","-","-","-","-","-","-","-","-",null,"-","-","-","-","-","-","-","-","-","-","-","-","-","-","-","-","-","-","-","-","-","-","-","-",null,"-","-","-","-","-","-","-","-","-","-","-","-",null,"-","-","-","-","-","-","-","-","-","-","-","-",null,"-","-","-","-","-","-","-","-","-","-","-","-",null,"-","-","-","-","-","-","-","-","-","-","-","-",null,"-","-","-","-","-","-","-","-","-","-","-","-",null,"-","-","-","-","-","-","-","-","-","-","-","-",null,"-","-","-","-","-","-","-","-","-","-","-","-",null,"-","-","-","-","-","-","-","-","-","-","-","-",null,"-","-","-","-","-","-","-","-","-","-","-","-",null,"-","-","-","-","-","-","-","-","-","-","-","-",null,"-","-","-","-","-","-","-","-","-","-","-","-",null,"-","-","-","-","-","-","-","-","-","-","-","-",null,"-","-","-","-","-","-","-","-","-","-","-","-",null,"-","-","-","-","-","-","-","-","-","-","-","-",null,"-","-","-","-","-","-","-","-","-","-","-","-",null,"-","-","-","-","-","-","-","-","-","-","-","-",null,"-","-","-","-","-","-","-","-","-","-","-","-",null,"-","-","-","-","-","-","-","-","-","-","-","-",null,"-","-","-","-","-","-","-","-","-","-","-","-",null,"-","-","-","-","-","-","-","-","-","-","-","-",null,"-","-","-","-","-","-","-","-","-","-","-","-",null,"-","-","-","-","-","-","-","-","-","-","-","-",null,"-","-","-","-","-","-","-","-","-","-","-","-",null,"-","-","-","-","-","-","-","-","-","-","-","-",null,"-","-","-","-","-","-","-","-","-","-","-","-","-","-","-","-","-","-","-","-","-","-","-","-"]
[89,{"$f":"IFERROR(DataSiswa!B92,\"\")","v":0},{"$f":"IFERROR(DataSiswa!C92,\"\")","v":0},{"$f":"IFERROR(DataSiswa!E92,\"\")","v":0},null,null,null,null,null,null,null,null,null,null,null,null,0,0,0,0,{"$f":"IFERROR(VLOOKUP(B93,DataSiswa!$B$4:$D$1003,3,FALSE),\"-\")","v":"-"},"-","-","-","-","-","-","-","-","-","-","-","-","-","-","-","-","-","-","-","-","-","-","-","-",null,"-","-","-","-","-","-","-","-","-","-","-","-","-","-","-","-","-","-","-","-","-","-","-","-",null,"-","-","-","-","-","-","-","-","-","-","-","-",null,"-","-","-","-","-","-","-","-","-","-","-","-",null,"-","-","-","-","-","-","-","-","-","-","-","-",null,"-","-","-","-","-","-","-","-","-","-","-","-",null,"-","-","-","-","-","-","-","-","-","-","-","-",null,"-","-","-","-","-","-","-","-","-","-","-","-",null,"-","-","-","-","-","-","-","-","-","-","-","-",null,"-","-","-","-","-","-","-","-","-","-","-","-",null,"-","-","-","-","-","-","-","-","-","-","-","-",null,"-","-","-","-","-","-","-","-","-","-","-","-",null,"-","-","-","-","-","-","-","-","-","-","-","-",null,"-","-","-","-","-","-","-","-","-","-","-","-",null,"-","-","-","-","-","-","-","-","-","-","-","-",null,"-","-","-","-","-","-","-","-","-","-","-","-",null,"-","-","-","-","-","-","-","-","-","-","-","-",null,"-","-","-","-","-","-","-","-","-","-","-","-",null,"-","-","-","-","-","-","-","-","-","-","-","-",null,"-","-","-","-","-","-","-","-","-","-","-","-",null,"-","-","-","-","-","-","-","-","-","-","-","-",null,"-","-","-","-","-","-","-","-","-","-","-","-",null,"-","-","-","-","-","-","-","-","-","-","-","-",null,"-","-","-","-","-","-","-","-","-","-","-","-",null,"-","-","-","-","-","-","-","-","-","-","-","-",null,"-","-","-","-","-","-","-","-","-","-","-","-",null,"-","-","-","-","-","-","-","-","-","-","-","-","-","-","-","-","-","-","-","-","-","-","-","-"]
[105,{"$f":"IFERROR(DataSiswa!B108,\"\")","v":0},{"$f":"IFERROR(DataSiswa!C108,\"\")","v":0},{"$f":"IFERROR(DataSiswa!E108,\"\")","v":0},null,null,null,null,null,null,null,null,null,null,null,null,0,0,0,0,{"$f":"IFERROR(VLOOKUP(B109,DataSiswa!$B$4:$D$1003,3,FALSE),\"-\")","v":"-"},"-","-","-","-","-","-","-","-","-","-","-","-","-","-","-","-","-","-","-","-","-","-","-","-",null,"-","-","-","-","-","-","-","-","-","-","-","-","-","-","-","-","-","-","-","-","-","-","-","-",null,"-","-","-","-","-","-","-","-","-","-","-","-",null,"-","-","-","-","-","-","-","-","-","-","-","-",null,"-","-","-","-","-","-","-","-","-","-","-","-",null,"-","-","-","-","-","-","-","-","-","-","-","-",null,"-","-","-","-","-","-","-","-","-","-","-","-",null,"-","-","-","-","-","-","-","-","-","-","-","-",null,"-","-","-","-","-","-","-","-","-","-","-","-",null,"-","-","-","-","-","-","-","-","-","-","-","-",null,"-","-","-","-","-","-","-","-","-","-","-","-",null,"-","-","-","-","-","-","-","-","-","-","-","-",null,"-","-","-","-","-","-","-","-","-","-","-","-",null,"-","-","-","-","-","-","-","-","-","-","-","-",null,"-","-","-","-","-","-","-","-","-","-","-","-",null,"-","-","-","-","-","-","-","-","-","-","-","-",null,"-","-","-","-","-","-","-","-","-","-","-","-",null,"-","-","-","-","-","-","-","-","-","-","-","-",null,"-","-","-","-","-","-","-","-","-","-","-","-",null,"-","-","-","-","-","-","-","-","-","-","-","-",null,"-","-","-","-","-","-","-","-","-","-","-","-",null,"-","-","-","-","-","-","-","-","-","-","-","-",null,"-","-","-","-","-","-","-","-","-","-","-","-",null,"-","-","-","-","-","-","-","-","-","-","-","-",null,"-","-","-","-","-","-","-","-","-","-","-","-",null,"-","-","-","-","-","-","-","-","-","-","-","-",null,"-","-","-","-","-","-","-","-","-","-","-","-","-","-","-","-","-","-","-","-","-","-","-","-"]
[120,{"$f":"IFERROR(DataSiswa!B123,\"\")","v":0},{"$f":"IFERROR(DataSiswa!C123,\"\")","v":0},{"$f":"IFERROR(DataSiswa!E123,\"\")","v":0},null,null,null,null,null,null,null,null,null,null,null,null,0,0,0,0,{"$f":"IFERROR(VLOOKUP(B124,DataSiswa!$B$4:$D$1003,3,FALSE),\"-\")","v":"-"},"-","-","-","-","-","-","-","-","-","-","-","-","-","-","-","-","-","-","-","-","-","-","-","-",null,"-","-","-","-","-","-","-","-","-","-","-","-","-","-","-","-","-","-","-","-","-","-","-","-",null,"-","-","-","-","-","-","-","-","-","-","-","-",null,"-","-","-","-","-","-","-","-","-","-","-","-",null,"-","-","-","-","-","-","-","-","-","-","-","-",null,"-","-","-","-","-","-","-","-","-","-","-","-",null,"-","-","-","-","-","-","-","-","-","-","-","-",null,"-","-","-","-","-","-","-","-","-","-","-","-",null,"-","-","-","-","-","-","-","-","-","-","-","-",null,"-","-","-","-","-","-","-","-","-","-","-","-",null,"-","-","-","-","-","-","-","-","-","-","-","-",null,"-","-","-","-","-","-","-","-","-","-","-","-",null,"-","-","-","-","-","-","-","-","-","-","-","-",null,"-","-","-","-","-","-","-","-","-","-","-","-",null,"-","-","-","-","-","-","-","-","-","-","-","-",null,"-","-","-","-","-","-","-","-","-","-","-","-",null,"-","-","-","-","-","-","-","-","-","-","-","-",null,"-","-","-","-","-","-","-","-","-","-","-","-",null,"-","-","-","-","-","-","-","-","-","-","-","-",null,"-","-","-","-","-","-","-","-","-","-","-","-",null,"-","-","-","-","-","-","-","-","-","-","-","-",null,"-","-","-","-","-","-","-","-","-","-","-","-",null,"-","-","-","-","-","-","-","-","-","-","-","-",null,"-","-","-","-","-","-","-","-","-","-","-","-",null,"-","-","-","-","-","-","-","-","-","-","-","-",null,"-","-","-","-","-","-","-","-","-","-","-","-",null,"-","-","-","-","-","-","-","-","-","-","-","-","-","-","-","-","-","-","-","-","-","-","-","-"]
[135,{"$f":"IFERROR(DataSiswa!B138,\"\")","v":0},{"$f":"IFERROR(DataSiswa!C138,\"\")","v":0},{"$f":"IFERROR(DataSiswa!E138,\"\")","v":0},null,null,null,null,null,null,null,null,null,null,null,null,0,0,0,0,{"$f":"IFERROR(VLOOKUP(B139,DataSiswa!$B$4:$D$1003,3,FALSE),\"-\")","v":"-"},"-","-","-","-","-","-","-","-","-","-","-","-","-","-","-","-","-","-","-","-","-","-","-","-",null,"-","-","-","-","-","-","-","-","-","-","-","-","-","-","-","-","-","-","-","-","-","-","-","-",null,"-","-","-","-","-","-","-","-","-","-","-","-",null,"-","-","-","-","-","-","-","-","-","-","-","-",null,"-","-","-","-","-","-","-","-","-","-","-","-",null,"-","-","-","-","-","-","-","-","-","-","-","-",null,"-","-","-","-","-","-","-","-","-","-","-","-",null,"-","-","-","-","-","-","-","-","-","-","-","-",null,"-","-","-","-","-","-","-","-","-","-","-","-",null,"-","-","-","-","-","-","-","-","-","-","-","-",null,"-","-","-","-","-","-","-","-","-","-","-","-",null,"-","-","-","-","-","-","-","-","-","-","-","-",null,"-","-","-","-","-","-","-","-","-","-","-","-",null,"-","-","-","-","-","-","-","-","-","-","-","-",null,"-","-","-","-","-","-","-","-","-","-","-","-",null,"-","-","-","-","-","-","-","-","-","-","-","-",null,"-","-","-","-","-","-","-","-","-","-","-","-",null,"-","-","-","-","-","-","-","-","-","-","-","-",null,"-","-","-","-","-","-","-","-","-","-","-","-",null,"-","-","-","-","-","-","-","-","-","-","-","-",null,"-","-","-","-","-","-","-","-","-","-","-","-",null,"-","-","-","-","-","-","-","-","-","-","-","-",null,"-","-","-","-","-","-","-","-","-","-","-","-",null,"-","-","-","-","-","-","-","-","-","-","-","-",null,"-","-","-","-","-","-","-","-","-","-","-","-",null,"-","-","-","-","-","-","-","-","-","-","-","-",null,"-","-","-","-","-","-","-","-","-","-","-","-","-","-","-","-","-","-","-","-","-","-","-","-"]
[151,{"$f":"IFERROR(DataSiswa!B154,\"\")","v":0},{"$f":"IFERROR(DataSiswa!C154,\"\")","v":0},{"$f":"IFERROR(DataSiswa!E154,\"\")","v":0},null,null,null,null,null,null,null,null,null,null,null,null,0,0,0,0,{"$f":"IFERROR(VLOOKUP(B155,DataSiswa!$B$4:$D$1003,3,FALSE),\"-\")","v":"-"},"-","-","-","-","-","-","-","-","-","-","-","-","-","-","-","-","-","-","-","-","-","-","-","-",null,"-","-","-","-","-","-","-","-","-","-","-","-","-","-","-","-","-","-","-","-","-","-","-","-",null,"-","-","-","-","-","-","-","-","-","-","-","-",null,"-","-","-","-","-","-","-","-","-","-","-","-",null,"-","-","-","-","-","-","-","-","-","-","-","-",null,"-","-","-","-","-","-","-","-","-","-","-","-",null,"-","-","-","-","-","-","-","-","-","-","-","-",null,"-","-","-","-","-","-","-","-","-","-","-","-",null,"-","-","-","-","-","-","-","-","-","-","-","-",null,"-","-","-","-","-","-","-","-","-","-","-","-",null,"-","-","-","-","-","-","-","-","-","-","-","-",null,"-","-","-","-","-","-","-","-","-","-","-","-",null,"-","-","-","-","-","-","-","-","-","-","-","-",null,"-","-","-","-","-","-","-","-","-","-","-","-",null,"-","-","-","-","-","-","-","-","-","-","-","-",null,"-","-","-","-","-","-","-","-","-","-","-","-",null,"-","-","-","-","-","-","-","-","-","-","-","-",null,"-","-","-","-","-","-","-","-","-","-","-","-",null,"-","-","-","-","-","-","-","-","-","-","-","-",null,"-","-","-","-","-","-","-","-","-","-","-","-",null,"-","-","-","-","-","-","-","-","-","-","-","-",null,"-","-","-","-","-","-","-","-","-","-","-","-",null,"-","-","-","-","-","-","-","-","-","-","-","-",null,"-","-","-","-","-","-","-","-","-","-","-","-",null,"-","-","-","-","-","-","-","-","-","-","-","-",null,"-","-","-","-","-","-","-","-","-","-","-","-",null,"-","-","-","-","-","-","-","-","-","-","-","-","-","-","-","-","-","-","-","-","-","-","-","-"]
[166,{"$f":"IFERROR(DataSiswa!B169,\"\")","v":0},{"$f":"IFERROR(DataSiswa!C169,\"\")","v":0},{"$f":"IFERROR(DataSiswa!E169,\"\")","v":0},null,null,null,null,null,null,null,null,null,null,null,null,0,0,0,0,{"$f":"IFERROR(VLOOKUP(B170,DataSiswa!$B$4:$D$1003,3,FALSE),\"-\")","v":"-"},"-","-","-","-","-","-","-","-","-","-","-","-","-","-","-","-","-","-","-","-","-","-","-","-",null,"-","-","-","-","-","-","-","-","-","-","-","-","-","-","-","-","-","-","-","-","-","-","-","-",null,"-","-","-","-","-","-","-","-","-","-","-","-",null,"-","-","-","-","-","-","-","-","-","-","-","-",null,"-","-","-","-","-","-","-","-","-","-","-","-",null,"-","-","-","-","-","-","-","-","-","-","-","-",null,"-","-","-","-","-","-","-","-","-","-","-","-",null,"-","-","-","-","-","-","-","-","-","-","-","-",null,"-","-","-","-","-","-","-","-","-","-","-","-",null,"-","-","-","-","-","-","-","-","-","-","-","-",null,"-","-","-","-","-","-","-","-","-","-","-","-",null,"-","-","-","-","-","-","-","-","-","-","-","-",null,"-","-","-","-","-","-","-","-","-","-","-","-",null,"-","-","-","-","-","-","-","-","-","-","-","-",null,"-","-","-","-","-","-","-","-","-","-","-","-",null,"-","-","-","-","-","-","-","-","-","-","-","-",null,"-","-","-","-","-","-","-","-","-","-","-","-",null,"-","-","-","-","-","-","-","-","-","-","-","-",null,"-","-","-","-","-","-","-","-","-","-","-","-",null,"-","-","-","-","-","-","-","-","-","-","-","-",null,"-","-","-","-","-","-","-","-","-","-","-","-",null,"-","-","-","-","-","-","-","-","-","-","-","-",null,"-","-","-","-","-","-","-","-","-","-","-","-",null,"-","-","-","-","-","-","-","-","-","-","-","-",null,"-","-","-","-","-","-","-","-","-","-","-","-",null,"-","-","-","-","-","-","-","-","-","-","-","-",null,"-","-","-","-","-","-","-","-","-","-","-","-","-","-","-","-","-","-","-","-","-","-","-","-"]
[182,{"$f":"IFERROR(DataSiswa!B185,\"\")","v":0},{"$f":"IFERROR(DataSiswa!C185,\"\")","v":0},{"$f":"IFERROR(DataSiswa!E185,\"\")","v":0},null,null,null,null,null,null,null,null,null,null,null,null,0,0,0,0,{"$f":"IFERROR(VLOOKUP(B186,DataSiswa!$B$4:$D$1003,3,FALSE),\"-\")","v":"-"},"-","-","-","-","-","-","-","-","-","-","-","-","-","-","-","-","-","-","-","-","-","-","-","-",null,"-","-","-","-","-","-","-","-","-","-","-","-","-","-","-","-","-","-","-","-","-","-","-","-",null,"-","-","-","-","-","-","-","-","-","-","-","-",null,"-","-","-","-","-","-","-","-","-","-","-","-",null,"-","-","-","-","-","-","-","-","-","-","-","-",null,"-","-","-","-","-","-","-","-","-","-","-","-",null,"-","-","-","-","-","-","-","-","-","-","-","-",null,"-","-","-","-","-","-","-","-","-","-","-","-",null,"-","-","-","-","-","-","-","-","-","-","-","-",null,"-","-","-","-","-","-","-","-","-","-","-","-",null,"-","-","-","-","-","-","-","-","-","-","-","-",null,"-","-","-","-","-","-","-","-","-","-","-","-",null,"-","-","-","-","-","-","-","-","-","-","-","-",null,"-","-","-","-","-","-","-","-","-","-","-","-",null,"-","-","-","-","-","-","-","-","-","-","-","-",null,"-","-","-","-","-","-","-","-","-","-","-","-",null,"-","-","-","-","-","-","-","-","-","-","-","-",null,"-","-","-","-","-","-","-","-","-","-","-","-",null,"-","-","-","-","-","-","-","-","-","-","-","-",null,"-","-","-","-","-","-","-","-","-","-","-","-",null,"-","-","-","-","-","-","-","-","-","-","-","-",null,"-","-","-","-","-","-","-","-","-","-","-","-",null,"-","-","-","-","-","-","-","-","-","-","-","-",null,"-","-","-","-","-","-","-","-","-","-","-","-",null,"-","-","-","-","-","-","-","-","-","-","-","-",null,"-","-","-","-","-","-","-","-","-","-","-","-",null,"-","-","-","-","-","-","-","-","-","-","-","-","-","-","-","-","-","-","-","-","-","-","-","-"]
[197,{"$f":"IFERROR(DataSiswa!B200,\"\")","v":0},{"$f":"IFERROR(DataSiswa!C200,\"\")","v":0},{"$f":"IFERROR(DataSiswa!E200,\"\")","v":0},null,null,null,null,null,null,null,null,null,null,null,null,0,0,0,0,{"$f":"IFERROR(VLOOKUP(B201,DataSiswa!$B$4:$D$1003,3,FALSE),\"-\")","v":"-"},"-","-","-","-","-","-","-","-","-","-","-","-","-","-","-","-","-","-","-","-","-","-","-","-",null,"-","-","-","-","-","-","-","-","-","-","-","-","-","-","-","-","-","-","-","-","-","-","-","-",null,"-","-","-","-","-","-","-","-","-","-","-","-",null,"-","-","-","-","-","-","-","-","-","-","-","-",null,"-","-","-","-","-","-","-","-","-","-","-","-",null,"-","-","-","-","-","-","-","-","-","-","-","-",null,"-","-","-","-","-","-","-","-","-","-","-","-",null,"-","-","-","-","-","-","-","-","-","-","-","-",null,"-","-","-","-","-","-","-","-","-","-","-","-",null,"-","-","-","-","-","-","-","-","-","-","-","-",null,"-","-","-","-","-","-","-","-","-","-","-","-",null,"-","-","-","-","-","-","-","-","-","-","-","-",null,"-","-","-","-","-","-","-","-","-","-","-","-",null,"-","-","-","-","-","-","-","-","-","-","-","-",null,"-","-","-","-","-","-","-","-","-","-","-","-",null,"-","-","-","-","-","-","-","-","-","-","-","-",null,"-","-","-","-","-","-","-","-","-","-","-","-",null,"-","-","-","-","-","-","-","-","-","-","-","-",null,"-","-","-","-","-","-","-","-","-","-","-","-",null,"-","-","-","-","-","-","-","-","-","-","-","-",null,"-","-","-","-","-","-","-","-","-","-","-","-",null,"-","-","-","-","-","-","-","-","-","-","-","-",null,"-","-","-","-","-","-","-","-","-","-","-","-",null,"-","-","-","-","-","-","-","-","-","-","-","-",null,"-","-","-","-","-","-","-","-","-","-","-","-",null,"-","-","-","-","-","-","-","-","-","-","-","-",null,"-","-","-","-","-","-","-","-","-","-","-","-","-","-","-","-","-","-","-","-","-","-","-","-"]
[212,{"$f":"IFERROR(DataSiswa!B215,\"\")","v":0},{"$f":"IFERROR(DataSiswa!C215,\"\")","v":0},{"$f":"IFERROR(DataSiswa!E215,\"\")","v":0},null,null,null,null,null,null,null,null,null,null,null,null,0,0,0,0,{"$f":"IFERROR(VLOOKUP(B216,DataSiswa!$B$4:$D$1003,3,FALSE),\"-\")","v":"-"},"-","-","-","-","-","-","-","-","-","-","-","-","-","-","-","-","-","-","-","-","-","-","-","-",null,"-","-","-","-","-","-","-","-","-","-","-","-","-","-","-","-","-","-","-","-","-","-","-","-",null,"-","-","-","-","-","-","-","-","-","-","-","-",null,"-","-","-","-","-","-","-","-","-","-","-","-",null,"-","-","-","-","-","-","-","-","-","-","-","-",null,"-","-","-","-","-","-","-","-","-","-","-","-",null,"-","-","-","-","-","-","-","-","-","-","-","-",null,"-","-","-","-","-","-","-","-","-","-","-","-",null,"-","-","-","-","-","-","-","-","-","-","-","-",null,"-","-","-","-","-","-","-","-","-","-","-","-",null,"-","-","-","-","-","-","-","-","-","-","-","-",null,"-","-","-","-","-","-","-","-","-","-","-","-",null,"-","-","-","-","-","-","-","-","-","-","-","-",null,"-","-","-","-","-","-","-","-","-","-","-","-",null,"-","-","-","-","-","-","-","-","-","-","-","-",null,"-","-","-","-","-","-","-","-","-","-","-","-",null,"-","-","-","-","-","-","-","-","-","-","-","-",null,"-","-","-","-","-","-","-","-","-","-","-","-",null,"-","-","-","-","-","-","-","-","-","-","-","-",null,"-","-","-","-","-","-","-","-","-","-","-","-",null,"-","-","-","-","-","-","-","-","-","-","-","-",null,"-","-","-","-","-","-","-","-","-","-","-","-",null,"-","-","-","-","-","-","-","-","-","-","-","-",null,"-","-","-","-","-","-","-","-","-","-","-","-",null,"-","-","-","-","-","-","-","-","-","-","-","-",null,"-","-","-","-","-","-","-","-","-","-","-","-",null,"-","-","-","-","-","-","-","-","-","-","-","-","-","-","-","-","-","-","-","-","-","-","-","-"]
[228,{"$f":"IFERROR(DataSiswa!B231,\"\")","v":0},{"$f":"IFERROR(DataSiswa!C231,\"\")","v":0},{"$f":"IFERROR(DataSiswa!E231,\"\")","v":0},null,null,null,null,null,null,null,null,null,null,null,null,0,0,0,0,{"$f":"IFERROR(VLOOKUP(B232,DataSiswa!$B$4:$D$1003,3,FALSE),\"-\")","v":"-"},"-","-","-","-","-","-","-","-","-","-","-","-","-","-","-","-","-","-","-","-","-","-","-","-",null,"-","-","-","-","-","-","-","-","-","-","-","-","-","-","-","-","-","-","-","-","-","-","-","-",null,"-","-","-","-","-","-","-","-","-","-","-","-",null,"-","-","-","-","-","-","-","-","-","-","-","-",null,"-","-","-","-","-","-","-","-","-","-","-","-",null,"-","-","-","-","-","-","-","-","-","-","-","-",null,"-","-","-","-","-","-","-","-","-","-","-","-",null,"-","-","-","-","-","-","-","-","-","-","-","-",null,"-","-","-","-","-","-","-","-","-","-","-","-",null,"-","-","-","-","-","-","-","-","-","-","-","-",null,"-","-","-","-","-","-","-","-","-","-","-","-",null,"-","-","-","-","-","-","-","-","-","-","-","-",null,"-","-","-","-","-","-","-","-","-","-","-","-",null,"-","-","-","-","-","-","-","-","-","-","-","-",null,"-","-","-","-","-","-","-","-","-","-","-","-",null,"-","-","-","-","-","-","-","-","-","-","-","-",null,"-","-","-","-","-","-","-","-","-","-","-","-",null,"-","-","-","-","-","-","-","-","-","-","-","-",null,"-","-","-","-","-","-","-","-","-","-","-","-",null,"-","-","-","-","-","-","-","-","-","-","-","-",null,"-","-","-","-","-","-","-","-","-","-","-","-",null,"-","-","-","-","-","-","-","-","-","-","-","-",null,"-","-","-","-","-","-","-","-","-","-","-","-",null,"-","-","-","-","-","-","-","-","-","-","-","-",null,"-","-","-","-","-","-","-","-","-","-","-","-",null,"-","-","-","-","-","-","-","-","-","-","-","-",null,"-","-","-","-","-","-","-","-","-","-","-","-","-","-","-","-","-","-","-","-","-","-","-","-"]
[243,{"$f":"IFERROR(DataSiswa!B246,\"\")","v":0},{"$f":"IFERROR(DataSiswa!C246,\"\")","v":0},{"$f":"IFERROR(DataSiswa!E246,\"\")","v":0},null,null,null,null,null,null,null,null,null,null,null,null,0,0,0,0,{"$f":"IFERROR(VLOOKUP(B247,DataSiswa!$B$4:$D$1003,3,FALSE),\"-\")","v":"-"},"-","-","-","-","-","-","-","-","-","-","-","-","-","-","-","-","-","-","-","-","-","-","-","-",null,"-","-","-","-","-","-","-","-","-","-","-","-","-","-","-","-","-","-","-","-","-","-","-","-",null,"-","-","-","-","-","-","-","-","-","-","-","-",null,"-","-","-","-","-","-","-","-","-","-","-","-",null,"-","-","-","-","-","-","-","-","-","-","-","-",null,"-","-","-","-","-","-","-","-","-","-","-","-",null,"-","-","-","-","-","-","-","-","-","-","-","-",null,"-","-","-","-","-","-","-","-","-","-","-","-",null,"-","-","-","-","-","-","-","-","-","-","-","-",null,"-","-","-","-","-","-","-","-","-","-","-","-",null,"-","-","-","-","-","-","-","-","-","-","-","-",null,"-","-","-","-","-","-","-","-","-","-","-","-",null,"-","-","-","-","-","-","-","-","-","-","-","-",null,"-","-","-","-","-","-","-","-","-","-","-","-",null,"-","-","-","-","-","-","-","-","-","-","-","-",null,"-","-","-","-","-","-","-","-","-","-","-","-",null,"-","-","-","-","-","-","-","-","-","-","-","-",null,"-","-","-","-","-","-","-","-","-","-","-","-",null,"-","-","-","-","-","-","-","-","-","-","-","-",null,"-","-","-","-","-","-","-","-","-","-","-","-",null,"-","-","-","-","-","-","-","-","-","-","-","-",null,"-","-","-","-","-","-","-","-","-","-","-","-",null,"-","-","-","-","-","-","-","-","-","-","-","-",null,"-","-","-","-","-","-","-","-","-","-","-","-",null,"-","-","-","-","-","-","-","-","-","-","-","-",null,"-","-","-","-","-","-","-","-","-","-","-","-",null,"-","-","-","-","-","-","-","-","-","-","-","-","-","-","-","-","-","-","-","-","-","-","-","-"]
[258,{"$f":"IFERROR(DataSiswa!B261,\"\")","v":0},{"$f":"IFERROR(DataSiswa!C261,\"\")","v":0},{"$f":"IFERROR(DataSiswa!E261,\"\")","v":0},null,null,null,null,null,null,null,null,null,null,null,null,{"$f":"SUM(E262:P262)","v":0},{"$f":"D262*12-Q262","v":0},{"$f":"D262*6","v":0},{"$f":"D262*12","v":0},{"$f":"IFERROR(VLOOKUP(B262,DataSiswa!$B$4:$D$1003,3,FALSE),\"-\")","v":"-"},{"$f":"IF(U262=\"1A\",Q262,\"-\")","v":"-"},{"$f":"IF(U262=\"1B\",Q262,\"-\")","v":"-"},{"$f":"IF(U262=\"1C\",Q262,\"-\")","v":"-"},{"$f":"IF(U262=\"1D\",Q262,\"-\")","v":"-"},{"$f":"IF(U262=\"2A\",Q262,\"-\")","v":"-"},{"$f":"IF(U262=\"2B\",Q262,\"-\")","v":"-"},{"$f":"IF(U262=\"2C\",Q262,\"-\")","v":"-"},{"$f":"IF(U262=\"2D\",Q262,\"-\")","v":"-"},{"$f":"IF(U262=\"3A\",Q262,\"-\")","v":"-"},{"$f":"IF(U262=\"3B\",Q262,\"-\")","v":"-"},{"$f":"IF(U262=\"3C\",Q262,\"-\")","v":"-"},{"$f":"IF(U262=\"3D\",Q262,\"-\")","v":"-"},{"$f":"IF(U262=\"4A\",Q262,\"-\")","v":"-"},{"$f":"IF(U262=\"4B\",Q262,\"-\")","v":"-"},{"$f":"IF(U262=\"4C\",Q262,\"-\")","v":"-"},{"$f":"IF(U262=\"4D\",Q262,\"-\")","v":"-"},{"$f":"IF(U262=\"5A\",Q262,\"-\")","v":"-"},{"$f":"IF(U262=\"5B\",Q262,\"-\")","v":"-"},{"$f":"IF(U262=\"5C\",Q262,\"-\")","v":"-"},{"$f":"IF(U262=\"5D\",Q262,\"-\")","v":"-"},{"$f":"IF(U262=\"6A\",Q262,\"-\")","v":"-"},{"$f":"IF(U262=\"6B\",Q262,\"-\")","v":"-"},{"$f":"IF(U262=\"6C\",Q262,\"-\")","v":"-"},{"$f":"IF(U262=\"6D\",Q262,\"-\")","v":"-"},null,{"$f":"IF(U262=\"1A\",D262*12,\"-\")","v":"-"},{"$f":"IF(U262=\"1B\",D262*12,\"-\")","v":"-"},{"$f":"IF(U262=\"1C\",D262*12,\"-\")","v":"-"},{"$f":"IF(U262=\"1D\",D262*12,\"-\")","v":"-"},{"$f":"IF(U262=\"2A\",D262*12,\"-\")","v":"-"},{"$f":"IF(U262=\"2B\",D262*12,\"-\")","v":"-"},{"$f":"IF(U262=\"2C\",D262*12,\"-\")","v":"-"},{"$f":"IF(U262=\"2D\",D262*12,\"-\")","v":"-"},{"$f":"IF(U262=\"3A\",D262*12,\"-\")","v":"-"},{"$f":"IF(U262=\"3B\",D262*12,\"-\")","v":"-"},{"$f":"IF(U262=\"3C\",D262*12,\"-\")","v":"-"},{"$f":"IF(U262=\"3D\",D262*12,\"-\")","v":"-"},{"$f":"IF(U262=\"4A\",D262*12,\"-\")","v":"-"},{"$f":"IF(U262=\"4B\",D262*12,\"-\")","v":"-"},{"$f":"IF(U262=\"4C\",D262*12,\"-\")","v":"-"},{"$f":"IF(U262=\"4D\",D262*12,\"-\")","v":"-"},{"$f":"IF(U262=\"5A\",D262*12,\"-\")","v":"-"},{"$f":"IF(U262=\"5B\",D262*12,\"-\")","v":"-"},{"$f":"IF(U262=\"5C\",D262*12,\"-\")","v":"-"},{"$f":"IF(U262=\"5D\",D262*12,\"-\")","v":"-"},{"$f":"IF(U262=\"6A\",D262*12,\"-\")","v":"-"},{"$f":"IF(U262=\"6B\",D262*12,\"-\")","v":"-"},{"$f":"IF(U262=\"6C\",D262*12,\"-\")","v":"-"},{"$f":"IF(U262=\"6D\",D262*12,\"-\")","v":"-"},null,{"$f":"IF(U262=\"1A\",E262,\"-\")","v":"-"},{"$f":"IF(U262=\"1A\",F262,\"-\")","v":"-"},{"$f":"IF(U262=\"1A\",G262,\"-\")","v":"-"},{"$f":"IF(U262=\"1A\",H262,\"-\")","v":"-"},{"$f":"IF(U262=\"1A\",I262,\"-\")","v":"-"},{"$f":"IF(U262=\"1A\",J262,\"-\")","v":"-"},{"$f":"IF(U262=\"1A\",K262,\"-\")","v":"-"},{"$f":"IF(U262=\"1A\",L262,\"-\")","v":"-"},{"$f":"IF(U262=\"1A\",M262,\"-\")","v":"-"},{"$f":"IF(U262=\"1A\",N262,\"-\")","v":"-"},{"$f":"IF(U262=\"1A\",O262,\"-\")","v":"-"},{"$f":"IF(U262=\"1A\",P262,\"-\")","v":"-"},null,{"$f":"IF(U262=\"1B\",E262,\"-\")","v":"-"},{"$f":"IF(U262=\"1B\",F262,\"-\")","v":"-"},{"$f":"IF(U262=\"1B\",G262,\"-\")","v":"-"},{"$f":"IF(U262=\"1B\",H262,\"-\")","v":"-"},{"$f":"IF(U262=\"1B\",I262,\"-\")","v":"-"},{"$f":"IF(U262=\"1B\",J262,\"-\")","v":"-"},{"$f":"IF(U262=\"1B\",K262,\"-\")","v":"-"},{"$f":"IF(U262=\"1B\",L262,\"-\")","v":"-"},{"$f":"IF(U262=\"1B\",M262,\"-\")","v":"-"},{"$f":"IF(U262=\"1B\",N262,\"-\")","v":"-"},{"$f":"IF(U262=\"1B\",O262,\"-\")","v":"-"},{"$f":"IF(U262=\"1B\",P262,\"-\")","v":"-"},null,{"$f":"IF(U262=\"1C\",E262,\"-\")","v":"-"},{"$f":"IF(U262=\"1C\",F262,\"-\")","v":"-"},{"$f":"IF(U262=\"1C\",G262,\"-\")","v":"-"},{"$f":"IF(U262=\"1C\",H262,\"-\")","v":"-"},{"$f":"IF(U262=\"1C\",I262,\"-\")","v":"-"},{"$f":"IF(U262=\"1C\",J262,\"-\")","v":"-"},{"$f":"IF(U262=\"1C\",K262,\"-\")","v":"-"},{"$f":"IF(U262=\"1C\",L262,\"-\")","v":"-"},{"$f":"IF(U262=\"1C\",M262,\"-\")","v":"-"},{"$f":"IF(U262=\"1C\",N262,\"-\")","v":"-"},{"$f":"IF(U262=\"1C\",O262,\"-\")","v":"-"},{"$f":"IF(U262=\"1C\",P262,\"-\")","v":"-"},null,{"$f":"IF(U262=\"1D\",E262,\"-\")","v":"-"},{"$f":"IF(U262=\"1D\",F262,\"-\")","v":"-"},{"$f":"IF(U262=\"1D\",G262,\"-\")","v":"-"},{"$f":"IF(U262=\"1D\",H262,\"-\")","v":"-"},{"$f":"IF(U262=\"1D\",I262,\"-\")","v":"-"},{"$f":"IF(U262=\"1D\",J262,\"-\")","v":"-"},{"$f":"IF(U262=\"1D\",K262,\"-\")","v":"-"},{"$f":"IF(U262=\"1D\",L262,\"-\")","v":"-"},{"$f":"IF(U262=\"1D\",M262,\"-\")","v":"-"},{"$f":"IF(U262=\"1D\",N262,\"-\")","v":"-"},{"$f":"IF(U262=\"1D\",O262,\"-\")","v":"-"},{"$f":"IF(U262=\"1D\",P262,\"-\")","v":"-"},null,{"$f":"IF(U262=\"2A\",E262,\"-\")","v":"-"},{"$f":"IF(U262=\"2A\",F262,\"-\")","v":"-"},{"$f":"IF(U262=\"2A\",G262,\"-\")","v":"-"},{"$f":"IF(U262=\"2A\",H262,\"-\")","v":"-"},{"$f":"IF(U262=\"2A\",I262,\"-\")","v":"-"},{"$f":"IF(U262=\"2A\",J262,\"-\")","v":"-"},{"$f":"IF(U262=\"2A\",K262,\"-\")","v":"-"},{"$f":"IF(U262=\"2A\",L262,\"-\")","v":"-"},{"$f":"IF(U262=\"2A\",M262,\"-\")","v":"-"},{"$f":"IF(U262=\"2A\",N262,\"-\")","v":"-"},{"$f":"IF(U262=\"2A\",O262,\"-\")","v":"-"},{"$f":"IF(U262=\"2A\",P262,\"-\")","v":"-"},null,{"$f":"IF(U262=\"2B\",E262,\"-\")","v":"-"},{"$f":"IF(U262=\"2B\",F262,\"-\")","v":"-"},{"$f":"IF(U262=\"2B\",G262,\"-\")","v":"-"},{"$f":"IF(U262=\"2B\",H262,\"-\")","v":"-"},{"$f":"IF(U262=\"2B\",I262,\"-\")","v":"-"},{"$f":"IF(U262=\"2B\",J262,\"-\")","v":"-"},{"$f":"IF(U262=\"2B\",K262,\"-\")","v":"-"},{"$f":"IF(U262=\"2B\",L262,\"-\")","v":"-"},{"$f":"IF(U262=\"2B\",M262,\"-\")","v":"-"},{"$f":"IF(U262=\"2B\",N262,\"-\")","v":"-"},{"$f":"IF(U262=\"2B\",O262,\"-\")","v":"-"},{"$f":"IF(U262=\"2B\",P262,\"-\")","v":"-"},null,{"$f":"IF(U262=\"2C\",E262,\"-\")","v":"-"},{"$f":"IF(U262=\"2C\",F262,\"-\")","v":"-"},{"$f":"IF(U262=\"2C\",G262,\"-\")","v":"-"},{"$f":"IF(U262=\"2C\",H262,\"-\")","v":"-"},{"$f":"IF(U262=\"2C\",I262,\"-\")","v":"-"},{"$f":"IF(U262=\"2C\",J262,\"-\")","v":"-"},{"$f":"IF(U262=\"2C\",K262,\"-\")","v":"-"},{"$f":"IF(U262=\"2C\",L262,\"-\")","v":"-"},{"$f":"IF(U262=\"2C\",M262,\"-\")","v":"-"},{"$f":"IF(U262=\"2C\",N262,\"-\")","v":"-"},{"$f":"IF(U262=\"2C\",O262,\"-\")","v":"-"},{"$f":"IF(U262=\"2C\",P262,\"-\")","v":"-"},null,{"$f":"IF(U262=\"2D\",E262,\"-\")","v":"-"},{"$f":"IF(U262=\"2D\",F262,\"-\")","v":"-"},{"$f":"IF(U262=\"2D\",G262,\"-\")","v":"-"},{"$f":"IF(U262=\"2D\",H262,\"-\")","v":"-"},{"$f":"IF(U262=\"2D\",I262,\"-\")","v":"-"},{"$f":"IF(U262=\"2D\",J262,\"-\")","v":"-"},{"$f":"IF(U262=\"2D\",K262,\"-\")","v":"-"},{"$f":"IF(U262=\"2D\",L262,\"-\")","v":"-"},{"$f":"IF(U262=\"2D\",M262,\"-\")","v":"-"},{"$f":"IF(U262=\"2D\",N262,\"-\")","v":"-"},{"$f":"IF(U262=\"2D\",O262,\"-\")","v":"-"},{"$f":"IF(U262=\"2D\",P262,\"-\")","v":"-"},null,{"$f":"IF(U262=\"3A\",E262,\"-\")","v":"-"},{"$f":"IF(U262=\"3A\",F262,\"-\")","v":"-"},{"$f":"IF(U262=\"3A\",G262,\"-\")","v":"-"},{"$f":"IF(U262=\"3A\",H262,\"-\")","v":"-"},{"$f":"IF(U262=\"3A\",I262,\"-\")","v":"-"},{"$f":"IF(U262=\"3A\",J262,\"-\")","v":"-"},{"$f":"IF(U262=\"3A\",K262,\"-\")","v":"-"},{"$f":"IF(U262=\"3A\",L262,\"-\")","v":"-"},{"$f":"IF(U262=\"3A\",M262,\"-\")","v":"-"},{"$f":"IF(U262=\"3A\",N262,\"-\")","v":"-"},{"$f":"IF(U262=\"3A\",O262,\"-\")","v":"-"},{"$f":"IF(U262=\"3A\",P262,\"-\")","v":"-"},null,{"$f":"IF(U262=\"3B\",E262,\"-\")","v":"-"},{"$f":"IF(U262=\"3B\",F262,\"-\")","v":"-"},{"$f":"IF(U262=\"3B\",G262,\"-\")","v":"-"},{"$f":"IF(U262=\"3B\",H262,\"-\")","v":"-"},{"$f":"IF(U262=\"3B\",I262,\"-\")","v":"-"},{"$f":"IF(U262=\"3B\",J262,\"-\")","v":"-"},{"$f":"IF(U262=\"3B\",K262,\"-\")","v":"-"},{"$f":"IF(U262=\"3B\",L262,\"-\")","v":"-"},{"$f":"IF(U262=\"3B\",M262,\"-\")","v":"-"},{"$f":"IF(U262=\"3B\",N262,\"-\")","v":"-"},{"$f":"IF(U262=\"3B\",O262,\"-\")","v":"-"},{"$f":"IF(U262=\"3B\",P262,\"-\")","v":"-"},null,{"$f":"IF(U262=\"3C\",E262,\"-\")","v":"-"},{"$f":"IF(U262=\"3C\",F262,\"-\")","v":"-"},{"$f":"IF(U262=\"3C\",G262,\"-\")","v":"-"},{"$f":"IF(U262=\"3C\",H262,\"-\")","v":"-"},{"$f":"IF(U262=\"3C\",I262,\"-\")","v":"-"},{"$f":"IF(U262=\"3C\",J262,\"-\")","v":"-"},{"$f":"IF(U262=\"3C\",K262,\"-\")","v":"-"},{"$f":"IF(U262=\"3C\",L262,\"-\")","v":"-"},{"$f":"IF(U262=\"3C\",M262,\"-\")","v":"-"},{"$f":"IF(U262=\"3C\",N262,\"-\")","v":"-"},{"$f":"IF(U262=\"3C\",O262,\"-\")","v":"-"},{"$f":"IF(U262=\"3C\",P262,\"-\")","v":"-"},null,{"$f":"IF(U262=\"3D\",E262,\"-\")","v":"-"},{"$f":"IF(U262=\"3D\",F262,\"-\")","v":"-"},{"$f":"IF(U262=\"3D\",G262,\"-\")","v":"-"},{"$f":"IF(U262=\"3D\",H262,\"-\")","v":"-"},{"$f":"IF(U262=\"3D\",I262,\"-\")","v":"-"},{"$f":"IF(U262=\"3D\",J262,\"-\")","v":"-"},{"$f":"IF(U262=\"3D\",K262,\"-\")","v":"-"},{"$f":"IF(U262=\"3D\",L262,\"-\")","v":"-"},{"$f":"IF(U262=\"3D\",M262,\"-\")","v":"-"},{"$f":"IF(U262=\"3D\",N262,\"-\")","v":"-"},{"$f":"IF(U262=\"3D\",O262,\"-\")","v":"-"},{"$f":"IF(U262=\"3D\",P262,\"-\")","v":"-"},null,{"$f":"IF(U262=\"4A\",E262,\"-\")","v":"-"},{"$f":"IF(U262=\"4A\",F262,\"-\")","v":"-"},{"$f":"IF(U262=\"4A\",G262,\"-\")","v":"-"},{"$f":"IF(U262=\"4A\",H262,\"-\")","v":"-"},{"$f":"IF(U262=\"4A\",I262,\"-\")","v":"-"},{"$f":"IF(U262=\"4A\",J262,\"-\")","v":"-"},{"$f":"IF(U262=\"4A\",K262,\"-\")","v":"-"},{"$f":"IF(U262=\"4A\",L262,\"-\")","v":"-"},{"$f":"IF(U262=\"4A\",M262,\"-\")","v":"-"},{"$f":"IF(U262=\"4A\",N262,\"-\")","v":"-"},{"$f":"IF(U262=\"4A\",O262,\"-\")","v":"-"},{"$f":"IF(U262=\"4A\",P262,\"-\")","v":"-"},null,{"$f":"IF(U262=\"4B\",E262,\"-\")","v":"-"},{"$f":"IF(U262=\"4B\",F262,\"-\")","v":"-"},{"$f":"IF(U262=\"4B\",G262,\"-\")","v":"-"},{"$f":"IF(U262=\"4B\",H262,\"-\")","v":"-"},{"$f":"IF(U262=\"4B\",I262,\"-\")","v":"-"},{"$f":"IF(U262=\"4B\",J262,\"-\")","v":"-"},{"$f":"IF(U262=\"4B\",K262,\"-\")","v":"-"},{"$f":"IF(U262=\"4B\",L262,\"-\")","v":"-"},{"$f":"IF(U262=\"4B\",M262,\"-\")","v":"-"},{"$f":"IF(U262=\"4B\",N262,\"-\")","v":"-"},{"$f":"IF(U262=\"4B\",O262,\"-\")","v":"-"},{"$f":"IF(U262=\"4B\",P262,\"-\")","v":"-"},null,{"$f":"IF(U262=\"4C\",E262,\"-\")","v":"-"},{"$f":"IF(U262=\"4C\",F262,\"-\")","v":"-"},{"$f":"IF(U262=\"4C\",G262,\"-\")","v":"-"},{"$f":"IF(U262=\"4C\",H262,\"-\")","v":"-"},{"$f":"IF(U262=\"4C\",I262,\"-\")","v":"-"},{"$f":"IF(U262=\"4C\",J262,\"-\")","v":"-"},{"$f":"IF(U262=\"4C\",K262,\"-\")","v":"-"},{"$f":"IF(U262=\"4C\",L262,\"-\")","v":"-"},{"$f":"IF(U262=\"4C\",M262,\"-\")","v":"-"},{"$f":"IF(U262=\"4C\",N262,\"-\")","v":"-"},{"$f":"IF(U262=\"4C\",O262,\"-\")","v":"-"},{"$f":"IF(U262=\"4C\",P262,\"-\")","v":"-"},null,{"$f":"IF(U262=\"4D\",E262,\"-\")","v":"-"},{"$f":"IF(U262=\"4D\",F262,\"-\")","v":"-"},{"$f":"IF(U262=\"4D\",G262,\"-\")","v":"-"},{"$f":"IF(U262=\"4D\",H262,\"-\")","v":"-"},{"$f":"IF(U262=\"4D\",I262,\"-\")","v":"-"},{"$f":"IF(U262=\"4D\",J262,\"-\")","v":"-"},{"$f":"IF(U262=\"4D\",K262,\"-\")","v":"-"},{"$f":"IF(U262=\"4D\",L262,\"-\")","v":"-"},{"$f":"IF(U262=\"4D\",M262,\"-\")","v":"-"},{"$f":"IF(U262=\"4D\",N262,\"-\")","v":"-"},{"$f":"IF(U262=\"4D\",O262,\"-\")","v":"-"},{"$f":"IF(U262=\"4D\",P262,\"-\")","v":"-"},null,{"$f":"IF(U262=\"5A\",E262,\"-\")","v":"-"},{"$f":"IF(U262=\"5A\",F262,\"-\")","v":"-"},{"$f":"IF(U262=\"5A\",G262,\"-\")","v":"-"},{"$f":"IF(U262=\"5A\",H262,\"-\")","v":"-"},{"$f":"IF(U262=\"5A\",I262,\"-\")","v":"-"},{"$f":"IF(U262=\"5A\",J262,\"-\")","v":"-"},{"$f":"IF(U262=\"5A\",K262,\"-\")","v":"-"},{"$f":"IF(U262=\"5A\",L262,\"-\")","v":"-"},{"$f":"IF(U262=\"5A\",M262,\"-\")","v":"-"},{"$f":"IF(U262=\"5A\",N262,\"-\")","v":"-"},{"$f":"IF(U262=\"5A\",O262,\"-\")","v":"-"},{"$f":"IF(U262=\"5A\",P262,\"-\")","v":"-"},null,{"$f":"IF(U262=\"5B\",E262,\"-\")","v":"-"},{"$f":"IF(U262=\"5B\",F262,\"-\")","v":"-"},{"$f":"IF(U262=\"5B\",G262,\"-\")","v":"-"},{"$f":"IF(U262=\"5B\",H262,\"-\")","v":"-"},{"$f":"IF(U262=\"5B\",I262,\"-\")","v":"-"},{"$f":"IF(U262=\"5B\",J262,\"-\")","v":"-"},{"$f":"IF(U262=\"5B\",K262,\"-\")","v":"-"},{"$f":"IF(U262=\"5B\",L262,\"-\")","v":"-"},{"$f":"IF(U262=\"5B\",M262,\"-\")","v":"-"},{"$f":"IF(U262=\"5B\",N262,\"-\")","v":"-"},{"$f":"IF(U262=\"5B\",O262,\"-\")","v":"-"},{"$f":"IF(U262=\"5B\",P262,\"-\")","v":"-"},null,{"$f":"IF(U262=\"5C\",E262,\"-\")","v":"-"},{"$f":"IF(U262=\"5C\",F262,\"-\")","v":"-"},{"$f":"IF(U262=\"5C\",G262,\"-\")","v":"-"},{"$f":"IF(U262=\"5C\",H262,\"-\")","v":"-"},{"$f":"IF(U262=\"5C\",I262,\"-\")","v":"-"},{"$f":"IF(U262=\"5C\",J262,\"-\")","v":"-"},{"$f":"IF(U262=\"5C\",K262,\"-\")","v":"-"},{"$f":"IF(U262=\"5C\",L262,\"-\")","v":"-"},{"$f":"IF(U262=\"5C\",M262,\"-\")","v":"-"},{"$f":"IF(U262=\"5C\",N262,\"-\")","v":"-"},{"$f":"IF(U262=\"5C\",O262,\"-\")","v":"-"},{"$f":"IF(U262=\"5C\",P262,\"-\")","v":"-"},null,{"$f":"IF(U262=\"5D\",E262,\"-\")","v":"-"},{"$f":"IF(U262=\"5D\",F262,\"-\")","v":"-"},{"$f":"IF(U262=\"5D\",G262,\"-\")","v":"-"},{"$f":"IF(U262=\"5D\",H262,\"-\")","v":"-"},{"$f":"IF(U262=\"5D\",I262,\"-\")","v":"-"},{"$f":"IF(U262=\"5D\",J262,\"-\")","v":"-"},{"$f":"IF(U262=\"5D\",K262,\"-\")","v":"-"},{"$f":"IF(U262=\"5D\",L262,\"-\")","v":"-"},{"$f":"IF(U262=\"5D\",M262,\"-\")","v":"-"},{"$f":"IF(U262=\"5D\",N262,\"-\")","v":"-"},{"$f":"IF(U262=\"5D\",O262,\"-\")","v":"-"},{"$f":"IF(U262=\"5D\",P262,\"-\")","v":"-"},null,{"$f":"IF(U262=\"6A\",E262,\"-\")","v":"-"},{"$f":"IF(U262=\"6A\",F262,\"-\")","v":"-"},{"$f":"IF(U262=\"6A\",G262,\"-\")","v":"-"},{"$f":"IF(U262=\"6A\",H262,\"-\")","v":"-"},{"$f":"IF(U262=\"6A\",I262,\"-\")","v":"-"},{"$f":"IF(U262=\"6A\",J262,\"-\")","v":"-"},{"$f":"IF(U262=\"6A\",K262,\"-\")","v":"-"},{"$f":"IF(U262=\"6A\",L262,\"-\")","v":"-"},{"$f":"IF(U262=\"6A\",M262,\"-\")","v":"-"},{"$f":"IF(U262=\"6A\",N262,\"-\")","v":"-"},{"$f":"IF(U262=\"6A\",O262,\"-\")","v":"-"},{"$f":"IF(U262=\"6A\",P262,\"-\")","v":"-"},null,{"$f":"IF(U262=\"6B\",E262,\"-\")","v":"-"},{"$f":"IF(U262=\"6B\",F262,\"-\")","v":"-"},{"$f":"IF(U262=\"6B\",G262,\"-\")","v":"-"},{"$f":"IF(U262=\"6B\",H262,\"-\")","v":"-"},{"$f":"IF(U262=\"6B\",I262,\"-\")","v":"-"},{"$f":"IF(U262=\"6B\",J262,\"-\")","v":"-"},{"$f":"IF(U262=\"6B\",K262,\"-\")","v":"-"},{"$f":"IF(U262=\"6B\",L262,\"-\")","v":"-"},{"$f":"IF(U262=\"6B\",M262,\"-\")","v":"-"},{"$f":"IF(U262=\"6B\",N262,\"-\")","v":"-"},{"$f":"IF(U262=\"6B\",O262,\"-\")","v":"-"},{"$f":"IF(U262=\"6B\",P262,\"-\")","v":"-"},null,{"$f":"IF(U262=\"6C\",E262,\"-\")","v":"-"},{"$f":"IF(U262=\"6C\",F262,\"-\")","v":"-"},{"$f":"IF(U262=\"6C\",G262,\"-\")","v":"-"},{"$f":"IF(U262=\"6C\",H262,\"-\")","v":"-"},{"$f":"IF(U262=\"6C\",I262,\"-\")","v":"-"},{"$f":"IF(U262=\"6C\",J262,\"-\")","v":"-"},{"$f":"IF(U262=\"6C\",K262,\"-\")","v":"-"},{"$f":"IF(U262=\"6C\",L262,\"-\")","v":"-"},{"$f":"IF(U262=\"6C\",M262,\"-\")","v":"-"},{"$f":"IF(U262=\"6C\",N262,\"-\")","v":"-"},{"$f":"IF(U262=\"6C\",O262,\"-\")","v":"-"},{"$f":"IF(U262=\"6C\",P262,\"-\")","v":"-"},null,{"$f":"IF(U262=\"6D\",E262,\"-\")","v":"-"},{"$f":"IF(U262=\"6D\",F262,\"-\")","v":"-"},{"$f":"IF(U262=\"6D\",G262,\"-\")","v":"-"},{"$f":"IF(U262=\"6D\",H262,\"-\")","v":"-"},{"$f":"IF(U262=\"6D\",I262,\"-\")","v":"-"},{"$f":"IF(U262=\"6D\",J262,\"-\")","v":"-"},{"$f":"IF(U262=\"6D\",K262,\"-\")","v":"-"},{"$f":"IF(U262=\"6D\",L262,\"-\")","v":"-"},{"$f":"IF(U262=\"6D\",M262,\"-\")","v":"-"},{"$f":"IF(U262=\"6D\",N262,\"-\")","v":"-"},{"$f":"IF(U262=\"6D\",O262,\"-\")","v":"-"},{"$f":"IF(U262=\"6D\",P262,\"-\")","v":"-"},null,{"$f":"IF(U262=\"1A\",D262,\"-\")","v":"-"},{"$f":"IF(U262=\"1B\",D262,\"-\")","v":"-"},{"$f":"IF(U262=\"1C\",D262,\"-\")","v":"-"},{"$f":"IF(U262=\"1D\",D262,\"-\")","v":"-"},{"$f":"IF(U262=\"2A\",D262,\"-\")","v":"-"},{"$f":"IF(U262=\"2B\",D262,\"-\")","v":"-"},{"$f":"IF(U262=\"2C\",D262,\"-\")","v":"-"},{"$f":"IF(U262=\"2D\",D262,\"-\")","v":"-"},{"$f":"IF(U262=\"3A\",D262,\"-\")","v":"-"},{"$f":"IF(U262=\"3B\",D262,\"-\")","v":"-"},{"$f":"IF(U262=\"3C\",D262,\"-\")","v":"-"},{"$f":"IF(U262=\"3D\",D262,\"-\")","v":"-"},{"$f":"IF(U262=\"4A\",D262,\"-\")","v":"-"},{"$f":"IF(U262=\"4B\",D262,\"-\")","v":"-"},{"$f":"IF(U262=\"4C\",D262,\"-\")","v":"-"},{"$f":"IF(U262=\"4D\",D262,\"-\")","v":"-"},{"$f":"IF(U262=\"5A\",D262,\"-\")","v":"-"},{"$f":"IF(U262=\"5B\",D262,\"-\")","v":"-"},{"$f":"IF(U262=\"5C\",D262,\"-\")","v":"-"},{"$f":"IF(U262=\"5D\",D262,\"-\")","v":"-"},{"$f":"IF(U262=\"6A\",D262,\"-\")","v":"-"},{"$f":"IF(U262=\"6B\",D262,\"-\")","v":"-"},{"$f":"IF(U262=\"6C\",D262,\"-\")","v":"-"},{"$f":"IF(U262=\"6D\",D262,\"-\")","v":"-"}]
[274,{"$f":"IFERROR(DataSiswa!B277,\"\")","v":0},{"$f":"IFERROR(DataSiswa!C277,\"\")","v":0},{"$f":"IFERROR(DataSiswa!E277,\"\")","v":0},null,null,null,null,null,null,null,null,null,null,null,null,0,0,0,0,{"$f":"IFERROR(VLOOKUP(B278,DataSiswa!$B$4:$D$1003,3,FALSE),\"-\")","v":"-"},"-","-","-","-","-","-","-","-","-","-","-","-","-","-","-","-","-","-","-","-","-","-","-","-",null,"-","-","-","-","-","-","-","-","-","-","-","-","-","-","-","-","-","-","-","-","-","-","-","-",null,"-","-","-","-","-","-","-","-","-","-","-","-",null,"-","-","-","-","-","-","-","-","-","-","-","-",null,"-","-","-","-","-","-","-","-","-","-","-","-",null,"-","-","-","-","-","-","-","-","-","-","-","-",null,"-","-","-","-","-","-","-","-","-","-","-","-",null,"-","-","-","-","-","-","-","-","-","-","-","-",null,"-","-","-","-","-","-","-","-","-","-","-","-",null,"-","-","-","-","-","-","-","-","-","-","-","-",null,"-","-","-","-","-","-","-","-","-","-","-","-",null,"-","-","-","-","-","-","-","-","-","-","-","-",null,"-","-","-","-","-","-","-","-","-","-","-","-",null,"-","-","-","-","-","-","-","-","-","-","-","-",null,"-","-","-","-","-","-","-","-","-","-","-","-",null,"-","-","-","-","-","-","-","-","-","-","-","-",null,"-","-","-","-","-","-","-","-","-","-","-","-",null,"-","-","-","-","-","-","-","-","-","-","-","-",null,"-","-","-","-","-","-","-","-","-","-","-","-",null,"-","-","-","-","-","-","-","-","-","-","-","-",null,"-","-","-","-","-","-","-","-","-","-","-","-",null,"-","-","-","-","-","-","-","-","-","-","-","-",null,"-","-","-","-","-","-","-","-","-","-","-","-",null,"-","-","-","-","-","-","-","-","-","-","-","-",null,"-","-","-","-","-","-","-","-","-","-","-","-",null,"-","-","-","-","-","-","-","-","-","-","-","-",null,"-","-","-","-","-","-","-","-","-","-","-","-","-","-","-","-","-","-","-","-","-","-","-","-"]
[289,{"$f":"IFERROR(DataSiswa!B292,\"\")","v":0},{"$f":"IFERROR(DataSiswa!C292,\"\")","v":0},{"$f":"IFERROR(DataSiswa!E292,\"\")","v":0},null,null,null,null,null,null,null,null,null,null,null,null,0,0,0,0,{"$f":"IFERROR(VLOOKUP(B293,DataSiswa!$B$4:$D$1003,3,FALSE),\"-\")","v":"-"},"-","-","-","-","-","-","-","-","-","-","-","-","-","-","-","-","-","-","-","-","-","-","-","-",null,"-","-","-","-","-","-","-","-","-","-","-","-","-","-","-","-","-","-","-","-","-","-","-","-",null,"-","-","-","-","-","-","-","-","-","-","-","-",null,"-","-","-","-","-","-","-","-","-","-","-","-",null,"-","-","-","-","-","-","-","-","-","-","-","-",null,"-","-","-","-","-","-","-","-","-","-","-","-",null,"-","-","-","-","-","-","-","-","-","-","-","-",null,"-","-","-","-","-","-","-","-","-","-","-","-",null,"-","-","-","-","-","-","-","-","-","-","-","-",null,"-","-","-","-","-","-","-","-","-","-","-","-",null,"-","-","-","-","-","-","-","-","-","-","-","-",null,"-","-","-","-","-","-","-","-","-","-","-","-",null,"-","-","-","-","-","-","-","-","-","-","-","-",null,"-","-","-","-","-","-","-","-","-","-","-","-",null,"-","-","-","-","-","-","-","-","-","-","-","-",null,"-","-","-","-","-","-","-","-","-","-","-","-",null,"-","-","-","-","-","-","-","-","-","-","-","-",null,"-","-","-","-","-","-","-","-","-","-","-","-",null,"-","-","-","-","-","-","-","-","-","-","-","-",null,"-","-","-","-","-","-","-","-","-","-","-","-",null,"-","-","-","-","-","-","-","-","-","-","-","-",null,"-","-","-","-","-","-","-","-","-","-","-","-",null,"-","-","-","-","-","-","-","-","-","-","-","-",null,"-","-","-","-","-","-","-","-","-","-","-","-",null,"-","-","-","-","-","-","-","-","-","-","-","-",null,"-","-","-","-","-","-","-","-","-","-","-","-",null,"-","-","-","-","-","-","-","-","-","-","-","-","-","-","-","-","-","-","-","-","-","-","-","-"]
[305,{"$f":"IFERROR(DataSiswa!B308,\"\")","v":0},{"$f":"IFERROR(DataSiswa!C308,\"\")","v":0},{"$f":"IFERROR(DataSiswa!E308,\"\")","v":0},null,null,null,null,null,null,null,null,null,null,null,null,0,0,0,0,{"$f":"IFERROR(VLOOKUP(B309,DataSiswa!$B$4:$D$1003,3,FALSE),\"-\")","v":"-"},"-","-","-","-","-","-","-","-","-","-","-","-","-","-","-","-","-","-","-","-","-","-","-","-",null,"-","-","-","-","-","-","-","-","-","-","-","-","-","-","-","-","-","-","-","-","-","-","-","-",null,"-","-","-","-","-","-","-","-","-","-","-","-",null,"-","-","-","-","-","-","-","-","-","-","-","-",null,"-","-","-","-","-","-","-","-","-","-","-","-",null,"-","-","-","-","-","-","-","-","-","-","-","-",null,"-","-","-","-","-","-","-","-","-","-","-","-",null,"-","-","-","-","-","-","-","-","-","-","-","-",null,"-","-","-","-","-","-","-","-","-","-","-","-",null,"-","-","-","-","-","-","-","-","-","-","-","-",null,"-","-","-","-","-","-","-","-","-","-","-","-",null,"-","-","-","-","-","-","-","-","-","-","-","-",null,"-","-","-","-","-","-","-","-","-","-","-","-",null,"-","-","-","-","-","-","-","-","-","-","-","-",null,"-","-","-","-","-","-","-","-","-","-","-","-",null,"-","-","-","-","-","-","-","-","-","-","-","-",null,"-","-","-","-","-","-","-","-","-","-","-","-",null,"-","-","-","-","-","-","-","-","-","-","-","-",null,"-","-","-","-","-","-","-","-","-","-","-","-",null,"-","-","-","-","-","-","-","-","-","-","-","-",null,"-","-","-","-","-","-","-","-","-","-","-","-",null,"-","-","-","-","-","-","-","-","-","-","-","-",null,"-","-","-","-","-","-","-","-","-","-","-","-",null,"-","-","-","-","-","-","-","-","-","-","-","-",null,"-","-","-","-","-","-","-","-","-","-","-","-",null,"-","-","-","-","-","-","-","-","-","-","-","-",null,"-","-","-","-","-","-","-","-","-","-","-","-","-","-","-","-","-","-","-","-","-","-","-","-"]
[320,{"$f":"IFERROR(DataSiswa!B323,\"\")","v":0},{"$f":"IFERROR(DataSiswa!C323,\"\")","v":0},{"$f":"IFERROR(DataSiswa!E323,\"\")","v":0},null,null,null,null,null,null,null,null,null,null,null,null,0,0,0,0,{"$f":"IFERROR(VLOOKUP(B324,DataSiswa!$B$4:$D$1003,3,FALSE),\"-\")","v":"-"},"-","-","-","-","-","-","-","-","-","-","-","-","-","-","-","-","-","-","-","-","-","-","-","-",null,"-","-","-","-","-","-","-","-","-","-","-","-","-","-","-","-","-","-","-","-","-","-","-","-",null,"-","-","-","-","-","-","-","-","-","-","-","-",null,"-","-","-","-","-","-","-","-","-","-","-","-",null,"-","-","-","-","-","-","-","-","-","-","-","-",null,"-","-","-","-","-","-","-","-","-","-","-","-",null,"-","-","-","-","-","-","-","-","-","-","-","-",null,"-","-","-","-","-","-","-","-","-","-","-","-",null,"-","-","-","-","-","-","-","-","-","-","-","-",null,"-","-","-","-","-","-","-","-","-","-","-","-",null,"-","-","-","-","-","-","-","-","-","-","-","-",null,"-","-","-","-","-","-","-","-","-","-","-","-",null,"-","-","-","-","-","-","-","-","-","-","-","-",null,"-","-","-","-","-","-","-","-","-","-","-","-",null,"-","-","-","-","-","-","-","-","-","-","-","-",null,"-","-","-","-","-","-","-","-","-","-","-","-",null,"-","-","-","-","-","-","-","-","-","-","-","-",null,"-","-","-","-","-","-","-","-","-","-","-","-",null,"-","-","-","-","-","-","-","-","-","-","-","-",null,"-","-","-","-","-","-","-","-","-","-","-","-",null,"-","-","-","-","-","-","-","-","-","-","-","-",null,"-","-","-","-","-","-","-","-","-","-","-","-",null,"-","-","-","-","-","-","-","-","-","-","-","-",null,"-","-","-","-","-","-","-","-","-","-","-","-",null,"-","-","-","-","-","-","-","-","-","-","-","-",null,"-","-","-","-","-","-","-","-","-","-","-","-",null,"-","-","-","-","-","-","-","-","-","-","-","-","-","-","-","-","-","-","-","-","-","-","-","-"]
[335,{"$f":"IFERROR(DataSiswa!B338,\"\")","v":0},{"$f":"IFERROR(DataSiswa!C338,\"\")","v":0},{"$f":"IFERROR(DataSiswa!E338,\"\")","v":0},null,null,null,null,null,null,null,null,null,null,null,null,0,0,0,0,{"$f":"IFERROR(VLOOKUP(B339,DataSiswa!$B$4:$D$1003,3,FALSE),\"-\")","v":"-"},"-","-","-","-","-","-","-","-","-","-","-","-","-","-","-","-","-","-","-","-","-","-","-","-",null,"-","-","-","-","-","-","-","-","-","-","-","-","-","-","-","-","-","-","-","-","-","-","-","-",null,"-","-","-","-","-","-","-","-","-","-","-","-",null,"-","-","-","-","-","-","-","-","-","-","-","-",null,"-","-","-","-","-","-","-","-","-","-","-","-",null,"-","-","-","-","-","-","-","-","-","-","-","-",null,"-","-","-","-","-","-","-","-","-","-","-","-",null,"-","-","-","-","-","-","-","-","-","-","-","-",null,"-","-","-","-","-","-","-","-","-","-","-","-",null,"-","-","-","-","-","-","-","-","-","-","-","-",null,"-","-","-","-","-","-","-","-","-","-","-","-",null,"-","-","-","-","-","-","-","-","-","-","-","-",null,"-","-","-","-","-","-","-","-","-","-","-","-",null,"-","-","-","-","-","-","-","-","-","-","-","-",null,"-","-","-","-","-","-","-","-","-","-","-","-",null,"-","-","-","-","-","-","-","-","-","-","-","-",null,"-","-","-","-","-","-","-","-","-","-","-","-",null,"-","-","-","-","-","-","-","-","-","-","-","-",null,"-","-","-","-","-","-","-","-","-","-","-","-",null,"-","-","-","-","-","-","-","-","-","-","-","-",null,"-","-","-","-","-","-","-","-","-","-","-","-",null,"-","-","-","-","-","-","-","-","-","-","-","-",null,"-","-","-","-","-","-","-","-","-","-","-","-",null,"-","-","-","-","-","-","-","-","-","-","-","-",null,"-","-","-","-","-","-","-","-","-","-","-","-",null,"-","-","-","-","-","-","-","-","-","-","-","-",null,"-","-","-","-","-","-","-","-","-","-","-","-","-","-","-","-","-","-","-","-","-","-","-","-"]
[351,{"$f":"IFERROR(DataSiswa!B354,\"\")","v":0},{"$f":"IFERROR(DataSiswa!C354,\"\")","v":0},{"$f":"IFERROR(DataSiswa!E354,\"\")","v":0},null,null,null,null,null,null,null,null,null,null,null,null,0,0,0,0,{"$f":"IFERROR(VLOOKUP(B355,DataSiswa!$B$4:$D$1003,3,FALSE),\"-\")","v":"-"},"-","-","-","-","-","-","-","-","-","-","-","-","-","-","-","-","-","-","-","-","-","-","-","-",null,"-","-","-","-","-","-","-","-","-","-","-","-","-","-","-","-","-","-","-","-","-","-","-","-",null,"-","-","-","-","-","-","-","-","-","-","-","-",null,"-","-","-","-","-","-","-","-","-","-","-","-",null,"-","-","-","-","-","-","-","-","-","-","-","-",null,"-","-","-","-","-","-","-","-","-","-","-","-",null,"-","-","-","-","-","-","-","-","-","-","-","-",null,"-","-","-","-","-","-","-","-","-","-","-","-",null,"-","-","-","-","-","-","-","-","-","-","-","-",null,"-","-","-","-","-","-","-","-","-","-","-","-",null,"-","-","-","-","-","-","-","-","-","-","-","-",null,"-","-","-","-","-","-","-","-","-","-","-","-",null,"-","-","-","-","-","-","-","-","-","-","-","-",null,"-","-","-","-","-","-","-","-","-","-","-","-",null,"-","-","-","-","-","-","-","-","-","-","-","-",null,"-","-","-","-","-","-","-","-","-","-","-","-",null,"-","-","-","-","-","-","-","-","-","-","-","-",null,"-","-","-","-","-","-","-","-","-","-","-","-",null,"-","-","-","-","-","-","-","-","-","-","-","-",null,"-","-","-","-","-","-","-","-","-","-","-","-",null,"-","-","-","-","-","-","-","-","-","-","-","-",null,"-","-","-","-","-","-","-","-","-","-","-","-",null,"-","-","-","-","-","-","-","-","-","-","-","-",null,"-","-","-","-","-","-","-","-","-","-","-","-",null,"-","-","-","-","-","-","-","-","-","-","-","-",null,"-","-","-","-","-","-","-","-","-","-","-","-",null,"-","-","-","-","-","-","-","-","-","-","-","-","-","-","-","-","-","-","-","-","-","-","-","-"]
[365,{"$f":"IFERROR(DataSiswa!B368,\"\")","v":0},{"$f":"IFERROR(DataSiswa!C368,\"\")","v":0},{"$f":"IFERROR(DataSiswa!E368,\"\")","v":0},null,null,null,null,null,null,null,null,null,null,null,null,0,0,0,0,{"$f":"IFERROR(VLOOKUP(B369,DataSiswa!$B$4:$D$1003,3,FALSE),\"-\")","v":"-"},"-","-","-","-","-","-","-","-","-","-","-","-","-","-","-","-","-","-","-","-","-","-","-","-",null,"-","-","-","-","-","-","-","-","-","-","-","-","-","-","-","-","-","-","-","-","-","-","-","-",null,"-","-","-","-","-","-","-","-","-","-","-","-",null,"-","-","-","-","-","-","-","-","-","-","-","-",null,"-","-","-","-","-","-","-","-","-","-","-","-",null,"-","-","-","-","-","-","-","-","-","-","-","-",null,"-","-","-","-","-","-","-","-","-","-","-","-",null,"-","-","-","-","-","-","-","-","-","-","-","-",null,"-","-","-","-","-","-","-","-","-","-","-","-",null,"-","-","-","-","-","-","-","-","-","-","-","-",null,"-","-","-","-","-","-","-","-","-","-","-","-",null,"-","-","-","-","-","-","-","-","-","-","-","-",null,"-","-","-","-","-","-","-","-","-","-","-","-",null,"-","-","-","-","-","-","-","-","-","-","-","-",null,"-","-","-","-","-","-","-","-","-","-","-","-",null,"-","-","-","-","-","-","-","-","-","-","-","-",null,"-","-","-","-","-","-","-","-","-","-","-","-",null,"-","-","-","-","-","-","-","-","-","-","-","-",null,"-","-","-","-","-","-","-","-","-","-","-","-",null,"-","-","-","-","-","-","-","-","-","-","-","-",null,"-","-","-","-","-","-","-","-","-","-","-","-",null,"-","-","-","-","-","-","-","-","-","-","-","-",null,"-","-","-","-","-","-","-","-","-","-","-","-",null,"-","-","-","-","-","-","-","-","-","-","-","-",null,"-","-","-","-","-","-","-","-","-","-","-","-",null,"-","-","-","-","-","-","-","-","-","-","-","-",null,"-","-","-","-","-","-","-","-","-","-","-","-","-","-","-","-","-","-","-","-","-","-","-","-"]
[381,{"$f":"IFERROR(DataSiswa!B384,\"\")","v":0},{"$f":"IFERROR(DataSiswa!C384,\"\")","v":0},{"$f":"IFERROR(DataSiswa!E384,\"\")","v":0},null,null,null,null,null,null,null,null,null,null,null,null,0,0,0,0,{"$f":"IFERROR(VLOOKUP(B385,DataSiswa!$B$4:$D$1003,3,FALSE),\"-\")","v":"-"},"-","-","-","-","-","-","-","-","-","-","-","-","-","-","-","-","-","-","-","-","-","-","-","-",null,"-","-","-","-","-","-","-","-","-","-","-","-","-","-","-","-","-","-","-","-","-","-","-","-",null,"-","-","-","-","-","-","-","-","-","-","-","-",null,"-","-","-","-","-","-","-","-","-","-","-","-",null,"-","-","-","-","-","-","-","-","-","-","-","-",null,"-","-","-","-","-","-","-","-","-","-","-","-",null,"-","-","-","-","-","-","-","-","-","-","-","-",null,"-","-","-","-","-","-","-","-","-","-","-","-",null,"-","-","-","-","-","-","-","-","-","-","-","-",null,"-","-","-","-","-","-","-","-","-","-","-","-",null,"-","-","-","-","-","-","-","-","-","-","-","-",null,"-","-","-","-","-","-","-","-","-","-","-","-",null,"-","-","-","-","-","-","-","-","-","-","-","-",null,"-","-","-","-","-","-","-","-","-","-","-","-",null,"-","-","-","-","-","-","-","-","-","-","-","-",null,"-","-","-","-","-","-","-","-","-","-","-","-",null,"-","-","-","-","-","-","-","-","-","-","-","-",null,"-","-","-","-","-","-","-","-","-","-","-","-",null,"-","-","-","-","-","-","-","-","-","-","-","-",null,"-","-","-","-","-","-","-","-","-","-","-","-",null,"-","-","-","-","-","-","-","-","-","-","-","-",null,"-","-","-","-","-","-","-","-","-","-","-","-",null,"-","-","-","-","-","-","-","-","-","-","-","-",null,"-","-","-","-","-","-","-","-","-","-","-","-",null,"-","-","-","-","-","-","-","-","-","-","-","-",null,"-","-","-","-","-","-","-","-","-","-","-","-",null,"-","-","-","-","-","-","-","-","-","-","-","-","-","-","-","-","-","-","-","-","-","-","-","-"]
[396,{"$f":"IFERROR(DataSiswa!B399,\"\")","v":0},{"$f":"IFERROR(DataSiswa!C399,\"\")","v":0},{"$f":"IFERROR(DataSiswa!E399,\"\")","v":0},null,null,null,null,null,null,null,null,null,null,null,null,0,0,0,0,{"$f":"IFERROR(VLOOKUP(B400,DataSiswa!$B$4:$D$1003,3,FALSE),\"-\")","v":"-"},"-","-","-","-","-","-","-","-","-","-","-","-","-","-","-","-","-","-","-","-","-","-","-","-",null,"-","-","-","-","-","-","-","-","-","-","-","-","-","-","-","-","-","-","-","-","-","-","-","-",null,"-","-","-","-","-","-","-","-","-","-","-","-",null,"-","-","-","-","-","-","-","-","-","-","-","-",null,"-","-","-","-","-","-","-","-","-","-","-","-",null,"-","-","-","-","-","-","-","-","-","-","-","-",null,"-","-","-","-","-","-","-","-","-","-","-","-",null,"-","-","-","-","-","-","-","-","-","-","-","-",null,"-","-","-","-","-","-","-","-","-","-","-","-",null,"-","-","-","-","-","-","-","-","-","-","-","-",null,"-","-","-","-","-","-","-","-","-","-","-","-",null,"-","-","-","-","-","-","-","-","-","-","-","-",null,"-","-","-","-","-","-","-","-","-","-","-","-",null,"-","-","-","-","-","-","-","-","-","-","-","-",null,"-","-","-","-","-","-","-","-","-","-","-","-",null,"-","-","-","-","-","-","-","-","-","-","-","-",null,"-","-","-","-","-","-","-","-","-","-","-","-",null,"-","-","-","-","-","-","-","-","-","-","-","-",null,"-","-","-","-","-","-","-","-","-","-","-","-",null,"-","-","-","-","-","-","-","-","-","-","-","-",null,"-","-","-","-","-","-","-","-","-","-","-","-",null,"-","-","-","-","-","-","-","-","-","-","-","-",null,"-","-","-","-","-","-","-","-","-","-","-","-",null,"-","-","-","-","-","-","-","-","-","-","-","-",null,"-","-","-","-","-","-","-","-","-","-","-","-",null,"-","-","-","-","-","-","-","-","-","-","-","-",null,"-","-","-","-","-","-","-","-","-","-","-","-","-","-","-","-","-","-","-","-","-","-","-","-"]
[411,{"$f":"IFERROR(DataSiswa!B414,\"\")","v":0},{"$f":"IFERROR(DataSiswa!C414,\"\")","v":0},{"$f":"IFERROR(DataSiswa!E414,\"\")","v":0},null,null,null,null,null,null,null,null,null,null,null,null,0,0,0,0,{"$f":"IFERROR(VLOOKUP(B415,DataSiswa!$B$4:$D$1003,3,FALSE),\"-\")","v":"-"},"-","-","-","-","-","-","-","-","-","-","-","-","-","-","-","-","-","-","-","-","-","-","-","-",null,"-","-","-","-","-","-","-","-","-","-","-","-","-","-","-","-","-","-","-","-","-","-","-","-",null,"-","-","-","-","-","-","-","-","-","-","-","-",null,"-","-","-","-","-","-","-","-","-","-","-","-",null,"-","-","-","-","-","-","-","-","-","-","-","-",null,"-","-","-","-","-","-","-","-","-","-","-","-",null,"-","-","-","-","-","-","-","-","-","-","-","-",null,"-","-","-","-","-","-","-","-","-","-","-","-",null,"-","-","-","-","-","-","-","-","-","-","-","-",null,"-","-","-","-","-","-","-","-","-","-","-","-",null,"-","-","-","-","-","-","-","-","-","-","-","-",null,"-","-","-","-","-","-","-","-","-","-","-","-",null,"-","-","-","-","-","-","-","-","-","-","-","-",null,"-","-","-","-","-","-","-","-","-","-","-","-",null,"-","-","-","-","-","-","-","-","-","-","-","-",null,"-","-","-","-","-","-","-","-","-","-","-","-",null,"-","-","-","-","-","-","-","-","-","-","-","-",null,"-","-","-","-","-","-","-","-","-","-","-","-",null,"-","-","-","-","-","-","-","-","-","-","-","-",null,"-","-","-","-","-","-","-","-","-","-","-","-",null,"-","-","-","-","-","-","-","-","-","-","-","-",null,"-","-","-","-","-","-","-","-","-","-","-","-",null,"-","-","-","-","-","-","-","-","-","-","-","-",null,"-","-","-","-","-","-","-","-","-","-","-","-",null,"-","-","-","-","-","-","-","-","-","-","-","-",null,"-","-","-","-","-","-","-","-","-","-","-","-",null,"-","-","-","-","-","-","-","-","-","-","-","-","-","-","-","-","-","-","-","-","-","-","-","-"]
[427,{"$f":"IFERROR(DataSiswa!B430,\"\")","v":0},{"$f":"IFERROR(DataSiswa!C430,\"\")","v":0},{"$f":"IFERROR(DataSiswa!E430,\"\")","v":0},null,null,null,null,null,null,null,null,null,null,null,null,0,0,0,0,{"$f":"IFERROR(VLOOKUP(B431,DataSiswa!$B$4:$D$1003,3,FALSE),\"-\")","v":"-"},"-","-","-","-","-","-","-","-","-","-","-","-","-","-","-","-","-","-","-","-","-","-","-","-",null,"-","-","-","-","-","-","-","-","-","-","-","-","-","-","-","-","-","-","-","-","-","-","-","-",null,"-","-","-","-","-","-","-","-","-","-","-","-",null,"-","-","-","-","-","-","-","-","-","-","-","-",null,"-","-","-","-","-","-","-","-","-","-","-","-",null,"-","-","-","-","-","-","-","-","-","-","-","-",null,"-","-","-","-","-","-","-","-","-","-","-","-",null,"-","-","-","-","-","-","-","-","-","-","-","-",null,"-","-","-","-","-","-","-","-","-","-","-","-",null,"-","-","-","-","-","-","-","-","-","-","-","-",null,"-","-","-","-","-","-","-","-","-","-","-","-",null,"-","-","-","-","-","-","-","-","-","-","-","-",null,"-","-","-","-","-","-","-","-","-","-","-","-",null,"-","-","-","-","-","-","-","-","-","-","-","-",null,"-","-","-","-","-","-","-","-","-","-","-","-",null,"-","-","-","-","-","-","-","-","-","-","-","-",null,"-","-","-","-","-","-","-","-","-","-","-","-",null,"-","-","-","-","-","-","-","-","-","-","-","-",null,"-","-","-","-","-","-","-","-","-","-","-","-",null,"-","-","-","-","-","-","-","-","-","-","-","-",null,"-","-","-","-","-","-","-","-","-","-","-","-",null,"-","-","-","-","-","-","-","-","-","-","-","-",null,"-","-","-","-","-","-","-","-","-","-","-","-",null,"-","-","-","-","-","-","-","-","-","-","-","-",null,"-","-","-","-","-","-","-","-","-","-","-","-",null,"-","-","-","-","-","-","-","-","-","-","-","-",null,"-","-","-","-","-","-","-","-","-","-","-","-","-","-","-","-","-","-","-","-","-","-","-","-"]
[442,{"$f":"IFERROR(DataSiswa!B445,\"\")","v":0},{"$f":"IFERROR(DataSiswa!C445,\"\")","v":0},{"$f":"IFERROR(DataSiswa!E445,\"\")","v":0},null,null,null,null,null,null,null,null,null,null,null,null,0,0,0,0,{"$f":"IFERROR(VLOOKUP(B446,DataSiswa!$B$4:$D$1003,3,FALSE),\"-\")","v":"-"},"-","-","-","-","-","-","-","-","-","-","-","-","-","-","-","-","-","-","-","-","-","-","-","-",null,"-","-","-","-","-","-","-","-","-","-","-","-","-","-","-","-","-","-","-","-","-","-","-","-",null,"-","-","-","-","-","-","-","-","-","-","-","-",null,"-","-","-","-","-","-","-","-","-","-","-","-",null,"-","-","-","-","-","-","-","-","-","-","-","-",null,"-","-","-","-","-","-","-","-","-","-","-","-",null,"-","-","-","-","-","-","-","-","-","-","-","-",null,"-","-","-","-","-","-","-","-","-","-","-","-",null,"-","-","-","-","-","-","-","-","-","-","-","-",null,"-","-","-","-","-","-","-","-","-","-","-","-",null,"-","-","-","-","-","-","-","-","-","-","-","-",null,"-","-","-","-","-","-","-","-","-","-","-","-",null,"-","-","-","-","-","-","-","-","-","-","-","-",null,"-","-","-","-","-","-","-","-","-","-","-","-",null,"-","-","-","-","-","-","-","-","-","-","-","-",null,"-","-","-","-","-","-","-","-","-","-","-","-",null,"-","-","-","-","-","-","-","-","-","-","-","-",null,"-","-","-","-","-","-","-","-","-","-","-","-",null,"-","-","-","-","-","-","-","-","-","-","-","-",null,"-","-","-","-","-","-","-","-","-","-","-","-",null,"-","-","-","-","-","-","-","-","-","-","-","-",null,"-","-","-","-","-","-","-","-","-","-","-","-",null,"-","-","-","-","-","-","-","-","-","-","-","-",null,"-","-","-","-","-","-","-","-","-","-","-","-",null,"-","-","-","-","-","-","-","-","-","-","-","-",null,"-","-","-","-","-","-","-","-","-","-","-","-",null,"-","-","-","-","-","-","-","-","-","-","-","-","-","-","-","-","-","-","-","-","-","-","-","-"]
[457,{"$f":"IFERROR(DataSiswa!B460,\"\")","v":0},{"$f":"IFERROR(DataSiswa!C460,\"\")","v":0},{"$f":"IFERROR(DataSiswa!E460,\"\")","v":0},null,null,null,null,null,null,null,null,null,null,null,null,0,0,0,0,{"$f":"IFERROR(VLOOKUP(B461,DataSiswa!$B$4:$D$1003,3,FALSE),\"-\")","v":"-"},"-","-","-","-","-","-","-","-","-","-","-","-","-","-","-","-","-","-","-","-","-","-","-","-",null,"-","-","-","-","-","-","-","-","-","-","-","-","-","-","-","-","-","-","-","-","-","-","-","-",null,"-","-","-","-","-","-","-","-","-","-","-","-",null,"-","-","-","-","-","-","-","-","-","-","-","-",null,"-","-","-","-","-","-","-","-","-","-","-","-",null,"-","-","-","-","-","-","-","-","-","-","-","-",null,"-","-","-","-","-","-","-","-","-","-","-","-",null,"-","-","-","-","-","-","-","-","-","-","-","-",null,"-","-","-","-","-","-","-","-","-","-","-","-",null,"-","-","-","-","-","-","-","-","-","-","-","-",null,"-","-","-","-","-","-","-","-","-","-","-","-",null,"-","-","-","-","-","-","-","-","-","-","-","-",null,"-","-","-","-","-","-","-","-","-","-","-","-",null,"-","-","-","-","-","-","-","-","-","-","-","-",null,"-","-","-","-","-","-","-","-","-","-","-","-",null,"-","-","-","-","-","-","-","-","-","-","-","-",null,"-","-","-","-","-","-","-","-","-","-","-","-",null,"-","-","-","-","-","-","-","-","-","-","-","-",null,"-","-","-","-","-","-","-","-","-","-","-","-",null,"-","-","-","-","-","-","-","-","-","-","-","-",null,"-","-","-","-","-","-","-","-","-","-","-","-",null,"-","-","-","-","-","-","-","-","-","-","-","-",null,"-","-","-","-","-","-","-","-","-","-","-","-",null,"-","-","-","-","-","-","-","-","-","-","-","-",null,"-","-","-","-","-","-","-","-","-","-","-","-",null,"-","-","-","-","-","-","-","-","-","-","-","-",null,"-","-","-","-","-","-","-","-","-","-","-","-","-","-","-","-","-","-","-","-","-","-","-","-"]
[473,{"$f":"IFERROR(DataSiswa!B476,\"\")","v":0},{"$f":"IFERROR(DataSiswa!C476,\"\")","v":0},{"$f":"IFERROR(DataSiswa!E476,\"\")","v":0},null,null,null,null,null,null,null,null,null,null,null,null,0,0,0,0,{"$f":"IFERROR(VLOOKUP(B477,DataSiswa!$B$4:$D$1003,3,FALSE),\"-\")","v":"-"},"-","-","-","-","-","-","-","-","-","-","-","-","-","-","-","-","-","-","-","-","-","-","-","-",null,"-","-","-","-","-","-","-","-","-","-","-","-","-","-","-","-","-","-","-","-","-","-","-","-",null,"-","-","-","-","-","-","-","-","-","-","-","-",null,"-","-","-","-","-","-","-","-","-","-","-","-",null,"-","-","-","-","-","-","-","-","-","-","-","-",null,"-","-","-","-","-","-","-","-","-","-","-","-",null,"-","-","-","-","-","-","-","-","-","-","-","-",null,"-","-","-","-","-","-","-","-","-","-","-","-",null,"-","-","-","-","-","-","-","-","-","-","-","-",null,"-","-","-","-","-","-","-","-","-","-","-","-",null,"-","-","-","-","-","-","-","-","-","-","-","-",null,"-","-","-","-","-","-","-","-","-","-","-","-",null,"-","-","-","-","-","-","-","-","-","-","-","-",null,"-","-","-","-","-","-","-","-","-","-","-","-",null,"-","-","-","-","-","-","-","-","-","-","-","-",null,"-","-","-","-","-","-","-","-","-","-","-","-",null,"-","-","-","-","-","-","-","-","-","-","-","-",null,"-","-","-","-","-","-","-","-","-","-","-","-",null,"-","-","-","-","-","-","-","-","-","-","-","-",null,"-","-","-","-","-","-","-","-","-","-","-","-",null,"-","-","-","-","-","-","-","-","-","-","-","-",null,"-","-","-","-","-","-","-","-","-","-","-","-",null,"-","-","-","-","-","-","-","-","-","-","-","-",null,"-","-","-","-","-","-","-","-","-","-","-","-",null,"-","-","-","-","-","-","-","-","-","-","-","-",null,"-","-","-","-","-","-","-","-","-","-","-","-",null,"-","-","-","-","-","-","-","-","-","-","-","-","-","-","-","-","-","-","-","-","-","-","-","-"]
[488,{"$f":"IFERROR(DataSiswa!B491,\"\")","v":0},{"$f":"IFERROR(DataSiswa!C491,\"\")","v":0},{"$f":"IFERROR(DataSiswa!E491,\"\")","v":0},null,null,null,null,null,null,null,null,null,null,null,null,0,0,0,0,{"$f":"IFERROR(VLOOKUP(B492,DataSiswa!$B$4:$D$1003,3,FALSE),\"-\")","v":"-"},"-","-","-","-","-","-","-","-","-","-","-","-","-","-","-","-","-","-","-","-","-","-","-","-",null,"-","-","-","-","-","-","-","-","-","-","-","-","-","-","-","-","-","-","-","-","-","-","-","-",null,"-","-","-","-","-","-","-","-","-","-","-","-",null,"-","-","-","-","-","-","-","-","-","-","-","-",null,"-","-","-","-","-","-","-","-","-","-","-","-",null,"-","-","-","-","-","-","-","-","-","-","-","-",null,"-","-","-","-","-","-","-","-","-","-","-","-",null,"-","-","-","-","-","-","-","-","-","-","-","-",null,"-","-","-","-","-","-","-","-","-","-","-","-",null,"-","-","-","-","-","-","-","-","-","-","-","-",null,"-","-","-","-","-","-","-","-","-","-","-","-",null,"-","-","-","-","-","-","-","-","-","-","-","-",null,"-","-","-","-","-","-","-","-","-","-","-","-",null,"-","-","-","-","-","-","-","-","-","-","-","-",null,"-","-","-","-","-","-","-","-","-","-","-","-",null,"-","-","-","-","-","-","-","-","-","-","-","-",null,"-","-","-","-","-","-","-","-","-","-","-","-",null,"-","-","-","-","-","-","-","-","-","-","-","-",null,"-","-","-","-","-","-","-","-","-","-","-","-",null,"-","-","-","-","-","-","-","-","-","-","-","-",null,"-","-","-","-","-","-","-","-","-","-","-","-",null,"-","-","-","-","-","-","-","-","-","-","-","-",null,"-","-","-","-","-","-","-","-","-","-","-","-",null,"-","-","-","-","-","-","-","-","-","-","-","-",null,"-","-","-","-","-","-","-","-","-","-","-","-",null,"-","-","-","-","-","-","-","-","-","-","-","-",null,"-","-","-","-","-","-","-","-","-","-","-","-","-","-","-","-","-","-","-","-","-","-","-","-"]
[504,{"$f":"IFERROR(DataSiswa!B507,\"\")","v":0},{"$f":"IFERROR(DataSiswa!C507,\"\")","v":0},{"$f":"IFERROR(DataSiswa!E507,\"\")","v":0},null,null,null,null,null,null,null,null,null,null,null,null,0,0,0,0,{"$f":"IFERROR(VLOOKUP(B508,DataSiswa!$B$4:$D$1003,3,FALSE),\"-\")","v":"-"},"-","-","-","-","-","-","-","-","-","-","-","-","-","-","-","-","-","-","-","-","-","-","-","-",null,"-","-","-","-","-","-","-","-","-","-","-","-","-","-","-","-","-","-","-","-","-","-","-","-",null,"-","-","-","-","-","-","-","-","-","-","-","-",null,"-","-","-","-","-","-","-","-","-","-","-","-",null,"-","-","-","-","-","-","-","-","-","-","-","-",null,"-","-","-","-","-","-","-","-","-","-","-","-",null,"-","-","-","-","-","-","-","-","-","-","-","-",null,"-","-","-","-","-","-","-","-","-","-","-","-",null,"-","-","-","-","-","-","-","-","-","-","-","-",null,"-","-","-","-","-","-","-","-","-","-","-","-",null,"-","-","-","-","-","-","-","-","-","-","-","-",null,"-","-","-","-","-","-","-","-","-","-","-","-",null,"-","-","-","-","-","-","-","-","-","-","-","-",null,"-","-","-","-","-","-","-","-","-","-","-","-",null,"-","-","-","-","-","-","-","-","-","-","-","-",null,"-","-","-","-","-","-","-","-","-","-","-","-",null,"-","-","-","-","-","-","-","-","-","-","-","-",null,"-","-","-","-","-","-","-","-","-","-","-","-",null,"-","-","-","-","-","-","-","-","-","-","-","-",null,"-","-","-","-","-","-","-","-","-","-","-","-",null,"-","-","-","-","-","-","-","-","-","-","-","-",null,"-","-","-","-","-","-","-","-","-","-","-","-",null,"-","-","-","-","-","-","-","-","-","-","-","-",null,"-","-","-","-","-","-","-","-","-","-","-","-",null,"-","-","-","-","-","-","-","-","-","-","-","-",null,"-","-","-","-","-","-","-","-","-","-","-","-",null,"-","-","-","-","-","-","-","-","-","-","-","-","-","-","-","-","-","-","-","-","-","-","-","-"]
[519,{"$f":"IFERROR(DataSiswa!B522,\"\")","v":0},{"$f":"IFERROR(DataSiswa!C522,\"\")","v":0},{"$f":"IFERROR(DataSiswa!E522,\"\")","v":0},null,null,null,null,null,null,null,null,null,null,null,null,0,0,0,0,{"$f":"IFERROR(VLOOKUP(B523,DataSiswa!$B$4:$D$1003,3,FALSE),\"-\")","v":"-"},"-","-","-","-","-","-","-","-","-","-","-","-","-","-","-","-","-","-","-","-","-","-","-","-",null,"-","-","-","-","-","-","-","-","-","-","-","-","-","-","-","-","-","-","-","-","-","-","-","-",null,"-","-","-","-","-","-","-","-","-","-","-","-",null,"-","-","-","-","-","-","-","-","-","-","-","-",null,"-","-","-","-","-","-","-","-","-","-","-","-",null,"-","-","-","-","-","-","-","-","-","-","-","-",null,"-","-","-","-","-","-","-","-","-","-","-","-",null,"-","-","-","-","-","-","-","-","-","-","-","-",null,"-","-","-","-","-","-","-","-","-","-","-","-",null,"-","-","-","-","-","-","-","-","-","-","-","-",null,"-","-","-","-","-","-","-","-","-","-","-","-",null,"-","-","-","-","-","-","-","-","-","-","-","-",null,"-","-","-","-","-","-","-","-","-","-","-","-",null,"-","-","-","-","-","-","-","-","-","-","-","-",null,"-","-","-","-","-","-","-","-","-","-","-","-",null,"-","-","-","-","-","-","-","-","-","-","-","-",null,"-","-","-","-","-","-","-","-","-","-","-","-",null,"-","-","-","-","-","-","-","-","-","-","-","-",null,"-","-","-","-","-","-","-","-","-","-","-","-",null,"-","-","-","-","-","-","-","-","-","-","-","-",null,"-","-","-","-","-","-","-","-","-","-","-","-",null,"-","-","-","-","-","-","-","-","-","-","-","-",null,"-","-","-","-","-","-","-","-","-","-","-","-",null,"-","-","-","-","-","-","-","-","-","-","-","-",null,"-","-","-","-","-","-","-","-","-","-","-","-",null,"-","-","-","-","-","-","-","-","-","-","-","-",null,"-","-","-","-","-","-","-","-","-","-","-","-","-","-","-","-","-","-","-","-","-","-","-","-"]
[534,{"$f":"IFERROR(DataSiswa!B537,\"\")","v":0},{"$f":"IFERROR(DataSiswa!C537,\"\")","v":0},{"$f":"IFERROR(DataSiswa!E537,\"\")","v":0},null,null,null,null,null,null,null,null,null,null,null,null,0,0,0,0,{"$f":"IFERROR(VLOOKUP(B538,DataSiswa!$B$4:$D$1003,3,FALSE),\"-\")","v":"-"},"-","-","-","-","-","-","-","-","-","-","-","-","-","-","-","-","-","-","-","-","-","-","-","-",null,"-","-","-","-","-","-","-","-","-","-","-","-","-","-","-","-","-","-","-","-","-","-","-","-",null,"-","-","-","-","-","-","-","-","-","-","-","-",null,"-","-","-","-","-","-","-","-","-","-","-","-",null,"-","-","-","-","-","-","-","-","-","-","-","-",null,"-","-","-","-","-","-","-","-","-","-","-","-",null,"-","-","-","-","-","-","-","-","-","-","-","-",null,"-","-","-","-","-","-","-","-","-","-","-","-",null,"-","-","-","-","-","-","-","-","-","-","-","-",null,"-","-","-","-","-","-","-","-","-","-","-","-",null,"-","-","-","-","-","-","-","-","-","-","-","-",null,"-","-","-","-","-","-","-","-","-","-","-","-",null,"-","-","-","-","-","-","-","-","-","-","-","-",null,"-","-","-","-","-","-","-","-","-","-","-","-",null,"-","-","-","-","-","-","-","-","-","-","-","-",null,"-","-","-","-","-","-","-","-","-","-","-","-",null,"-","-","-","-","-","-","-","-","-","-","-","-",null,"-","-","-","-","-","-","-","-","-","-","-","-",null,"-","-","-","-","-","-","-","-","-","-","-","-",null,"-","-","-","-","-","-","-","-","-","-","-","-",null,"-","-","-","-","-","-","-","-","-","-","-","-",null,"-","-","-","-","-","-","-","-","-","-","-","-",null,"-","-","-","-","-","-","-","-","-","-","-","-",null,"-","-","-","-","-","-","-","-","-","-","-","-",null,"-","-","-","-","-","-","-","-","-","-","-","-",null,"-","-","-","-","-","-","-","-","-","-","-","-",null,"-","-","-","-","-","-","-","-","-","-","-","-","-","-","-","-","-","-","-","-","-","-","-","-"]
[550,{"$f":"IFERROR(DataSiswa!B553,\"\")","v":0},{"$f":"IFERROR(DataSiswa!C553,\"\")","v":0},{"$f":"IFERROR(DataSiswa!E553,\"\")","v":0},null,null,null,null,null,null,null,null,null,null,null,null,0,0,0,0,{"$f":"IFERROR(VLOOKUP(B554,DataSiswa!$B$4:$D$1003,3,FALSE),\"-\")","v":"-"},"-","-","-","-","-","-","-","-","-","-","-","-","-","-","-","-","-","-","-","-","-","-","-","-",null,"-","-","-","-","-","-","-","-","-","-","-","-","-","-","-","-","-","-","-","-","-","-","-","-",null,"-","-","-","-","-","-","-","-","-","-","-","-",null,"-","-","-","-","-","-","-","-","-","-","-","-",null,"-","-","-","-","-","-","-","-","-","-","-","-",null,"-","-","-","-","-","-","-","-","-","-","-","-",null,"-","-","-","-","-","-","-","-","-","-","-","-",null,"-","-","-","-","-","-","-","-","-","-","-","-",null,"-","-","-","-","-","-","-","-","-","-","-","-",null,"-","-","-","-","-","-","-","-","-","-","-","-",null,"-","-","-","-","-","-","-","-","-","-","-","-",null,"-","-","-","-","-","-","-","-","-","-","-","-",null,"-","-","-","-","-","-","-","-","-","-","-","-",null,"-","-","-","-","-","-","-","-","-","-","-","-",null,"-","-","-","-","-","-","-","-","-","-","-","-",null,"-","-","-","-","-","-","-","-","-","-","-","-",null,"-","-","-","-","-","-","-","-","-","-","-","-",null,"-","-","-","-","-","-","-","-","-","-","-","-",null,"-","-","-","-","-","-","-","-","-","-","-","-",null,"-","-","-","-","-","-","-","-","-","-","-","-",null,"-","-","-","-","-","-","-","-","-","-","-","-",null,"-","-","-","-","-","-","-","-","-","-","-","-",null,"-","-","-","-","-","-","-","-","-","-","-","-",null,"-","-","-","-","-","-","-","-","-","-","-","-",null,"-","-","-","-","-","-","-","-","-","-","-","-",null,"-","-","-","-","-","-","-","-","-","-","-","-",null,"-","-","-","-","-","-","-","-","-","-","-","-","-","-","-","-","-","-","-","-","-","-","-","-"]
[565,{"$f":"IFERROR(DataSiswa!B568,\"\")","v":0},{"$f":"IFERROR(DataSiswa!C568,\"\")","v":0},{"$f":"IFERROR(DataSiswa!E568,\"\")","v":0},null,null,null,null,null,null,null,null,null,null,null,null,0,0,0,0,{"$f":"IFERROR(VLOOKUP(B569,DataSiswa!$B$4:$D$1003,3,FALSE),\"-\")","v":"-"},"-","-","-","-","-","-","-","-","-","-","-","-","-","-","-","-","-","-","-","-","-","-","-","-",null,"-","-","-","-","-","-","-","-","-","-","-","-","-","-","-","-","-","-","-","-","-","-","-","-",null,"-","-","-","-","-","-","-","-","-","-","-","-",null,"-","-","-","-","-","-","-","-","-","-","-","-",null,"-","-","-","-","-","-","-","-","-","-","-","-",null,"-","-","-","-","-","-","-","-","-","-","-","-",null,"-","-","-","-","-","-","-","-","-","-","-","-",null,"-","-","-","-","-","-","-","-","-","-","-","-",null,"-","-","-","-","-","-","-","-","-","-","-","-",null,"-","-","-","-","-","-","-","-","-","-","-","-",null,"-","-","-","-","-","-","-","-","-","-","-","-",null,"-","-","-","-","-","-","-","-","-","-","-","-",null,"-","-","-","-","-","-","-","-","-","-","-","-",null,"-","-","-","-","-","-","-","-","-","-","-","-",null,"-","-","-","-","-","-","-","-","-","-","-","-",null,"-","-","-","-","-","-","-","-","-","-","-","-",null,"-","-","-","-","-","-","-","-","-","-","-","-",null,"-","-","-","-","-","-","-","-","-","-","-","-",null,"-","-","-","-","-","-","-","-","-","-","-","-",null,"-","-","-","-","-","-","-","-","-","-","-","-",null,"-","-","-","-","-","-","-","-","-","-","-","-",null,"-","-","-","-","-","-","-","-","-","-","-","-",null,"-","-","-","-","-","-","-","-","-","-","-","-",null,"-","-","-","-","-","-","-","-","-","-","-","-",null,"-","-","-","-","-","-","-","-","-","-","-","-",null,"-","-","-","-","-","-","-","-","-","-","-","-",null,"-","-","-","-","-","-","-","-","-","-","-","-","-","-","-","-","-","-","-","-","-","-","-","-"]
[580,{"$f":"IFERROR(DataSiswa!B583,\"\")","v":0},{"$f":"IFERROR(DataSiswa!C583,\"\")","v":0},{"$f":"IFERROR(DataSiswa!E583,\"\")","v":0},null,null,null,null,null,null,null,null,null,null,null,null,0,0,0,0,{"$f":"IFERROR(VLOOKUP(B584,DataSiswa!$B$4:$D$1003,3,FALSE),\"-\")","v":"-"},"-","-","-","-","-","-","-","-","-","-","-","-","-","-","-","-","-","-","-","-","-","-","-","-",null,"-","-","-","-","-","-","-","-","-","-","-","-","-","-","-","-","-","-","-","-","-","-","-","-",null,"-","-","-","-","-","-","-","-","-","-","-","-",null,"-","-","-","-","-","-","-","-","-","-","-","-",null,"-","-","-","-","-","-","-","-","-","-","-","-",null,"-","-","-","-","-","-","-","-","-","-","-","-",null,"-","-","-","-","-","-","-","-","-","-","-","-",null,"-","-","-","-","-","-","-","-","-","-","-","-",null,"-","-","-","-","-","-","-","-","-","-","-","-",null,"-","-","-","-","-","-","-","-","-","-","-","-",null,"-","-","-","-","-","-","-","-","-","-","-","-",null,"-","-","-","-","-","-","-","-","-","-","-","-",null,"-","-","-","-","-","-","-","-","-","-","-","-",null,"-","-","-","-","-","-","-","-","-","-","-","-",null,"-","-","-","-","-","-","-","-","-","-","-","-",null,"-","-","-","-","-","-","-","-","-","-","-","-",null,"-","-","-","-","-","-","-","-","-","-","-","-",null,"-","-","-","-","-","-","-","-","-","-","-","-",null,"-","-","-","-","-","-","-","-","-","-","-","-",null,"-","-","-","-","-","-","-","-","-","-","-","-",null,"-","-","-","-","-","-","-","-","-","-","-","-",null,"-","-","-","-","-","-","-","-","-","-","-","-",null,"-","-","-","-","-","-","-","-","-","-","-","-",null,"-","-","-","-","-","-","-","-","-","-","-","-",null,"-","-","-","-","-","-","-","-","-","-","-","-",null,"-","-","-","-","-","-","-","-","-","-","-","-",null,"-","-","-","-","-","-","-","-","-","-","-","-","-","-","-","-","-","-","-","-","-","-","-","-"]
[596,{"$f":"IFERROR(DataSiswa!B599,\"\")","v":0},{"$f":"IFERROR(DataSiswa!C599,\"\")","v":0},{"$f":"IFERROR(DataSiswa!E599,\"\")","v":0},null,null,null,null,null,null,null,null,null,null,null,null,0,0,0,0,{"$f":"IFERROR(VLOOKUP(B600,DataSiswa!$B$4:$D$1003,3,FALSE),\"-\")","v":"-"},"-","-","-","-","-","-","-","-","-","-","-","-","-","-","-","-","-","-","-","-","-","-","-","-",null,"-","-","-","-","-","-","-","-","-","-","-","-","-","-","-","-","-","-","-","-","-","-","-","-",null,"-","-","-","-","-","-","-","-","-","-","-","-",null,"-","-","-","-","-","-","-","-","-","-","-","-",null,"-","-","-","-","-","-","-","-","-","-","-","-",null,"-","-","-","-","-","-","-","-","-","-","-","-",null,"-","-","-","-","-","-","-","-","-","-","-","-",null,"-","-","-","-","-","-","-","-","-","-","-","-",null,"-","-","-","-","-","-","-","-","-","-","-","-",null,"-","-","-","-","-","-","-","-","-","-","-","-",null,"-","-","-","-","-","-","-","-","-","-","-","-",null,"-","-","-","-","-","-","-","-","-","-","-","-",null,"-","-","-","-","-","-","-","-","-","-","-","-",null,"-","-","-","-","-","-","-","-","-","-","-","-",null,"-","-","-","-","-","-","-","-","-","-","-","-",null,"-","-","-","-","-","-","-","-","-","-","-","-",null,"-","-","-","-","-","-","-","-","-","-","-","-",null,"-","-","-","-","-","-","-","-","-","-","-","-",null,"-","-","-","-","-","-","-","-","-","-","-","-",null,"-","-","-","-","-","-","-","-","-","-","-","-",null,"-","-","-","-","-","-","-","-","-","-","-","-",null,"-","-","-","-","-","-","-","-","-","-","-","-",null,"-","-","-","-","-","-","-","-","-","-","-","-",null,"-","-","-","-","-","-","-","-","-","-","-","-",null,"-","-","-","-","-","-","-","-","-","-","-","-",null,"-","-","-","-","-","-","-","-","-","-","-","-",null,"-","-","-","-","-","-","-","-","-","-","-","-","-","-","-","-","-","-","-","-","-","-","-","-"]
[611,{"$f":"IFERROR(DataSiswa!B614,\"\")","v":0},{"$f":"IFERROR(DataSiswa!C614,\"\")","v":0},{"$f":"IFERROR(DataSiswa!E614,\"\")","v":0},null,null,null,null,null,null,null,null,null,null,null,null,0,0,0,0,{"$f":"IFERROR(VLOOKUP(B615,DataSiswa!$B$4:$D$1003,3,FALSE),\"-\")","v":"-"},"-","-","-","-","-","-","-","-","-","-","-","-","-","-","-","-","-","-","-","-","-","-","-","-",null,"-","-","-","-","-","-","-","-","-","-","-","-","-","-","-","-","-","-","-","-","-","-","-","-",null,"-","-","-","-","-","-","-","-","-","-","-","-",null,"-","-","-","-","-","-","-","-","-","-","-","-",null,"-","-","-","-","-","-","-","-","-","-","-","-",null,"-","-","-","-","-","-","-","-","-","-","-","-",null,"-","-","-","-","-","-","-","-","-","-","-","-",null,"-","-","-","-","-","-","-","-","-","-","-","-",null,"-","-","-","-","-","-","-","-","-","-","-","-",null,"-","-","-","-","-","-","-","-","-","-","-","-",null,"-","-","-","-","-","-","-","-","-","-","-","-",null,"-","-","-","-","-","-","-","-","-","-","-","-",null,"-","-","-","-","-","-","-","-","-","-","-","-",null,"-","-","-","-","-","-","-","-","-","-","-","-",null,"-","-","-","-","-","-","-","-","-","-","-","-",null,"-","-","-","-","-","-","-","-","-","-","-","-",null,"-","-","-","-","-","-","-","-","-","-","-","-",null,"-","-","-","-","-","-","-","-","-","-","-","-",null,"-","-","-","-","-","-","-","-","-","-","-","-",null,"-","-","-","-","-","-","-","-","-","-","-","-",null,"-","-","-","-","-","-","-","-","-","-","-","-",null,"-","-","-","-","-","-","-","-","-","-","-","-",null,"-","-","-","-","-","-","-","-","-","-","-","-",null,"-","-","-","-","-","-","-","-","-","-","-","-",null,"-","-","-","-","-","-","-","-","-","-","-","-",null,"-","-","-","-","-","-","-","-","-","-","-","-",null,"-","-","-","-","-","-","-","-","-","-","-","-","-","-","-","-","-","-","-","-","-","-","-","-"]
[612,{"$f":"IFERROR(DataSiswa!B615,\"\")","v":0},{"$f":"IFERROR(DataSiswa!C615,\"\")","v":0},{"$f":"IFERROR(DataSiswa!E615,\"\")","v":0},null,null,null,null,null,null,null,null,null,null,null,null,0,0,0,0,{"$f":"IFERROR(VLOOKUP(B616,DataSiswa!$B$4:$D$1003,3,FALSE),\"-\")","v":"-"},"-","-","-","-","-","-","-","-","-","-","-","-","-","-","-","-","-","-","-","-","-","-","-","-",null,"-","-","-","-","-","-","-","-","-","-","-","-","-","-","-","-","-","-","-","-","-","-","-","-",null,"-","-","-","-","-","-","-","-","-","-","-","-",null,"-","-","-","-","-","-","-","-","-","-","-","-",null,"-","-","-","-","-","-","-","-","-","-","-","-",null,"-","-","-","-","-","-","-","-","-","-","-","-",null,"-","-","-","-","-","-","-","-","-","-","-","-",null,"-","-","-","-","-","-","-","-","-","-","-","-",null,"-","-","-","-","-","-","-","-","-","-","-","-",null,"-","-","-","-","-","-","-","-","-","-","-","-",null,"-","-","-","-","-","-","-","-","-","-","-","-",null,"-","-","-","-","-","-","-","-","-","-","-","-",null,"-","-","-","-","-","-","-","-","-","-","-","-",null,"-","-","-","-","-","-","-","-","-","-","-","-",null,"-","-","-","-","-","-","-","-","-","-","-","-",null,"-","-","-","-","-","-","-","-","-","-","-","-",null,"-","-","-","-","-","-","-","-","-","-","-","-",null,"-","-","-","-","-","-","-","-","-","-","-","-",null,"-","-","-","-","-","-","-","-","-","-","-","-",null,"-","-","-","-","-","-","-","-","-","-","-","-",null,"-","-","-","-","-","-","-","-","-","-","-","-",null,"-","-","-","-","-","-","-","-","-","-","-","-",null,"-","-","-","-","-","-","-","-","-","-","-","-",null,"-","-","-","-","-","-","-","-","-","-","-","-",null,"-","-","-","-","-","-","-","-","-","-","-","-",null,"-","-","-","-","-","-","-","-","-","-","-","-",null,"-","-","-","-","-","-","-","-","-","-","-","-","-","-","-","-","-","-","-","-","-","-","-","-"]
[627,{"$f":"IFERROR(DataSiswa!B630,\"\")","v":0},{"$f":"IFERROR(DataSiswa!C630,\"\")","v":0},{"$f":"IFERROR(DataSiswa!E630,\"\")","v":0},null,null,null,null,null,null,null,null,null,null,null,null,0,0,0,0,{"$f":"IFERROR(VLOOKUP(B631,DataSiswa!$B$4:$D$1003,3,FALSE),\"-\")","v":"-"},"-","-","-","-","-","-","-","-","-","-","-","-","-","-","-","-","-","-","-","-","-","-","-","-",null,"-","-","-","-","-","-","-","-","-","-","-","-","-","-","-","-","-","-","-","-","-","-","-","-",null,"-","-","-","-","-","-","-","-","-","-","-","-",null,"-","-","-","-","-","-","-","-","-","-","-","-",null,"-","-","-","-","-","-","-","-","-","-","-","-",null,"-","-","-","-","-","-","-","-","-","-","-","-",null,"-","-","-","-","-","-","-","-","-","-","-","-",null,"-","-","-","-","-","-","-","-","-","-","-","-",null,"-","-","-","-","-","-","-","-","-","-","-","-",null,"-","-","-","-","-","-","-","-","-","-","-","-",null,"-","-","-","-","-","-","-","-","-","-","-","-",null,"-","-","-","-","-","-","-","-","-","-","-","-",null,"-","-","-","-","-","-","-","-","-","-","-","-",null,"-","-","-","-","-","-","-","-","-","-","-","-",null,"-","-","-","-","-","-","-","-","-","-","-","-",null,"-","-","-","-","-","-","-","-","-","-","-","-",null,"-","-","-","-","-","-","-","-","-","-","-","-",null,"-","-","-","-","-","-","-","-","-","-","-","-",null,"-","-","-","-","-","-","-","-","-","-","-","-",null,"-","-","-","-","-","-","-","-","-","-","-","-",null,"-","-","-","-","-","-","-","-","-","-","-","-",null,"-","-","-","-","-","-","-","-","-","-","-","-",null,"-","-","-","-","-","-","-","-","-","-","-","-",null,"-","-","-","-","-","-","-","-","-","-","-","-",null,"-","-","-","-","-","-","-","-","-","-","-","-",null,"-","-","-","-","-","-","-","-","-","-","-","-",null,"-","-","-","-","-","-","-","-","-","-","-","-","-","-","-","-","-","-","-","-","-","-","-","-"]
[642,{"$f":"IFERROR(DataSiswa!B645,\"\")","v":0},{"$f":"IFERROR(DataSiswa!C645,\"\")","v":0},{"$f":"IFERROR(DataSiswa!E645,\"\")","v":0},null,null,null,null,null,null,null,null,null,null,null,null,{"$f":"SUM(E646:P646)","v":0},{"$f":"D646*12-Q646","v":0},{"$f":"D646*6","v":0},{"$f":"D646*12","v":0},{"$f":"IFERROR(VLOOKUP(B646,DataSiswa!$B$4:$D$1003,3,FALSE),\"-\")","v":"-"},{"$f":"IF(U646=\"1A\",Q646,\"-\")","v":"-"},{"$f":"IF(U646=\"1B\",Q646,\"-\")","v":"-"},{"$f":"IF(U646=\"1C\",Q646,\"-\")","v":"-"},{"$f":"IF(U646=\"1D\",Q646,\"-\")","v":"-"},{"$f":"IF(U646=\"2A\",Q646,\"-\")","v":"-"},{"$f":"IF(U646=\"2B\",Q646,\"-\")","v":"-"},{"$f":"IF(U646=\"2C\",Q646,\"-\")","v":"-"},{"$f":"IF(U646=\"2D\",Q646,\"-\")","v":"-"},{"$f":"IF(U646=\"3A\",Q646,\"-\")","v":"-"},{"$f":"IF(U646=\"3B\",Q646,\"-\")","v":"-"},{"$f":"IF(U646=\"3C\",Q646,\"-\")","v":"-"},{"$f":"IF(U646=\"3D\",Q646,\"-\")","v":"-"},{"$f":"IF(U646=\"4A\",Q646,\"-\")","v":"-"},{"$f":"IF(U646=\"4B\",Q646,\"-\")","v":"-"},{"$f":"IF(U646=\"4C\",Q646,\"-\")","v":"-"},{"$f":"IF(U646=\"4D\",Q646,\"-\")","v":"-"},{"$f":"IF(U646=\"5A\",Q646,\"-\")","v":"-"},{"$f":"IF(U646=\"5B\",Q646,\"-\")","v":"-"},{"$f":"IF(U646=\"5C\",Q646,\"-\")","v":"-"},{"$f":"IF(U646=\"5D\",Q646,\"-\")","v":"-"},{"$f":"IF(U646=\"6A\",Q646,\"-\")","v":"-"},{"$f":"IF(U646=\"6B\",Q646,\"-\")","v":"-"},{"$f":"IF(U646=\"6C\",Q646,\"-\")","v":"-"},{"$f":"IF(U646=\"6D\",Q646,\"-\")","v":"-"},null,{"$f":"IF(U646=\"1A\",D646*12,\"-\")","v":"-"},{"$f":"IF(U646=\"1B\",D646*12,\"-\")","v":"-"},{"$f":"IF(U646=\"1C\",D646*12,\"-\")","v":"-"},{"$f":"IF(U646=\"1D\",D646*12,\"-\")","v":"-"},{"$f":"IF(U646=\"2A\",D646*12,\"-\")","v":"-"},{"$f":"IF(U646=\"2B\",D646*12,\"-\")","v":"-"},{"$f":"IF(U646=\"2C\",D646*12,\"-\")","v":"-"},{"$f":"IF(U646=\"2D\",D646*12,\"-\")","v":"-"},{"$f":"IF(U646=\"3A\",D646*12,\"-\")","v":"-"},{"$f":"IF(U646=\"3B\",D646*12,\"-\")","v":"-"},{"$f":"IF(U646=\"3C\",D646*12,\"-\")","v":"-"},{"$f":"IF(U646=\"3D\",D646*12,\"-\")","v":"-"},{"$f":"IF(U646=\"4A\",D646*12,\"-\")","v":"-"},{"$f":"IF(U646=\"4B\",D646*12,\"-\")","v":"-"},{"$f":"IF(U646=\"4C\",D646*12,\"-\")","v":"-"},{"$f":"IF(U646=\"4D\",D646*12,\"-\")","v":"-"},{"$f":"IF(U646=\"5A\",D646*12,\"-\")","v":"-"},{"$f":"IF(U646=\"5B\",D646*12,\"-\")","v":"-"},{"$f":"IF(U646=\"5C\",D646*12,\"-\")","v":"-"},{"$f":"IF(U646=\"5D\",D646*12,\"-\")","v":"-"},{"$f":"IF(U646=\"6A\",D646*12,\"-\")","v":"-"},{"$f":"IF(U646=\"6B\",D646*12,\"-\")","v":"-"},{"$f":"IF(U646=\"6C\",D646*12,\"-\")","v":"-"},{"$f":"IF(U646=\"6D\",D646*12,\"-\")","v":"-"},null,{"$f":"IF(U646=\"1A\",E646,\"-\")","v":"-"},{"$f":"IF(U646=\"1A\",F646,\"-\")","v":"-"},{"$f":"IF(U646=\"1A\",G646,\"-\")","v":"-"},{"$f":"IF(U646=\"1A\",H646,\"-\")","v":"-"},{"$f":"IF(U646=\"1A\",I646,\"-\")","v":"-"},{"$f":"IF(U646=\"1A\",J646,\"-\")","v":"-"},{"$f":"IF(U646=\"1A\",K646,\"-\")","v":"-"},{"$f":"IF(U646=\"1A\",L646,\"-\")","v":"-"},{"$f":"IF(U646=\"1A\",M646,\"-\")","v":"-"},{"$f":"IF(U646=\"1A\",N646,\"-\")","v":"-"},{"$f":"IF(U646=\"1A\",O646,\"-\")","v":"-"},{"$f":"IF(U646=\"1A\",P646,\"-\")","v":"-"},null,{"$f":"IF(U646=\"1B\",E646,\"-\")","v":"-"},{"$f":"IF(U646=\"1B\",F646,\"-\")","v":"-"},{"$f":"IF(U646=\"1B\",G646,\"-\")","v":"-"},{"$f":"IF(U646=\"1B\",H646,\"-\")","v":"-"},{"$f":"IF(U646=\"1B\",I646,\"-\")","v":"-"},{"$f":"IF(U646=\"1B\",J646,\"-\")","v":"-"},{"$f":"IF(U646=\"1B\",K646,\"-\")","v":"-"},{"$f":"IF(U646=\"1B\",L646,\"-\")","v":"-"},{"$f":"IF(U646=\"1B\",M646,\"-\")","v":"-"},{"$f":"IF(U646=\"1B\",N646,\"-\")","v":"-"},{"$f":"IF(U646=\"1B\",O646,\"-\")","v":"-"},{"$f":"IF(U646=\"1B\",P646,\"-\")","v":"-"},null,{"$f":"IF(U646=\"1C\",E646,\"-\")","v":"-"},{"$f":"IF(U646=\"1C\",F646,\"-\")","v":"-"},{"$f":"IF(U646=\"1C\",G646,\"-\")","v":"-"},{"$f":"IF(U646=\"1C\",H646,\"-\")","v":"-"},{"$f":"IF(U646=\"1C\",I646,\"-\")","v":"-"},{"$f":"IF(U646=\"1C\",J646,\"-\")","v":"-"},{"$f":"IF(U646=\"1C\",K646,\"-\")","v":"-"},{"$f":"IF(U646=\"1C\",L646,\"-\")","v":"-"},{"$f":"IF(U646=\"1C\",M646,\"-\")","v":"-"},{"$f":"IF(U646=\"1C\",N646,\"-\")","v":"-"},{"$f":"IF(U646=\"1C\",O646,\"-\")","v":"-"},{"$f":"IF(U646=\"1C\",P646,\"-\")","v":"-"},null,{"$f":"IF(U646=\"1D\",E646,\"-\")","v":"-"},{"$f":"IF(U646=\"1D\",F646,\"-\")","v":"-"},{"$f":"IF(U646=\"1D\",G646,\"-\")","v":"-"},{"$f":"IF(U646=\"1D\",H646,\"-\")","v":"-"},{"$f":"IF(U646=\"1D\",I646,\"-\")","v":"-"},{"$f":"IF(U646=\"1D\",J646,\"-\")","v":"-"},{"$f":"IF(U646=\"1D\",K646,\"-\")","v":"-"},{"$f":"IF(U646=\"1D\",L646,\"-\")","v":"-"},{"$f":"IF(U646=\"1D\",M646,\"-\")","v":"-"},{"$f":"IF(U646=\"1D\",N646,\"-\")","v":"-"},{"$f":"IF(U646=\"1D\",O646,\"-\")","v":"-"},{"$f":"IF(U646=\"1D\",P646,\"-\")","v":"-"},null,{"$f":"IF(U646=\"2A\",E646,\"-\")","v":"-"},{"$f":"IF(U646=\"2A\",F646,\"-\")","v":"-"},{"$f":"IF(U646=\"2A\",G646,\"-\")","v":"-"},{"$f":"IF(U646=\"2A\",H646,\"-\")","v":"-"},{"$f":"IF(U646=\"2A\",I646,\"-\")","v":"-"},{"$f":"IF(U646=\"2A\",J646,\"-\")","v":"-"},{"$f":"IF(U646=\"2A\",K646,\"-\")","v":"-"},{"$f":"IF(U646=\"2A\",L646,\"-\")","v":"-"},{"$f":"IF(U646=\"2A\",M646,\"-\")","v":"-"},{"$f":"IF(U646=\"2A\",N646,\"-\")","v":"-"},{"$f":"IF(U646=\"2A\",O646,\"-\")","v":"-"},{"$f":"IF(U646=\"2A\",P646,\"-\")","v":"-"},null,{"$f":"IF(U646=\"2B\",E646,\"-\")","v":"-"},{"$f":"IF(U646=\"2B\",F646,\"-\")","v":"-"},{"$f":"IF(U646=\"2B\",G646,\"-\")","v":"-"},{"$f":"IF(U646=\"2B\",H646,\"-\")","v":"-"},{"$f":"IF(U646=\"2B\",I646,\"-\")","v":"-"},{"$f":"IF(U646=\"2B\",J646,\"-\")","v":"-"},{"$f":"IF(U646=\"2B\",K646,\"-\")","v":"-"},{"$f":"IF(U646=\"2B\",L646,\"-\")","v":"-"},{"$f":"IF(U646=\"2B\",M646,\"-\")","v":"-"},{"$f":"IF(U646=\"2B\",N646,\"-\")","v":"-"},{"$f":"IF(U646=\"2B\",O646,\"-\")","v":"-"},{"$f":"IF(U646=\"2B\",P646,\"-\")","v":"-"},null,{"$f":"IF(U646=\"2C\",E646,\"-\")","v":"-"},{"$f":"IF(U646=\"2C\",F646,\"-\")","v":"-"},{"$f":"IF(U646=\"2C\",G646,\"-\")","v":"-"},{"$f":"IF(U646=\"2C\",H646,\"-\")","v":"-"},{"$f":"IF(U646=\"2C\",I646,\"-\")","v":"-"},{"$f":"IF(U646=\"2C\",J646,\"-\")","v":"-"},{"$f":"IF(U646=\"2C\",K646,\"-\")","v":"-"},{"$f":"IF(U646=\"2C\",L646,\"-\")","v":"-"},{"$f":"IF(U646=\"2C\",M646,\"-\")","v":"-"},{"$f":"IF(U646=\"2C\",N646,\"-\")","v":"-"},{"$f":"IF(U646=\"2C\",O646,\"-\")","v":"-"},{"$f":"IF(U646=\"2C\",P646,\"-\")","v":"-"},null,{"$f":"IF(U646=\"2D\",E646,\"-\")","v":"-"},{"$f":"IF(U646=\"2D\",F646,\"-\")","v":"-"},{"$f":"IF(U646=\"2D\",G646,\"-\")","v":"-"},{"$f":"IF(U646=\"2D\",H646,\"-\")","v":"-"},{"$f":"IF(U646=\"2D\",I646,\"-\")","v":"-"},{"$f":"IF(U646=\"2D\",J646,\"-\")","v":"-"},{"$f":"IF(U646=\"2D\",K646,\"-\")","v":"-"},{"$f":"IF(U646=\"2D\",L646,\"-\")","v":"-"},{"$f":"IF(U646=\"2D\",M646,\"-\")","v":"-"},{"$f":"IF(U646=\"2D\",N646,\"-\")","v":"-"},{"$f":"IF(U646=\"2D\",O646,\"-\")","v":"-"},{"$f":"IF(U646=\"2D\",P646,\"-\")","v":"-"},null,{"$f":"IF(U646=\"3A\",E646,\"-\")","v":"-"},{"$f":"IF(U646=\"3A\",F646,\"-\")","v":"-"},{"$f":"IF(U646=\"3A\",G646,\"-\")","v":"-"},{"$f":"IF(U646=\"3A\",H646,\"-\")","v":"-"},{"$f":"IF(U646=\"3A\",I646,\"-\")","v":"-"},{"$f":"IF(U646=\"3A\",J646,\"-\")","v":"-"},{"$f":"IF(U646=\"3A\",K646,\"-\")","v":"-"},{"$f":"IF(U646=\"3A\",L646,\"-\")","v":"-"},{"$f":"IF(U646=\"3A\",M646,\"-\")","v":"-"},{"$f":"IF(U646=\"3A\",N646,\"-\")","v":"-"},{"$f":"IF(U646=\"3A\",O646,\"-\")","v":"-"},{"$f":"IF(U646=\"3A\",P646,\"-\")","v":"-"},null,{"$f":"IF(U646=\"3B\",E646,\"-\")","v":"-"},{"$f":"IF(U646=\"3B\",F646,\"-\")","v":"-"},{"$f":"IF(U646=\"3B\",G646,\"-\")","v":"-"},{"$f":"IF(U646=\"3B\",H646,\"-\")","v":"-"},{"$f":"IF(U646=\"3B\",I646,\"-\")","v":"-"},{"$f":"IF(U646=\"3B\",J646,\"-\")","v":"-"},{"$f":"IF(U646=\"3B\",K646,\"-\")","v":"-"},{"$f":"IF(U646=\"3B\",L646,\"-\")","v":"-"},{"$f":"IF(U646=\"3B\",M646,\"-\")","v":"-"},{"$f":"IF(U646=\"3B\",N646,\"-\")","v":"-"},{"$f":"IF(U646=\"3B\",O646,\"-\")","v":"-"},{"$f":"IF(U646=\"3B\",P646,\"-\")","v":"-"},null,{"$f":"IF(U646=\"3C\",E646,\"-\")","v":"-"},{"$f":"IF(U646=\"3C\",F646,\"-\")","v":"-"},{"$f":"IF(U646=\"3C\",G646,\"-\")","v":"-"},{"$f":"IF(U646=\"3C\",H646,\"-\")","v":"-"},{"$f":"IF(U646=\"3C\",I646,\"-\")","v":"-"},{"$f":"IF(U646=\"3C\",J646,\"-\")","v":"-"},{"$f":"IF(U646=\"3C\",K646,\"-\")","v":"-"},{"$f":"IF(U646=\"3C\",L646,\"-\")","v":"-"},{"$f":"IF(U646=\"3C\",M646,\"-\")","v":"-"},{"$f":"IF(U646=\"3C\",N646,\"-\")","v":"-"},{"$f":"IF(U646=\"3C\",O646,\"-\")","v":"-"},{"$f":"IF(U646=\"3C\",P646,\"-\")","v":"-"},null,{"$f":"IF(U646=\"3D\",E646,\"-\")","v":"-"},{"$f":"IF(U646=\"3D\",F646,\"-\")","v":"-"},{"$f":"IF(U646=\"3D\",G646,\"-\")","v":"-"},{"$f":"IF(U646=\"3D\",H646,\"-\")","v":"-"},{"$f":"IF(U646=\"3D\",I646,\"-\")","v":"-"},{"$f":"IF(U646=\"3D\",J646,\"-\")","v":"-"},{"$f":"IF(U646=\"3D\",K646,\"-\")","v":"-"},{"$f":"IF(U646=\"3D\",L646,\"-\")","v":"-"},{"$f":"IF(U646=\"3D\",M646,\"-\")","v":"-"},{"$f":"IF(U646=\"3D\",N646,\"-\")","v":"-"},{"$f":"IF(U646=\"3D\",O646,\"-\")","v":"-"},{"$f":"IF(U646=\"3D\",P646,\"-\")","v":"-"},null,{"$f":"IF(U646=\"4A\",E646,\"-\")","v":"-"},{"$f":"IF(U646=\"4A\",F646,\"-\")","v":"-"},{"$f":"IF(U646=\"4A\",G646,\"-\")","v":"-"},{"$f":"IF(U646=\"4A\",H646,\"-\")","v":"-"},{"$f":"IF(U646=\"4A\",I646,\"-\")","v":"-"},{"$f":"IF(U646=\"4A\",J646,\"-\")","v":"-"},{"$f":"IF(U646=\"4A\",K646,\"-\")","v":"-"},{"$f":"IF(U646=\"4A\",L646,\"-\")","v":"-"},{"$f":"IF(U646=\"4A\",M646,\"-\")","v":"-"},{"$f":"IF(U646=\"4A\",N646,\"-\")","v":"-"},{"$f":"IF(U646=\"4A\",O646,\"-\")","v":"-"},{"$f":"IF(U646=\"4A\",P646,\"-\")","v":"-"},null,{"$f":"IF(U646=\"4B\",E646,\"-\")","v":"-"},{"$f":"IF(U646=\"4B\",F646,\"-\")","v":"-"},{"$f":"IF(U646=\"4B\",G646,\"-\")","v":"-"},{"$f":"IF(U646=\"4B\",H646,\"-\")","v":"-"},{"$f":"IF(U646=\"4B\",I646,\"-\")","v":"-"},{"$f":"IF(U646=\"4B\",J646,\"-\")","v":"-"},{"$f":"IF(U646=\"4B\",K646,\"-\")","v":"-"},{"$f":"IF(U646=\"4B\",L646,\"-\")","v":"-"},{"$f":"IF(U646=\"4B\",M646,\"-\")","v":"-"},{"$f":"IF(U646=\"4B\",N646,\"-\")","v":"-"},{"$f":"IF(U646=\"4B\",O646,\"-\")","v":"-"},{"$f":"IF(U646=\"4B\",P646,\"-\")","v":"-"},null,{"$f":"IF(U646=\"4C\",E646,\"-\")","v":"-"},{"$f":"IF(U646=\"4C\",F646,\"-\")","v":"-"},{"$f":"IF(U646=\"4C\",G646,\"-\")","v":"-"},{"$f":"IF(U646=\"4C\",H646,\"-\")","v":"-"},{"$f":"IF(U646=\"4C\",I646,\"-\")","v":"-"},{"$f":"IF(U646=\"4C\",J646,\"-\")","v":"-"},{"$f":"IF(U646=\"4C\",K646,\"-\")","v":"-"},{"$f":"IF(U646=\"4C\",L646,\"-\")","v":"-"},{"$f":"IF(U646=\"4C\",M646,\"-\")","v":"-"},{"$f":"IF(U646=\"4C\",N646,\"-\")","v":"-"},{"$f":"IF(U646=\"4C\",O646,\"-\")","v":"-"},{"$f":"IF(U646=\"4C\",P646,\"-\")","v":"-"},null,{"$f":"IF(U646=\"4D\",E646,\"-\")","v":"-"},{"$f":"IF(U646=\"4D\",F646,\"-\")","v":"-"},{"$f":"IF(U646=\"4D\",G646,\"-\")","v":"-"},{"$f":"IF(U646=\"4D\",H646,\"-\")","v":"-"},{"$f":"IF(U646=\"4D\",I646,\"-\")","v":"-"},{"$f":"IF(U646=\"4D\",J646,\"-\")","v":"-"},{"$f":"IF(U646=\"4D\",K646,\"-\")","v":"-"},{"$f":"IF(U646=\"4D\",L646,\"-\")","v":"-"},{"$f":"IF(U646=\"4D\",M646,\"-\")","v":"-"},{"$f":"IF(U646=\"4D\",N646,\"-\")","v":"-"},{"$f":"IF(U646=\"4D\",O646,\"-\")","v":"-"},{"$f":"IF(U646=\"4D\",P646,\"-\")","v":"-"},null,{"$f":"IF(U646=\"5A\",E646,\"-\")","v":"-"},{"$f":"IF(U646=\"5A\",F646,\"-\")","v":"-"},{"$f":"IF(U646=\"5A\",G646,\"-\")","v":"-"},{"$f":"IF(U646=\"5A\",H646,\"-\")","v":"-"},{"$f":"IF(U646=\"5A\",I646,\"-\")","v":"-"},{"$f":"IF(U646=\"5A\",J646,\"-\")","v":"-"},{"$f":"IF(U646=\"5A\",K646,\"-\")","v":"-"},{"$f":"IF(U646=\"5A\",L646,\"-\")","v":"-"},{"$f":"IF(U646=\"5A\",M646,\"-\")","v":"-"},{"$f":"IF(U646=\"5A\",N646,\"-\")","v":"-"},{"$f":"IF(U646=\"5A\",O646,\"-\")","v":"-"},{"$f":"IF(U646=\"5A\",P646,\"-\")","v":"-"},null,{"$f":"IF(U646=\"5B\",E646,\"-\")","v":"-"},{"$f":"IF(U646=\"5B\",F646,\"-\")","v":"-"},{"$f":"IF(U646=\"5B\",G646,\"-\")","v":"-"},{"$f":"IF(U646=\"5B\",H646,\"-\")","v":"-"},{"$f":"IF(U646=\"5B\",I646,\"-\")","v":"-"},{"$f":"IF(U646=\"5B\",J646,\"-\")","v":"-"},{"$f":"IF(U646=\"5B\",K646,\"-\")","v":"-"},{"$f":"IF(U646=\"5B\",L646,\"-\")","v":"-"},{"$f":"IF(U646=\"5B\",M646,\"-\")","v":"-"},{"$f":"IF(U646=\"5B\",N646,\"-\")","v":"-"},{"$f":"IF(U646=\"5B\",O646,\"-\")","v":"-"},{"$f":"IF(U646=\"5B\",P646,\"-\")","v":"-"},null,{"$f":"IF(U646=\"5C\",E646,\"-\")","v":"-"},{"$f":"IF(U646=\"5C\",F646,\"-\")","v":"-"},{"$f":"IF(U646=\"5C\",G646,\"-\")","v":"-"},{"$f":"IF(U646=\"5C\",H646,\"-\")","v":"-"},{"$f":"IF(U646=\"5C\",I646,\"-\")","v":"-"},{"$f":"IF(U646=\"5C\",J646,\"-\")","v":"-"},{"$f":"IF(U646=\"5C\",K646,\"-\")","v":"-"},{"$f":"IF(U646=\"5C\",L646,\"-\")","v":"-"},{"$f":"IF(U646=\"5C\",M646,\"-\")","v":"-"},{"$f":"IF(U646=\"5C\",N646,\"-\")","v":"-"},{"$f":"IF(U646=\"5C\",O646,\"-\")","v":"-"},{"$f":"IF(U646=\"5C\",P646,\"-\")","v":"-"},null,{"$f":"IF(U646=\"5D\",E646,\"-\")","v":"-"},{"$f":"IF(U646=\"5D\",F646,\"-\")","v":"-"},{"$f":"IF(U646=\"5D\",G646,\"-\")","v":"-"},{"$f":"IF(U646=\"5D\",H646,\"-\")","v":"-"},{"$f":"IF(U646=\"5D\",I646,\"-\")","v":"-"},{"$f":"IF(U646=\"5D\",J646,\"-\")","v":"-"},{"$f":"IF(U646=\"5D\",K646,\"-\")","v":"-"},{"$f":"IF(U646=\"5D\",L646,\"-\")","v":"-"},{"$f":"IF(U646=\"5D\",M646,\"-\")","v":"-"},{"$f":"IF(U646=\"5D\",N646,\"-\")","v":"-"},{"$f":"IF(U646=\"5D\",O646,\"-\")","v":"-"},{"$f":"IF(U646=\"5D\",P646,\"-\")","v":"-"},null,{"$f":"IF(U646=\"6A\",E646,\"-\")","v":"-"},{"$f":"IF(U646=\"6A\",F646,\"-\")","v":"-"},{"$f":"IF(U646=\"6A\",G646,\"-\")","v":"-"},{"$f":"IF(U646=\"6A\",H646,\"-\")","v":"-"},{"$f":"IF(U646=\"6A\",I646,\"-\")","v":"-"},{"$f":"IF(U646=\"6A\",J646,\"-\")","v":"-"},{"$f":"IF(U646=\"6A\",K646,\"-\")","v":"-"},{"$f":"IF(U646=\"6A\",L646,\"-\")","v":"-"},{"$f":"IF(U646=\"6A\",M646,\"-\")","v":"-"},{"$f":"IF(U646=\"6A\",N646,\"-\")","v":"-"},{"$f":"IF(U646=\"6A\",O646,\"-\")","v":"-"},{"$f":"IF(U646=\"6A\",P646,\"-\")","v":"-"},null,{"$f":"IF(U646=\"6B\",E646,\"-\")","v":"-"},{"$f":"IF(U646=\"6B\",F646,\"-\")","v":"-"},{"$f":"IF(U646=\"6B\",G646,\"-\")","v":"-"},{"$f":"IF(U646=\"6B\",H646,\"-\")","v":"-"},{"$f":"IF(U646=\"6B\",I646,\"-\")","v":"-"},{"$f":"IF(U646=\"6B\",J646,\"-\")","v":"-"},{"$f":"IF(U646=\"6B\",K646,\"-\")","v":"-"},{"$f":"IF(U646=\"6B\",L646,\"-\")","v":"-"},{"$f":"IF(U646=\"6B\",M646,\"-\")","v":"-"},{"$f":"IF(U646=\"6B\",N646,\"-\")","v":"-"},{"$f":"IF(U646=\"6B\",O646,\"-\")","v":"-"},{"$f":"IF(U646=\"6B\",P646,\"-\")","v":"-"},null,{"$f":"IF(U646=\"6C\",E646,\"-\")","v":"-"},{"$f":"IF(U646=\"6C\",F646,\"-\")","v":"-"},{"$f":"IF(U646=\"6C\",G646,\"-\")","v":"-"},{"$f":"IF(U646=\"6C\",H646,\"-\")","v":"-"},{"$f":"IF(U646=\"6C\",I646,\"-\")","v":"-"},{"$f":"IF(U646=\"6C\",J646,\"-\")","v":"-"},{"$f":"IF(U646=\"6C\",K646,\"-\")","v":"-"},{"$f":"IF(U646=\"6C\",L646,\"-\")","v":"-"},{"$f":"IF(U646=\"6C\",M646,\"-\")","v":"-"},{"$f":"IF(U646=\"6C\",N646,\"-\")","v":"-"},{"$f":"IF(U646=\"6C\",O646,\"-\")","v":"-"},{"$f":"IF(U646=\"6C\",P646,\"-\")","v":"-"},null,{"$f":"IF(U646=\"6D\",E646,\"-\")","v":"-"},{"$f":"IF(U646=\"6D\",F646,\"-\")","v":"-"},{"$f":"IF(U646=\"6D\",G646,\"-\")","v":"-"},{"$f":"IF(U646=\"6D\",H646,\"-\")","v":"-"},{"$f":"IF(U646=\"6D\",I646,\"-\")","v":"-"},{"$f":"IF(U646=\"6D\",J646,\"-\")","v":"-"},{"$f":"IF(U646=\"6D\",K646,\"-\")","v":"-"},{"$f":"IF(U646=\"6D\",L646,\"-\")","v":"-"},{"$f":"IF(U646=\"6D\",M646,\"-\")","v":"-"},{"$f":"IF(U646=\"6D\",N646,\"-\")","v":"-"},{"$f":"IF(U646=\"6D\",O646,\"-\")","v":"-"},{"$f":"IF(U646=\"6D\",P646,\"-\")","v":"-"},null,{"$f":"IF(U646=\"1A\",D646,\"-\")","v":"-"},{"$f":"IF(U646=\"1B\",D646,\"-\")","v":"-"},{"$f":"IF(U646=\"1C\",D646,\"-\")","v":"-"},{"$f":"IF(U646=\"1D\",D646,\"-\")","v":"-"},{"$f":"IF(U646=\"2A\",D646,\"-\")","v":"-"},{"$f":"IF(U646=\"2B\",D646,\"-\")","v":"-"},{"$f":"IF(U646=\"2C\",D646,\"-\")","v":"-"},{"$f":"IF(U646=\"2D\",D646,\"-\")","v":"-"},{"$f":"IF(U646=\"3A\",D646,\"-\")","v":"-"},{"$f":"IF(U646=\"3B\",D646,\"-\")","v":"-"},{"$f":"IF(U646=\"3C\",D646,\"-\")","v":"-"},{"$f":"IF(U646=\"3D\",D646,\"-\")","v":"-"},{"$f":"IF(U646=\"4A\",D646,\"-\")","v":"-"},{"$f":"IF(U646=\"4B\",D646,\"-\")","v":"-"},{"$f":"IF(U646=\"4C\",D646,\"-\")","v":"-"},{"$f":"IF(U646=\"4D\",D646,\"-\")","v":"-"},{"$f":"IF(U646=\"5A\",D646,\"-\")","v":"-"},{"$f":"IF(U646=\"5B\",D646,\"-\")","v":"-"},{"$f":"IF(U646=\"5C\",D646,\"-\")","v":"-"},{"$f":"IF(U646=\"5D\",D646,\"-\")","v":"-"},{"$f":"IF(U646=\"6A\",D646,\"-\")","v":"-"},{"$f":"IF(U646=\"6B\",D646,\"-\")","v":"-"},{"$f":"IF(U646=\"6C\",D646,\"-\")","v":"-"},{"$f":"IF(U646=\"6D\",D646,\"-\")","v":"-"}]
[658,{"$f":"IFERROR(DataSiswa!B661,\"\")","v":0},{"$f":"IFERROR(DataSiswa!C661,\"\")","v":0},{"$f":"IFERROR(DataSiswa!E661,\"\")","v":0},null,null,null,null,null,null,null,null,null,null,null,null,0,0,0,0,{"$f":"IFERROR(VLOOKUP(B662,DataSiswa!$B$4:$D$1003,3,FALSE),\"-\")","v":"-"},"-","-","-","-","-","-","-","-","-","-","-","-","-","-","-","-","-","-","-","-","-","-","-","-",null,"-","-","-","-","-","-","-","-","-","-","-","-","-","-","-","-","-","-","-","-","-","-","-","-",null,"-","-","-","-","-","-","-","-","-","-","-","-",null,"-","-","-","-","-","-","-","-","-","-","-","-",null,"-","-","-","-","-","-","-","-","-","-","-","-",null,"-","-","-","-","-","-","-","-","-","-","-","-",null,"-","-","-","-","-","-","-","-","-","-","-","-",null,"-","-","-","-","-","-","-","-","-","-","-","-",null,"-","-","-","-","-","-","-","-","-","-","-","-",null,"-","-","-","-","-","-","-","-","-","-","-","-",null,"-","-","-","-","-","-","-","-","-","-","-","-",null,"-","-","-","-","-","-","-","-","-","-","-","-",null,"-","-","-","-","-","-","-","-","-","-","-","-",null,"-","-","-","-","-","-","-","-","-","-","-","-",null,"-","-","-","-","-","-","-","-","-","-","-","-",null,"-","-","-","-","-","-","-","-","-","-","-","-",null,"-","-","-","-","-","-","-","-","-","-","-","-",null,"-","-","-","-","-","-","-","-","-","-","-","-",null,"-","-","-","-","-","-","-","-","-","-","-","-",null,"-","-","-","-","-","-","-","-","-","-","-","-",null,"-","-","-","-","-","-","-","-","-","-","-","-",null,"-","-","-","-","-","-","-","-","-","-","-","-",null,"-","-","-","-","-","-","-","-","-","-","-","-",null,"-","-","-","-","-","-","-","-","-","-","-","-",null,"-","-","-","-","-","-","-","-","-","-","-","-",null,"-","-","-","-","-","-","-","-","-","-","-","-",null,"-","-","-","-","-","-","-","-","-","-","-","-","-","-","-","-","-","-","-","-","-","-","-","-"]
[676,{"$f":"IFERROR(DataSiswa!B679,\"\")","v":0},{"$f":"IFERROR(DataSiswa!C679,\"\")","v":0},{"$f":"IFERROR(DataSiswa!E679,\"\")","v":0},null,null,null,null,null,null,null,null,null,null,null,null,0,0,0,0,{"$f":"IFERROR(VLOOKUP(B680,DataSiswa!$B$4:$D$1003,3,FALSE),\"-\")","v":"-"},"-","-","-","-","-","-","-","-","-","-","-","-","-","-","-","-","-","-","-","-","-","-","-","-",null,"-","-","-","-","-","-","-","-","-","-","-","-","-","-","-","-","-","-","-","-","-","-","-","-",null,"-","-","-","-","-","-","-","-","-","-","-","-",null,"-","-","-","-","-","-","-","-","-","-","-","-",null,"-","-","-","-","-","-","-","-","-","-","-","-",null,"-","-","-","-","-","-","-","-","-","-","-","-",null,"-","-","-","-","-","-","-","-","-","-","-","-",null,"-","-","-","-","-","-","-","-","-","-","-","-",null,"-","-","-","-","-","-","-","-","-","-","-","-",null,"-","-","-","-","-","-","-","-","-","-","-","-",null,"-","-","-","-","-","-","-","-","-","-","-","-",null,"-","-","-","-","-","-","-","-","-","-","-","-",null,"-","-","-","-","-","-","-","-","-","-","-","-",null,"-","-","-","-","-","-","-","-","-","-","-","-",null,"-","-","-","-","-","-","-","-","-","-","-","-",null,"-","-","-","-","-","-","-","-","-","-","-","-",null,"-","-","-","-","-","-","-","-","-","-","-","-",null,"-","-","-","-","-","-","-","-","-","-","-","-",null,"-","-","-","-","-","-","-","-","-","-","-","-",null,"-","-","-","-","-","-","-","-","-","-","-","-",null,"-","-","-","-","-","-","-","-","-","-","-","-",null,"-","-","-","-","-","-","-","-","-","-","-","-",null,"-","-","-","-","-","-","-","-","-","-","-","-",null,"-","-","-","-","-","-","-","-","-","-","-","-",null,"-","-","-","-","-","-","-","-","-","-","-","-",null,"-","-","-","-","-","-","-","-","-","-","-","-",null,"-","-","-","-","-","-","-","-","-","-","-","-","-","-","-","-","-","-","-","-","-","-","-","-"]
[688,{"$f":"IFERROR(DataSiswa!B691,\"\")","v":0},{"$f":"IFERROR(DataSiswa!C691,\"\")","v":0},{"$f":"IFERROR(DataSiswa!E691,\"\")","v":0},null,null,null,null,null,null,null,null,null,null,null,null,0,0,0,0,{"$f":"IFERROR(VLOOKUP(B692,DataSiswa!$B$4:$D$1003,3,FALSE),\"-\")","v":"-"},"-","-","-","-","-","-","-","-","-","-","-","-","-","-","-","-","-","-","-","-","-","-","-","-",null,"-","-","-","-","-","-","-","-","-","-","-","-","-","-","-","-","-","-","-","-","-","-","-","-",null,"-","-","-","-","-","-","-","-","-","-","-","-",null,"-","-","-","-","-","-","-","-","-","-","-","-",null,"-","-","-","-","-","-","-","-","-","-","-","-",null,"-","-","-","-","-","-","-","-","-","-","-","-",null,"-","-","-","-","-","-","-","-","-","-","-","-",null,"-","-","-","-","-","-","-","-","-","-","-","-",null,"-","-","-","-","-","-","-","-","-","-","-","-",null,"-","-","-","-","-","-","-","-","-","-","-","-",null,"-","-","-","-","-","-","-","-","-","-","-","-",null,"-","-","-","-","-","-","-","-","-","-","-","-",null,"-","-","-","-","-","-","-","-","-","-","-","-",null,"-","-","-","-","-","-","-","-","-","-","-","-",null,"-","-","-","-","-","-","-","-","-","-","-","-",null,"-","-","-","-","-","-","-","-","-","-","-","-",null,"-","-","-","-","-","-","-","-","-","-","-","-",null,"-","-","-","-","-","-","-","-","-","-","-","-",null,"-","-","-","-","-","-","-","-","-","-","-","-",null,"-","-","-","-","-","-","-","-","-","-","-","-",null,"-","-","-","-","-","-","-","-","-","-","-","-",null,"-","-","-","-","-","-","-","-","-","-","-","-",null,"-","-","-","-","-","-","-","-","-","-","-","-",null,"-","-","-","-","-","-","-","-","-","-","-","-",null,"-","-","-","-","-","-","-","-","-","-","-","-",null,"-","-","-","-","-","-","-","-","-","-","-","-",null,"-","-","-","-","-","-","-","-","-","-","-","-","-","-","-","-","-","-","-","-","-","-","-","-"]
[703,{"$f":"IFERROR(DataSiswa!B706,\"\")","v":0},{"$f":"IFERROR(DataSiswa!C706,\"\")","v":0},{"$f":"IFERROR(DataSiswa!E706,\"\")","v":0},null,null,null,null,null,null,null,null,null,null,null,null,0,0,0,0,{"$f":"IFERROR(VLOOKUP(B707,DataSiswa!$B$4:$D$1003,3,FALSE),\"-\")","v":"-"},"-","-","-","-","-","-","-","-","-","-","-","-","-","-","-","-","-","-","-","-","-","-","-","-",null,"-","-","-","-","-","-","-","-","-","-","-","-","-","-","-","-","-","-","-","-","-","-","-","-",null,"-","-","-","-","-","-","-","-","-","-","-","-",null,"-","-","-","-","-","-","-","-","-","-","-","-",null,"-","-","-","-","-","-","-","-","-","-","-","-",null,"-","-","-","-","-","-","-","-","-","-","-","-",null,"-","-","-","-","-","-","-","-","-","-","-","-",null,"-","-","-","-","-","-","-","-","-","-","-","-",null,"-","-","-","-","-","-","-","-","-","-","-","-",null,"-","-","-","-","-","-","-","-","-","-","-","-",null,"-","-","-","-","-","-","-","-","-","-","-","-",null,"-","-","-","-","-","-","-","-","-","-","-","-",null,"-","-","-","-","-","-","-","-","-","-","-","-",null,"-","-","-","-","-","-","-","-","-","-","-","-",null,"-","-","-","-","-","-","-","-","-","-","-","-",null,"-","-","-","-","-","-","-","-","-","-","-","-",null,"-","-","-","-","-","-","-","-","-","-","-","-",null,"-","-","-","-","-","-","-","-","-","-","-","-",null,"-","-","-","-","-","-","-","-","-","-","-","-",null,"-","-","-","-","-","-","-","-","-","-","-","-",null,"-","-","-","-","-","-","-","-","-","-","-","-",null,"-","-","-","-","-","-","-","-","-","-","-","-",null,"-","-","-","-","-","-","-","-","-","-","-","-",null,"-","-","-","-","-","-","-","-","-","-","-","-",null,"-","-","-","-","-","-","-","-","-","-","-","-",null,"-","-","-","-","-","-","-","-","-","-","-","-",null,"-","-","-","-","-","-","-","-","-","-","-","-","-","-","-","-","-","-","-","-","-","-","-","-"]
[718,{"$f":"IFERROR(DataSiswa!B721,\"\")","v":0},{"$f":"IFERROR(DataSiswa!C721,\"\")","v":0},{"$f":"IFERROR(DataSiswa!E721,\"\")","v":0},null,null,null,null,null,null,null,null,null,null,null,null,0,0,0,0,{"$f":"IFERROR(VLOOKUP(B722,DataSiswa!$B$4:$D$1003,3,FALSE),\"-\")","v":"-"},"-","-","-","-","-","-","-","-","-","-","-","-","-","-","-","-","-","-","-","-","-","-","-","-",null,"-","-","-","-","-","-","-","-","-","-","-","-","-","-","-","-","-","-","-","-","-","-","-","-",null,"-","-","-","-","-","-","-","-","-","-","-","-",null,"-","-","-","-","-","-","-","-","-","-","-","-",null,"-","-","-","-","-","-","-","-","-","-","-","-",null,"-","-","-","-","-","-","-","-","-","-","-","-",null,"-","-","-","-","-","-","-","-","-","-","-","-",null,"-","-","-","-","-","-","-","-","-","-","-","-",null,"-","-","-","-","-","-","-","-","-","-","-","-",null,"-","-","-","-","-","-","-","-","-","-","-","-",null,"-","-","-","-","-","-","-","-","-","-","-","-",null,"-","-","-","-","-","-","-","-","-","-","-","-",null,"-","-","-","-","-","-","-","-","-","-","-","-",null,"-","-","-","-","-","-","-","-","-","-","-","-",null,"-","-","-","-","-","-","-","-","-","-","-","-",null,"-","-","-","-","-","-","-","-","-","-","-","-",null,"-","-","-","-","-","-","-","-","-","-","-","-",null,"-","-","-","-","-","-","-","-","-","-","-","-",null,"-","-","-","-","-","-","-","-","-","-","-","-",null,"-","-","-","-","-","-","-","-","-","-","-","-",null,"-","-","-","-","-","-","-","-","-","-","-","-",null,"-","-","-","-","-","-","-","-","-","-","-","-",null,"-","-","-","-","-","-","-","-","-","-","-","-",null,"-","-","-","-","-","-","-","-","-","-","-","-",null,"-","-","-","-","-","-","-","-","-","-","-","-",null,"-","-","-","-","-","-","-","-","-","-","-","-",null,"-","-","-","-","-","-","-","-","-","-","-","-","-","-","-","-","-","-","-","-","-","-","-","-"]
[734,{"$f":"IFERROR(DataSiswa!B737,\"\")","v":0},{"$f":"IFERROR(DataSiswa!C737,\"\")","v":0},{"$f":"IFERROR(DataSiswa!E737,\"\")","v":0},null,null,null,null,null,null,null,null,null,null,null,null,0,0,0,0,{"$f":"IFERROR(VLOOKUP(B738,DataSiswa!$B$4:$D$1003,3,FALSE),\"-\")","v":"-"},"-","-","-","-","-","-","-","-","-","-","-","-","-","-","-","-","-","-","-","-","-","-","-","-",null,"-","-","-","-","-","-","-","-","-","-","-","-","-","-","-","-","-","-","-","-","-","-","-","-",null,"-","-","-","-","-","-","-","-","-","-","-","-",null,"-","-","-","-","-","-","-","-","-","-","-","-",null,"-","-","-","-","-","-","-","-","-","-","-","-",null,"-","-","-","-","-","-","-","-","-","-","-","-",null,"-","-","-","-","-","-","-","-","-","-","-","-",null,"-","-","-","-","-","-","-","-","-","-","-","-",null,"-","-","-","-","-","-","-","-","-","-","-","-",null,"-","-","-","-","-","-","-","-","-","-","-","-",null,"-","-","-","-","-","-","-","-","-","-","-","-",null,"-","-","-","-","-","-","-","-","-","-","-","-",null,"-","-","-","-","-","-","-","-","-","-","-","-",null,"-","-","-","-","-","-","-","-","-","-","-","-",null,"-","-","-","-","-","-","-","-","-","-","-","-",null,"-","-","-","-","-","-","-","-","-","-","-","-",null,"-","-","-","-","-","-","-","-","-","-","-","-",null,"-","-","-","-","-","-","-","-","-","-","-","-",null,"-","-","-","-","-","-","-","-","-","-","-","-",null,"-","-","-","-","-","-","-","-","-","-","-","-",null,"-","-","-","-","-","-","-","-","-","-","-","-",null,"-","-","-","-","-","-","-","-","-","-","-","-",null,"-","-","-","-","-","-","-","-","-","-","-","-",null,"-","-","-","-","-","-","-","-","-","-","-","-",null,"-","-","-","-","-","-","-","-","-","-","-","-",null,"-","-","-","-","-","-","-","-","-","-","-","-",null,"-","-","-","-","-","-","-","-","-","-","-","-","-","-","-","-","-","-","-","-","-","-","-","-"]
[749,{"$f":"IFERROR(DataSiswa!B752,\"\")","v":0},{"$f":"IFERROR(DataSiswa!C752,\"\")","v":0},{"$f":"IFERROR(DataSiswa!E752,\"\")","v":0},null,null,null,null,null,null,null,null,null,null,null,null,0,0,0,0,{"$f":"IFERROR(VLOOKUP(B753,DataSiswa!$B$4:$D$1003,3,FALSE),\"-\")","v":"-"},"-","-","-","-","-","-","-","-","-","-","-","-","-","-","-","-","-","-","-","-","-","-","-","-",null,"-","-","-","-","-","-","-","-","-","-","-","-","-","-","-","-","-","-","-","-","-","-","-","-",null,"-","-","-","-","-","-","-","-","-","-","-","-",null,"-","-","-","-","-","-","-","-","-","-","-","-",null,"-","-","-","-","-","-","-","-","-","-","-","-",null,"-","-","-","-","-","-","-","-","-","-","-","-",null,"-","-","-","-","-","-","-","-","-","-","-","-",null,"-","-","-","-","-","-","-","-","-","-","-","-",null,"-","-","-","-","-","-","-","-","-","-","-","-",null,"-","-","-","-","-","-","-","-","-","-","-","-",null,"-","-","-","-","-","-","-","-","-","-","-","-",null,"-","-","-","-","-","-","-","-","-","-","-","-",null,"-","-","-","-","-","-","-","-","-","-","-","-",null,"-","-","-","-","-","-","-","-","-","-","-","-",null,"-","-","-","-","-","-","-","-","-","-","-","-",null,"-","-","-","-","-","-","-","-","-","-","-","-",null,"-","-","-","-","-","-","-","-","-","-","-","-",null,"-","-","-","-","-","-","-","-","-","-","-","-",null,"-","-","-","-","-","-","-","-","-","-","-","-",null,"-","-","-","-","-","-","-","-","-","-","-","-",null,"-","-","-","-","-","-","-","-","-","-","-","-",null,"-","-","-","-","-","-","-","-","-","-","-","-",null,"-","-","-","-","-","-","-","-","-","-","-","-",null,"-","-","-","-","-","-","-","-","-","-","-","-",null,"-","-","-","-","-","-","-","-","-","-","-","-",null,"-","-","-","-","-","-","-","-","-","-","-","-",null,"-","-","-","-","-","-","-","-","-","-","-","-","-","-","-","-","-","-","-","-","-","-","-","-"]
[764,{"$f":"IFERROR(DataSiswa!B767,\"\")","v":0},{"$f":"IFERROR(DataSiswa!C767,\"\")","v":0},{"$f":"IFERROR(DataSiswa!E767,\"\")","v":0},null,null,null,null,null,null,null,null,null,null,null,null,0,0,0,0,{"$f":"IFERROR(VLOOKUP(B768,DataSiswa!$B$4:$D$1003,3,FALSE),\"-\")","v":"-"},"-","-","-","-","-","-","-","-","-","-","-","-","-","-","-","-","-","-","-","-","-","-","-","-",null,"-","-","-","-","-","-","-","-","-","-","-","-","-","-","-","-","-","-","-","-","-","-","-","-",null,"-","-","-","-","-","-","-","-","-","-","-","-",null,"-","-","-","-","-","-","-","-","-","-","-","-",null,"-","-","-","-","-","-","-","-","-","-","-","-",null,"-","-","-","-","-","-","-","-","-","-","-","-",null,"-","-","-","-","-","-","-","-","-","-","-","-",null,"-","-","-","-","-","-","-","-","-","-","-","-",null,"-","-","-","-","-","-","-","-","-","-","-","-",null,"-","-","-","-","-","-","-","-","-","-","-","-",null,"-","-","-","-","-","-","-","-","-","-","-","-",null,"-","-","-","-","-","-","-","-","-","-","-","-",null,"-","-","-","-","-","-","-","-","-","-","-","-",null,"-","-","-","-","-","-","-","-","-","-","-","-",null,"-","-","-","-","-","-","-","-","-","-","-","-",null,"-","-","-","-","-","-","-","-","-","-","-","-",null,"-","-","-","-","-","-","-","-","-","-","-","-",null,"-","-","-","-","-","-","-","-","-","-","-","-",null,"-","-","-","-","-","-","-","-","-","-","-","-",null,"-","-","-","-","-","-","-","-","-","-","-","-",null,"-","-","-","-","-","-","-","-","-","-","-","-",null,"-","-","-","-","-","-","-","-","-","-","-","-",null,"-","-","-","-","-","-","-","-","-","-","-","-",null,"-","-","-","-","-","-","-","-","-","-","-","-",null,"-","-","-","-","-","-","-","-","-","-","-","-",null,"-","-","-","-","-","-","-","-","-","-","-","-",null,"-","-","-","-","-","-","-","-","-","-","-","-","-","-","-","-","-","-","-","-","-","-","-","-"]
[780,{"$f":"IFERROR(DataSiswa!B783,\"\")","v":0},{"$f":"IFERROR(DataSiswa!C783,\"\")","v":0},{"$f":"IFERROR(DataSiswa!E783,\"\")","v":0},null,null,null,null,null,null,null,null,null,null,null,null,0,0,0,0,{"$f":"IFERROR(VLOOKUP(B784,DataSiswa!$B$4:$D$1003,3,FALSE),\"-\")","v":"-"},"-","-","-","-","-","-","-","-","-","-","-","-","-","-","-","-","-","-","-","-","-","-","-","-",null,"-","-","-","-","-","-","-","-","-","-","-","-","-","-","-","-","-","-","-","-","-","-","-","-",null,"-","-","-","-","-","-","-","-","-","-","-","-",null,"-","-","-","-","-","-","-","-","-","-","-","-",null,"-","-","-","-","-","-","-","-","-","-","-","-",null,"-","-","-","-","-","-","-","-","-","-","-","-",null,"-","-","-","-","-","-","-","-","-","-","-","-",null,"-","-","-","-","-","-","-","-","-","-","-","-",null,"-","-","-","-","-","-","-","-","-","-","-","-",null,"-","-","-","-","-","-","-","-","-","-","-","-",null,"-","-","-","-","-","-","-","-","-","-","-","-",null,"-","-","-","-","-","-","-","-","-","-","-","-",null,"-","-","-","-","-","-","-","-","-","-","-","-",null,"-","-","-","-","-","-","-","-","-","-","-","-",null,"-","-","-","-","-","-","-","-","-","-","-","-",null,"-","-","-","-","-","-","-","-","-","-","-","-",null,"-","-","-","-","-","-","-","-","-","-","-","-",null,"-","-","-","-","-","-","-","-","-","-","-","-",null,"-","-","-","-","-","-","-","-","-","-","-","-",null,"-","-","-","-","-","-","-","-","-","-","-","-",null,"-","-","-","-","-","-","-","-","-","-","-","-",null,"-","-","-","-","-","-","-","-","-","-","-","-",null,"-","-","-","-","-","-","-","-","-","-","-","-",null,"-","-","-","-","-","-","-","-","-","-","-","-",null,"-","-","-","-","-","-","-","-","-","-","-","-",null,"-","-","-","-","-","-","-","-","-","-","-","-",null,"-","-","-","-","-","-","-","-","-","-","-","-","-","-","-","-","-","-","-","-","-","-","-","-"]
[795,{"$f":"IFERROR(DataSiswa!B798,\"\")","v":0},{"$f":"IFERROR(DataSiswa!C798,\"\")","v":0},{"$f":"IFERROR(DataSiswa!E798,\"\")","v":0},null,null,null,null,null,null,null,null,null,null,null,null,0,0,0,0,{"$f":"IFERROR(VLOOKUP(B799,DataSiswa!$B$4:$D$1003,3,FALSE),\"-\")","v":"-"},"-","-","-","-","-","-","-","-","-","-","-","-","-","-","-","-","-","-","-","-","-","-","-","-",null,"-","-","-","-","-","-","-","-","-","-","-","-","-","-","-","-","-","-","-","-","-","-","-","-",null,"-","-","-","-","-","-","-","-","-","-","-","-",null,"-","-","-","-","-","-","-","-","-","-","-","-",null,"-","-","-","-","-","-","-","-","-","-","-","-",null,"-","-","-","-","-","-","-","-","-","-","-","-",null,"-","-","-","-","-","-","-","-","-","-","-","-",null,"-","-","-","-","-","-","-","-","-","-","-","-",null,"-","-","-","-","-","-","-","-","-","-","-","-",null,"-","-","-","-","-","-","-","-","-","-","-","-",null,"-","-","-","-","-","-","-","-","-","-","-","-",null,"-","-","-","-","-","-","-","-","-","-","-","-",null,"-","-","-","-","-","-","-","-","-","-","-","-",null,"-","-","-","-","-","-","-","-","-","-","-","-",null,"-","-","-","-","-","-","-","-","-","-","-","-",null,"-","-","-","-","-","-","-","-","-","-","-","-",null,"-","-","-","-","-","-","-","-","-","-","-","-",null,"-","-","-","-","-","-","-","-","-","-","-","-",null,"-","-","-","-","-","-","-","-","-","-","-","-",null,"-","-","-","-","-","-","-","-","-","-","-","-",null,"-","-","-","-","-","-","-","-","-","-","-","-",null,"-","-","-","-","-","-","-","-","-","-","-","-",null,"-","-","-","-","-","-","-","-","-","-","-","-",null,"-","-","-","-","-","-","-","-","-","-","-","-",null,"-","-","-","-","-","-","-","-","-","-","-","-",null,"-","-","-","-","-","-","-","-","-","-","-","-",null,"-","-","-","-","-","-","-","-","-","-","-","-","-","-","-","-","-","-","-","-","-","-","-","-"]
[811,{"$f":"IFERROR(DataSiswa!B814,\"\")","v":0},{"$f":"IFERROR(DataSiswa!C814,\"\")","v":0},{"$f":"IFERROR(DataSiswa!E814,\"\")","v":0},null,null,null,null,null,null,null,null,null,null,null,null,0,0,0,0,{"$f":"IFERROR(VLOOKUP(B815,DataSiswa!$B$4:$D$1003,3,FALSE),\"-\")","v":"-"},"-","-","-","-","-","-","-","-","-","-","-","-","-","-","-","-","-","-","-","-","-","-","-","-",null,"-","-","-","-","-","-","-","-","-","-","-","-","-","-","-","-","-","-","-","-","-","-","-","-",null,"-","-","-","-","-","-","-","-","-","-","-","-",null,"-","-","-","-","-","-","-","-","-","-","-","-",null,"-","-","-","-","-","-","-","-","-","-","-","-",null,"-","-","-","-","-","-","-","-","-","-","-","-",null,"-","-","-","-","-","-","-","-","-","-","-","-",null,"-","-","-","-","-","-","-","-","-","-","-","-",null,"-","-","-","-","-","-","-","-","-","-","-","-",null,"-","-","-","-","-","-","-","-","-","-","-","-",null,"-","-","-","-","-","-","-","-","-","-","-","-",null,"-","-","-","-","-","-","-","-","-","-","-","-",null,"-","-","-","-","-","-","-","-","-","-","-","-",null,"-","-","-","-","-","-","-","-","-","-","-","-",null,"-","-","-","-","-","-","-","-","-","-","-","-",null,"-","-","-","-","-","-","-","-","-","-","-","-",null,"-","-","-","-","-","-","-","-","-","-","-","-",null,"-","-","-","-","-","-","-","-","-","-","-","-",null,"-","-","-","-","-","-","-","-","-","-","-","-",null,"-","-","-","-","-","-","-","-","-","-","-","-",null,"-","-","-","-","-","-","-","-","-","-","-","-",null,"-","-","-","-","-","-","-","-","-","-","-","-",null,"-","-","-","-","-","-","-","-","-","-","-","-",null,"-","-","-","-","-","-","-","-","-","-","-","-",null,"-","-","-","-","-","-","-","-","-","-","-","-",null,"-","-","-","-","-","-","-","-","-","-","-","-",null,"-","-","-","-","-","-","-","-","-","-","-","-","-","-","-","-","-","-","-","-","-","-","-","-"]
[826,{"$f":"IFERROR(DataSiswa!B829,\"\")","v":0},{"$f":"IFERROR(DataSiswa!C829,\"\")","v":0},{"$f":"IFERROR(DataSiswa!E829,\"\")","v":0},null,null,null,null,null,null,null,null,null,null,null,null,0,0,0,0,{"$f":"IFERROR(VLOOKUP(B830,DataSiswa!$B$4:$D$1003,3,FALSE),\"-\")","v":"-"},"-","-","-","-","-","-","-","-","-","-","-","-","-","-","-","-","-","-","-","-","-","-","-","-",null,"-","-","-","-","-","-","-","-","-","-","-","-","-","-","-","-","-","-","-","-","-","-","-","-",null,"-","-","-","-","-","-","-","-","-","-","-","-",null,"-","-","-","-","-","-","-","-","-","-","-","-",null,"-","-","-","-","-","-","-","-","-","-","-","-",null,"-","-","-","-","-","-","-","-","-","-","-","-",null,"-","-","-","-","-","-","-","-","-","-","-","-",null,"-","-","-","-","-","-","-","-","-","-","-","-",null,"-","-","-","-","-","-","-","-","-","-","-","-",null,"-","-","-","-","-","-","-","-","-","-","-","-",null,"-","-","-","-","-","-","-","-","-","-","-","-",null,"-","-","-","-","-","-","-","-","-","-","-","-",null,"-","-","-","-","-","-","-","-","-","-","-","-",null,"-","-","-","-","-","-","-","-","-","-","-","-",null,"-","-","-","-","-","-","-","-","-","-","-","-",null,"-","-","-","-","-","-","-","-","-","-","-","-",null,"-","-","-","-","-","-","-","-","-","-","-","-",null,"-","-","-","-","-","-","-","-","-","-","-","-",null,"-","-","-","-","-","-","-","-","-","-","-","-",null,"-","-","-","-","-","-","-","-","-","-","-","-",null,"-","-","-","-","-","-","-","-","-","-","-","-",null,"-","-","-","-","-","-","-","-","-","-","-","-",null,"-","-","-","-","-","-","-","-","-","-","-","-",null,"-","-","-","-","-","-","-","-","-","-","-","-",null,"-","-","-","-","-","-","-","-","-","-","-","-",null,"-","-","-","-","-","-","-","-","-","-","-","-",null,"-","-","-","-","-","-","-","-","-","-","-","-","-","-","-","-","-","-","-","-","-","-","-","-"]
[841,{"$f":"IFERROR(DataSiswa!B844,\"\")","v":0},{"$f":"IFERROR(DataSiswa!C844,\"\")","v":0},{"$f":"IFERROR(DataSiswa!E844,\"\")","v":0},null,null,null,null,null,null,null,null,null,null,null,null,0,0,0,0,{"$f":"IFERROR(VLOOKUP(B845,DataSiswa!$B$4:$D$1003,3,FALSE),\"-\")","v":"-"},"-","-","-","-","-","-","-","-","-","-","-","-","-","-","-","-","-","-","-","-","-","-","-","-",null,"-","-","-","-","-","-","-","-","-","-","-","-","-","-","-","-","-","-","-","-","-","-","-","-",null,"-","-","-","-","-","-","-","-","-","-","-","-",null,"-","-","-","-","-","-","-","-","-","-","-","-",null,"-","-","-","-","-","-","-","-","-","-","-","-",null,"-","-","-","-","-","-","-","-","-","-","-","-",null,"-","-","-","-","-","-","-","-","-","-","-","-",null,"-","-","-","-","-","-","-","-","-","-","-","-",null,"-","-","-","-","-","-","-","-","-","-","-","-",null,"-","-","-","-","-","-","-","-","-","-","-","-",null,"-","-","-","-","-","-","-","-","-","-","-","-",null,"-","-","-","-","-","-","-","-","-","-","-","-",null,"-","-","-","-","-","-","-","-","-","-","-","-",null,"-","-","-","-","-","-","-","-","-","-","-","-",null,"-","-","-","-","-","-","-","-","-","-","-","-",null,"-","-","-","-","-","-","-","-","-","-","-","-",null,"-","-","-","-","-","-","-","-","-","-","-","-",null,"-","-","-","-","-","-","-","-","-","-","-","-",null,"-","-","-","-","-","-","-","-","-","-","-","-",null,"-","-","-","-","-","-","-","-","-","-","-","-",null,"-","-","-","-","-","-","-","-","-","-","-","-",null,"-","-","-","-","-","-","-","-","-","-","-","-",null,"-","-","-","-","-","-","-","-","-","-","-","-",null,"-","-","-","-","-","-","-","-","-","-","-","-",null,"-","-","-","-","-","-","-","-","-","-","-","-",null,"-","-","-","-","-","-","-","-","-","-","-","-",null,"-","-","-","-","-","-","-","-","-","-","-","-","-","-","-","-","-","-","-","-","-","-","-","-"]
[857,{"$f":"IFERROR(DataSiswa!B860,\"\")","v":0},{"$f":"IFERROR(DataSiswa!C860,\"\")","v":0},{"$f":"IFERROR(DataSiswa!E860,\"\")","v":0},null,null,null,null,null,null,null,null,null,null,null,null,0,0,0,0,{"$f":"IFERROR(VLOOKUP(B861,DataSiswa!$B$4:$D$1003,3,FALSE),\"-\")","v":"-"},"-","-","-","-","-","-","-","-","-","-","-","-","-","-","-","-","-","-","-","-","-","-","-","-",null,"-","-","-","-","-","-","-","-","-","-","-","-","-","-","-","-","-","-","-","-","-","-","-","-",null,"-","-","-","-","-","-","-","-","-","-","-","-",null,"-","-","-","-","-","-","-","-","-","-","-","-",null,"-","-","-","-","-","-","-","-","-","-","-","-",null,"-","-","-","-","-","-","-","-","-","-","-","-",null,"-","-","-","-","-","-","-","-","-","-","-","-",null,"-","-","-","-","-","-","-","-","-","-","-","-",null,"-","-","-","-","-","-","-","-","-","-","-","-",null,"-","-","-","-","-","-","-","-","-","-","-","-",null,"-","-","-","-","-","-","-","-","-","-","-","-",null,"-","-","-","-","-","-","-","-","-","-","-","-",null,"-","-","-","-","-","-","-","-","-","-","-","-",null,"-","-","-","-","-","-","-","-","-","-","-","-",null,"-","-","-","-","-","-","-","-","-","-","-","-",null,"-","-","-","-","-","-","-","-","-","-","-","-",null,"-","-","-","-","-","-","-","-","-","-","-","-",null,"-","-","-","-","-","-","-","-","-","-","-","-",null,"-","-","-","-","-","-","-","-","-","-","-","-",null,"-","-","-","-","-","-","-","-","-","-","-","-",null,"-","-","-","-","-","-","-","-","-","-","-","-",null,"-","-","-","-","-","-","-","-","-","-","-","-",null,"-","-","-","-","-","-","-","-","-","-","-","-",null,"-","-","-","-","-","-","-","-","-","-","-","-",null,"-","-","-","-","-","-","-","-","-","-","-","-",null,"-","-","-","-","-","-","-","-","-","-","-","-",null,"-","-","-","-","-","-","-","-","-","-","-","-","-","-","-","-","-","-","-","-","-","-","-","-"]
[872,{"$f":"IFERROR(DataSiswa!B875,\"\")","v":0},{"$f":"IFERROR(DataSiswa!C875,\"\")","v":0},{"$f":"IFERROR(DataSiswa!E875,\"\")","v":0},null,null,null,null,null,null,null,null,null,null,null,null,0,0,0,0,{"$f":"IFERROR(VLOOKUP(B876,DataSiswa!$B$4:$D$1003,3,FALSE),\"-\")","v":"-"},"-","-","-","-","-","-","-","-","-","-","-","-","-","-","-","-","-","-","-","-","-","-","-","-",null,"-","-","-","-","-","-","-","-","-","-","-","-","-","-","-","-","-","-","-","-","-","-","-","-",null,"-","-","-","-","-","-","-","-","-","-","-","-",null,"-","-","-","-","-","-","-","-","-","-","-","-",null,"-","-","-","-","-","-","-","-","-","-","-","-",null,"-","-","-","-","-","-","-","-","-","-","-","-",null,"-","-","-","-","-","-","-","-","-","-","-","-",null,"-","-","-","-","-","-","-","-","-","-","-","-",null,"-","-","-","-","-","-","-","-","-","-","-","-",null,"-","-","-","-","-","-","-","-","-","-","-","-",null,"-","-","-","-","-","-","-","-","-","-","-","-",null,"-","-","-","-","-","-","-","-","-","-","-","-",null,"-","-","-","-","-","-","-","-","-","-","-","-",null,"-","-","-","-","-","-","-","-","-","-","-","-",null,"-","-","-","-","-","-","-","-","-","-","-","-",null,"-","-","-","-","-","-","-","-","-","-","-","-",null,"-","-","-","-","-","-","-","-","-","-","-","-",null,"-","-","-","-","-","-","-","-","-","-","-","-",null,"-","-","-","-","-","-","-","-","-","-","-","-",null,"-","-","-","-","-","-","-","-","-","-","-","-",null,"-","-","-","-","-","-","-","-","-","-","-","-",null,"-","-","-","-","-","-","-","-","-","-","-","-",null,"-","-","-","-","-","-","-","-","-","-","-","-",null,"-","-","-","-","-","-","-","-","-","-","-","-",null,"-","-","-","-","-","-","-","-","-","-","-","-",null,"-","-","-","-","-","-","-","-","-","-","-","-",null,"-","-","-","-","-","-","-","-","-","-","-","-","-","-","-","-","-","-","-","-","-","-","-","-"]
[888,{"$f":"IFERROR(DataSiswa!B891,\"\")","v":0},{"$f":"IFERROR(DataSiswa!C891,\"\")","v":0},{"$f":"IFERROR(DataSiswa!E891,\"\")","v":0},null,null,null,null,null,null,null,null,null,null,null,null,0,0,0,0,{"$f":"IFERROR(VLOOKUP(B892,DataSiswa!$B$4:$D$1003,3,FALSE),\"-\")","v":"-"},"-","-","-","-","-","-","-","-","-","-","-","-","-","-","-","-","-","-","-","-","-","-","-","-",null,"-","-","-","-","-","-","-","-","-","-","-","-","-","-","-","-","-","-","-","-","-","-","-","-",null,"-","-","-","-","-","-","-","-","-","-","-","-",null,"-","-","-","-","-","-","-","-","-","-","-","-",null,"-","-","-","-","-","-","-","-","-","-","-","-",null,"-","-","-","-","-","-","-","-","-","-","-","-",null,"-","-","-","-","-","-","-","-","-","-","-","-",null,"-","-","-","-","-","-","-","-","-","-","-","-",null,"-","-","-","-","-","-","-","-","-","-","-","-",null,"-","-","-","-","-","-","-","-","-","-","-","-",null,"-","-","-","-","-","-","-","-","-","-","-","-",null,"-","-","-","-","-","-","-","-","-","-","-","-",null,"-","-","-","-","-","-","-","-","-","-","-","-",null,"-","-","-","-","-","-","-","-","-","-","-","-",null,"-","-","-","-","-","-","-","-","-","-","-","-",null,"-","-","-","-","-","-","-","-","-","-","-","-",null,"-","-","-","-","-","-","-","-","-","-","-","-",null,"-","-","-","-","-","-","-","-","-","-","-","-",null,"-","-","-","-","-","-","-","-","-","-","-","-",null,"-","-","-","-","-","-","-","-","-","-","-","-",null,"-","-","-","-","-","-","-","-","-","-","-","-",null,"-","-","-","-","-","-","-","-","-","-","-","-",null,"-","-","-","-","-","-","-","-","-","-","-","-",null,"-","-","-","-","-","-","-","-","-","-","-","-",null,"-","-","-","-","-","-","-","-","-","-","-","-",null,"-","-","-","-","-","-","-","-","-","-","-","-",null,"-","-","-","-","-","-","-","-","-","-","-","-","-","-","-","-","-","-","-","-","-","-","-","-"]
[903,{"$f":"IFERROR(DataSiswa!B906,\"\")","v":0},{"$f":"IFERROR(DataSiswa!C906,\"\")","v":0},{"$f":"IFERROR(DataSiswa!E906,\"\")","v":0},null,null,null,null,null,null,null,null,null,null,null,null,0,0,0,0,{"$f":"IFERROR(VLOOKUP(B907,DataSiswa!$B$4:$D$1003,3,FALSE),\"-\")","v":"-"},"-","-","-","-","-","-","-","-","-","-","-","-","-","-","-","-","-","-","-","-","-","-","-","-",null,"-","-","-","-","-","-","-","-","-","-","-","-","-","-","-","-","-","-","-","-","-","-","-","-",null,"-","-","-","-","-","-","-","-","-","-","-","-",null,"-","-","-","-","-","-","-","-","-","-","-","-",null,"-","-","-","-","-","-","-","-","-","-","-","-",null,"-","-","-","-","-","-","-","-","-","-","-","-",null,"-","-","-","-","-","-","-","-","-","-","-","-",null,"-","-","-","-","-","-","-","-","-","-","-","-",null,"-","-","-","-","-","-","-","-","-","-","-","-",null,"-","-","-","-","-","-","-","-","-","-","-","-",null,"-","-","-","-","-","-","-","-","-","-","-","-",null,"-","-","-","-","-","-","-","-","-","-","-","-",null,"-","-","-","-","-","-","-","-","-","-","-","-",null,"-","-","-","-","-","-","-","-","-","-","-","-",null,"-","-","-","-","-","-","-","-","-","-","-","-",null,"-","-","-","-","-","-","-","-","-","-","-","-",null,"-","-","-","-","-","-","-","-","-","-","-","-",null,"-","-","-","-","-","-","-","-","-","-","-","-",null,"-","-","-","-","-","-","-","-","-","-","-","-",null,"-","-","-","-","-","-","-","-","-","-","-","-",null,"-","-","-","-","-","-","-","-","-","-","-","-",null,"-","-","-","-","-","-","-","-","-","-","-","-",null,"-","-","-","-","-","-","-","-","-","-","-","-",null,"-","-","-","-","-","-","-","-","-","-","-","-",null,"-","-","-","-","-","-","-","-","-","-","-","-",null,"-","-","-","-","-","-","-","-","-","-","-","-",null,"-","-","-","-","-","-","-","-","-","-","-","-","-","-","-","-","-","-","-","-","-","-","-","-"]
[918,{"$f":"IFERROR(DataSiswa!B921,\"\")","v":0},{"$f":"IFERROR(DataSiswa!C921,\"\")","v":0},{"$f":"IFERROR(DataSiswa!E921,\"\")","v":0},null,null,null,null,null,null,null,null,null,null,null,null,0,0,0,0,{"$f":"IFERROR(VLOOKUP(B922,DataSiswa!$B$4:$D$1003,3,FALSE),\"-\")","v":"-"},"-","-","-","-","-","-","-","-","-","-","-","-","-","-","-","-","-","-","-","-","-","-","-","-",null,"-","-","-","-","-","-","-","-","-","-","-","-","-","-","-","-","-","-","-","-","-","-","-","-",null,"-","-","-","-","-","-","-","-","-","-","-","-",null,"-","-","-","-","-","-","-","-","-","-","-","-",null,"-","-","-","-","-","-","-","-","-","-","-","-",null,"-","-","-","-","-","-","-","-","-","-","-","-",null,"-","-","-","-","-","-","-","-","-","-","-","-",null,"-","-","-","-","-","-","-","-","-","-","-","-",null,"-","-","-","-","-","-","-","-","-","-","-","-",null,"-","-","-","-","-","-","-","-","-","-","-","-",null,"-","-","-","-","-","-","-","-","-","-","-","-",null,"-","-","-","-","-","-","-","-","-","-","-","-",null,"-","-","-","-","-","-","-","-","-","-","-","-",null,"-","-","-","-","-","-","-","-","-","-","-","-",null,"-","-","-","-","-","-","-","-","-","-","-","-",null,"-","-","-","-","-","-","-","-","-","-","-","-",null,"-","-","-","-","-","-","-","-","-","-","-","-",null,"-","-","-","-","-","-","-","-","-","-","-","-",null,"-","-","-","-","-","-","-","-","-","-","-","-",null,"-","-","-","-","-","-","-","-","-","-","-","-",null,"-","-","-","-","-","-","-","-","-","-","-","-",null,"-","-","-","-","-","-","-","-","-","-","-","-",null,"-","-","-","-","-","-","-","-","-","-","-","-",null,"-","-","-","-","-","-","-","-","-","-","-","-",null,"-","-","-","-","-","-","-","-","-","-","-","-",null,"-","-","-","-","-","-","-","-","-","-","-","-",null,"-","-","-","-","-","-","-","-","-","-","-","-","-","-","-","-","-","-","-","-","-","-","-","-"]
[934,{"$f":"IFERROR(DataSiswa!B937,\"\")","v":0},{"$f":"IFERROR(DataSiswa!C937,\"\")","v":0},{"$f":"IFERROR(DataSiswa!E937,\"\")","v":0},null,null,null,null,null,null,null,null,null,null,null,null,0,0,0,0,{"$f":"IFERROR(VLOOKUP(B938,DataSiswa!$B$4:$D$1003,3,FALSE),\"-\")","v":"-"},"-","-","-","-","-","-","-","-","-","-","-","-","-","-","-","-","-","-","-","-","-","-","-","-",null,"-","-","-","-","-","-","-","-","-","-","-","-","-","-","-","-","-","-","-","-","-","-","-","-",null,"-","-","-","-","-","-","-","-","-","-","-","-",null,"-","-","-","-","-","-","-","-","-","-","-","-",null,"-","-","-","-","-","-","-","-","-","-","-","-",null,"-","-","-","-","-","-","-","-","-","-","-","-",null,"-","-","-","-","-","-","-","-","-","-","-","-",null,"-","-","-","-","-","-","-","-","-","-","-","-",null,"-","-","-","-","-","-","-","-","-","-","-","-",null,"-","-","-","-","-","-","-","-","-","-","-","-",null,"-","-","-","-","-","-","-","-","-","-","-","-",null,"-","-","-","-","-","-","-","-","-","-","-","-",null,"-","-","-","-","-","-","-","-","-","-","-","-",null,"-","-","-","-","-","-","-","-","-","-","-","-",null,"-","-","-","-","-","-","-","-","-","-","-","-",null,"-","-","-","-","-","-","-","-","-","-","-","-",null,"-","-","-","-","-","-","-","-","-","-","-","-",null,"-","-","-","-","-","-","-","-","-","-","-","-",null,"-","-","-","-","-","-","-","-","-","-","-","-",null,"-","-","-","-","-","-","-","-","-","-","-","-",null,"-","-","-","-","-","-","-","-","-","-","-","-",null,"-","-","-","-","-","-","-","-","-","-","-","-",null,"-","-","-","-","-","-","-","-","-","-","-","-",null,"-","-","-","-","-","-","-","-","-","-","-","-",null,"-","-","-","-","-","-","-","-","-","-","-","-",null,"-","-","-","-","-","-","-","-","-","-","-","-",null,"-","-","-","-","-","-","-","-","-","-","-","-","-","-","-","-","-","-","-","-","-","-","-","-"]
[949,{"$f":"IFERROR(DataSiswa!B952,\"\")","v":0},{"$f":"IFERROR(DataSiswa!C952,\"\")","v":0},{"$f":"IFERROR(DataSiswa!E952,\"\")","v":0},null,null,null,null,null,null,null,null,null,null,null,null,0,0,0,0,{"$f":"IFERROR(VLOOKUP(B953,DataSiswa!$B$4:$D$1003,3,FALSE),\"-\")","v":"-"},"-","-","-","-","-","-","-","-","-","-","-","-","-","-","-","-","-","-","-","-","-","-","-","-",null,"-","-","-","-","-","-","-","-","-","-","-","-","-","-","-","-","-","-","-","-","-","-","-","-",null,"-","-","-","-","-","-","-","-","-","-","-","-",null,"-","-","-","-","-","-","-","-","-","-","-","-",null,"-","-","-","-","-","-","-","-","-","-","-","-",null,"-","-","-","-","-","-","-","-","-","-","-","-",null,"-","-","-","-","-","-","-","-","-","-","-","-",null,"-","-","-","-","-","-","-","-","-","-","-","-",null,"-","-","-","-","-","-","-","-","-","-","-","-",null,"-","-","-","-","-","-","-","-","-","-","-","-",null,"-","-","-","-","-","-","-","-","-","-","-","-",null,"-","-","-","-","-","-","-","-","-","-","-","-",null,"-","-","-","-","-","-","-","-","-","-","-","-",null,"-","-","-","-","-","-","-","-","-","-","-","-",null,"-","-","-","-","-","-","-","-","-","-","-","-",null,"-","-","-","-","-","-","-","-","-","-","-","-",null,"-","-","-","-","-","-","-","-","-","-","-","-",null,"-","-","-","-","-","-","-","-","-","-","-","-",null,"-","-","-","-","-","-","-","-","-","-","-","-",null,"-","-","-","-","-","-","-","-","-","-","-","-",null,"-","-","-","-","-","-","-","-","-","-","-","-",null,"-","-","-","-","-","-","-","-","-","-","-","-",null,"-","-","-","-","-","-","-","-","-","-","-","-",null,"-","-","-","-","-","-","-","-","-","-","-","-",null,"-","-","-","-","-","-","-","-","-","-","-","-",null,"-","-","-","-","-","-","-","-","-","-","-","-",null,"-","-","-","-","-","-","-","-","-","-","-","-","-","-","-","-","-","-","-","-","-","-","-","-"]
[964,{"$f":"IFERROR(DataSiswa!B967,\"\")","v":0},{"$f":"IFERROR(DataSiswa!C967,\"\")","v":0},{"$f":"IFERROR(DataSiswa!E967,\"\")","v":0},null,null,null,null,null,null,null,null,null,null,null,null,0,0,0,0,{"$f":"IFERROR(VLOOKUP(B968,DataSiswa!$B$4:$D$1003,3,FALSE),\"-\")","v":"-"},"-","-","-","-","-","-","-","-","-","-","-","-","-","-","-","-","-","-","-","-","-","-","-","-",null,"-","-","-","-","-","-","-","-","-","-","-","-","-","-","-","-","-","-","-","-","-","-","-","-",null,"-","-","-","-","-","-","-","-","-","-","-","-",null,"-","-","-","-","-","-","-","-","-","-","-","-",null,"-","-","-","-","-","-","-","-","-","-","-","-",null,"-","-","-","-","-","-","-","-","-","-","-","-",null,"-","-","-","-","-","-","-","-","-","-","-","-",null,"-","-","-","-","-","-","-","-","-","-","-","-",null,"-","-","-","-","-","-","-","-","-","-","-","-",null,"-","-","-","-","-","-","-","-","-","-","-","-",null,"-","-","-","-","-","-","-","-","-","-","-","-",null,"-","-","-","-","-","-","-","-","-","-","-","-",null,"-","-","-","-","-","-","-","-","-","-","-","-",null,"-","-","-","-","-","-","-","-","-","-","-","-",null,"-","-","-","-","-","-","-","-","-","-","-","-",null,"-","-","-","-","-","-","-","-","-","-","-","-",null,"-","-","-","-","-","-","-","-","-","-","-","-",null,"-","-","-","-","-","-","-","-","-","-","-","-",null,"-","-","-","-","-","-","-","-","-","-","-","-",null,"-","-","-","-","-","-","-","-","-","-","-","-",null,"-","-","-","-","-","-","-","-","-","-","-","-",null,"-","-","-","-","-","-","-","-","-","-","-","-",null,"-","-","-","-","-","-","-","-","-","-","-","-",null,"-","-","-","-","-","-","-","-","-","-","-","-",null,"-","-","-","-","-","-","-","-","-","-","-","-",null,"-","-","-","-","-","-","-","-","-","-","-","-",null,"-","-","-","-","-","-","-","-","-","-","-","-","-","-","-","-","-","-","-","-","-","-","-","-"]
[980,{"$f":"IFERROR(DataSiswa!B983,\"\")","v":0},{"$f":"IFERROR(DataSiswa!C983,\"\")","v":0},{"$f":"IFERROR(DataSiswa!E983,\"\")","v":0},null,null,null,null,null,null,null,null,null,null,null,null,0,0,0,0,{"$f":"IFERROR(VLOOKUP(B984,DataSiswa!$B$4:$D$1003,3,FALSE),\"-\")","v":"-"},"-","-","-","-","-","-","-","-","-","-","-","-","-","-","-","-","-","-","-","-","-","-","-","-",null,"-","-","-","-","-","-","-","-","-","-","-","-","-","-","-","-","-","-","-","-","-","-","-","-",null,"-","-","-","-","-","-","-","-","-","-","-","-",null,"-","-","-","-","-","-","-","-","-","-","-","-",null,"-","-","-","-","-","-","-","-","-","-","-","-",null,"-","-","-","-","-","-","-","-","-","-","-","-",null,"-","-","-","-","-","-","-","-","-","-","-","-",null,"-","-","-","-","-","-","-","-","-","-","-","-",null,"-","-","-","-","-","-","-","-","-","-","-","-",null,"-","-","-","-","-","-","-","-","-","-","-","-",null,"-","-","-","-","-","-","-","-","-","-","-","-",null,"-","-","-","-","-","-","-","-","-","-","-","-",null,"-","-","-","-","-","-","-","-","-","-","-","-",null,"-","-","-","-","-","-","-","-","-","-","-","-",null,"-","-","-","-","-","-","-","-","-","-","-","-",null,"-","-","-","-","-","-","-","-","-","-","-","-",null,"-","-","-","-","-","-","-","-","-","-","-","-",null,"-","-","-","-","-","-","-","-","-","-","-","-",null,"-","-","-","-","-","-","-","-","-","-","-","-",null,"-","-","-","-","-","-","-","-","-","-","-","-",null,"-","-","-","-","-","-","-","-","-","-","-","-",null,"-","-","-","-","-","-","-","-","-","-","-","-",null,"-","-","-","-","-","-","-","-","-","-","-","-",null,"-","-","-","-","-","-","-","-","-","-","-","-",null,"-","-","-","-","-","-","-","-","-","-","-","-",null,"-","-","-","-","-","-","-","-","-","-","-","-",null,"-","-","-","-","-","-","-","-","-","-","-","-","-","-","-","-","-","-","-","-","-","-","-","-"]
[986,{"$f":"IFERROR(DataSiswa!B989,\"\")","v":0},{"$f":"IFERROR(DataSiswa!C989,\"\")","v":0},{"$f":"IFERROR(DataSiswa!E989,\"\")","v":0},null,null,null,null,null,null,null,null,null,null,null,null,0,0,0,0,{"$f":"IFERROR(VLOOKUP(B990,DataSiswa!$B$4:$D$1003,3,FALSE),\"-\")","v":"-"},"-","-","-","-","-","-","-","-","-","-","-","-","-","-","-","-","-","-","-","-","-","-","-","-",null,"-","-","-","-","-","-","-","-","-","-","-","-","-","-","-","-","-","-","-","-","-","-","-","-",null,"-","-","-","-","-","-","-","-","-","-","-","-",null,"-","-","-","-","-","-","-","-","-","-","-","-",null,"-","-","-","-","-","-","-","-","-","-","-","-",null,"-","-","-","-","-","-","-","-","-","-","-","-",null,"-","-","-","-","-","-","-","-","-","-","-","-",null,"-","-","-","-","-","-","-","-","-","-","-","-",null,"-","-","-","-","-","-","-","-","-","-","-","-",null,"-","-","-","-","-","-","-","-","-","-","-","-",null,"-","-","-","-","-","-","-","-","-","-","-","-",null,"-","-","-","-","-","-","-","-","-","-","-","-",null,"-","-","-","-","-","-","-","-","-","-","-","-",null,"-","-","-","-","-","-","-","-","-","-","-","-",null,"-","-","-","-","-","-","-","-","-","-","-","-",null,"-","-","-","-","-","-","-","-","-","-","-","-",null,"-","-","-","-","-","-","-","-","-","-","-","-",null,"-","-","-","-","-","-","-","-","-","-","-","-",null,"-","-","-","-","-","-","-","-","-","-","-","-",null,"-","-","-","-","-","-","-","-","-","-","-","-",null,"-","-","-","-","-","-","-","-","-","-","-","-",null,"-","-","-","-","-","-","-","-","-","-","-","-",null,"-","-","-","-","-","-","-","-","-","-","-","-",null,"-","-","-","-","-","-","-","-","-","-","-","-",null,"-","-","-","-","-","-","-","-","-","-","-","-",null,"-","-","-","-","-","-","-","-","-","-","-","-",null,"-","-","-","-","-","-","-","-","-","-","-","-","-","-","-","-","-","-","-","-","-","-","-","-"]
[987,{"$f":"IFERROR(DataSiswa!B990,\"\")","v":0},{"$f":"IFERROR(DataSiswa!C990,\"\")","v":0},{"$f":"IFERROR(DataSiswa!E990,\"\")","v":0},null,null,null,null,null,null,null,null,null,null,null,null,0,0,0,0,{"$f":"IFERROR(VLOOKUP(B991,DataSiswa!$B$4:$D$1003,3,FALSE),\"-\")","v":"-"},"-","-","-","-","-","-","-","-","-","-","-","-","-","-","-","-","-","-","-","-","-","-","-","-",null,"-","-","-","-","-","-","-","-","-","-","-","-","-","-","-","-","-","-","-","-","-","-","-","-",null,"-","-","-","-","-","-","-","-","-","-","-","-",null,"-","-","-","-","-","-","-","-","-","-","-","-",null,"-","-","-","-","-","-","-","-","-","-","-","-",null,"-","-","-","-","-","-","-","-","-","-","-","-",null,"-","-","-","-","-","-","-","-","-","-","-","-",null,"-","-","-","-","-","-","-","-","-","-","-","-",null,"-","-","-","-","-","-","-","-","-","-","-","-",null,"-","-","-","-","-","-","-","-","-","-","-","-",null,"-","-","-","-","-","-","-","-","-","-","-","-",null,"-","-","-","-","-","-","-","-","-","-","-","-",null,"-","-","-","-","-","-","-","-","-","-","-","-",null,"-","-","-","-","-","-","-","-","-","-","-","-",null,"-","-","-","-","-","-","-","-","-","-","-","-",null,"-","-","-","-","-","-","-","-","-","-","-","-",null,"-","-","-","-","-","-","-","-","-","-","-","-",null,"-","-","-","-","-","-","-","-","-","-","-","-",null,"-","-","-","-","-","-","-","-","-","-","-","-",null,"-","-","-","-","-","-","-","-","-","-","-","-",null,"-","-","-","-","-","-","-","-","-","-","-","-",null,"-","-","-","-","-","-","-","-","-","-","-","-",null,"-","-","-","-","-","-","-","-","-","-","-","-",null,"-","-","-","-","-","-","-","-","-","-","-","-",null,"-","-","-","-","-","-","-","-","-","-","-","-",null,"-","-","-","-","-","-","-","-","-","-","-","-",null,"-","-","-","-","-","-","-","-","-","-","-","-","-","-","-","-","-","-","-","-","-","-","-","-"]
[988,{"$f":"IFERROR(DataSiswa!B991,\"\")","v":0},{"$f":"IFERROR(DataSiswa!C991,\"\")","v":0},{"$f":"IFERROR(DataSiswa!E991,\"\")","v":0},null,null,null,null,null,null,null,null,null,null,null,null,0,0,0,0,{"$f":"IFERROR(VLOOKUP(B992,DataSiswa!$B$4:$D$1003,3,FALSE),\"-\")","v":"-"},"-","-","-","-","-","-","-","-","-","-","-","-","-","-","-","-","-","-","-","-","-","-","-","-",null,"-","-","-","-","-","-","-","-","-","-","-","-","-","-","-","-","-","-","-","-","-","-","-","-",null,"-","-","-","-","-","-","-","-","-","-","-","-",null,"-","-","-","-","-","-","-","-","-","-","-","-",null,"-","-","-","-","-","-","-","-","-","-","-","-",null,"-","-","-","-","-","-","-","-","-","-","-","-",null,"-","-","-","-","-","-","-","-","-","-","-","-",null,"-","-","-","-","-","-","-","-","-","-","-","-",null,"-","-","-","-","-","-","-","-","-","-","-","-",null,"-","-","-","-","-","-","-","-","-","-","-","-",null,"-","-","-","-","-","-","-","-","-","-","-","-",null,"-","-","-","-","-","-","-","-","-","-","-","-",null,"-","-","-","-","-","-","-","-","-","-","-","-",null,"-","-","-","-","-","-","-","-","-","-","-","-",null,"-","-","-","-","-","-","-","-","-","-","-","-",null,"-","-","-","-","-","-","-","-","-","-","-","-",null,"-","-","-","-","-","-","-","-","-","-","-","-",null,"-","-","-","-","-","-","-","-","-","-","-","-",null,"-","-","-","-","-","-","-","-","-","-","-","-",null,"-","-","-","-","-","-","-","-","-","-","-","-",null,"-","-","-","-","-","-","-","-","-","-","-","-",null,"-","-","-","-","-","-","-","-","-","-","-","-",null,"-","-","-","-","-","-","-","-","-","-","-","-",null,"-","-","-","-","-","-","-","-","-","-","-","-",null,"-","-","-","-","-","-","-","-","-","-","-","-",null,"-","-","-","-","-","-","-","-","-","-","-","-",null,"-","-","-","-","-","-","-","-","-","-","-","-","-","-","-","-","-","-","-","-","-","-","-","-"]
[989,{"$f":"IFERROR(DataSiswa!B992,\"\")","v":0},{"$f":"IFERROR(DataSiswa!C992,\"\")","v":0},{"$f":"IFERROR(DataSiswa!E992,\"\")","v":0},null,null,null,null,null,null,null,null,null,null,null,null,0,0,0,0,{"$f":"IFERROR(VLOOKUP(B993,DataSiswa!$B$4:$D$1003,3,FALSE),\"-\")","v":"-"},"-","-","-","-","-","-","-","-","-","-","-","-","-","-","-","-","-","-","-","-","-","-","-","-",null,"-","-","-","-","-","-","-","-","-","-","-","-","-","-","-","-","-","-","-","-","-","-","-","-",null,"-","-","-","-","-","-","-","-","-","-","-","-",null,"-","-","-","-","-","-","-","-","-","-","-","-",null,"-","-","-","-","-","-","-","-","-","-","-","-",null,"-","-","-","-","-","-","-","-","-","-","-","-",null,"-","-","-","-","-","-","-","-","-","-","-","-",null,"-","-","-","-","-","-","-","-","-","-","-","-",null,"-","-","-","-","-","-","-","-","-","-","-","-",null,"-","-","-","-","-","-","-","-","-","-","-","-",null,"-","-","-","-","-","-","-","-","-","-","-","-",null,"-","-","-","-","-","-","-","-","-","-","-","-",null,"-","-","-","-","-","-","-","-","-","-","-","-",null,"-","-","-","-","-","-","-","-","-","-","-","-",null,"-","-","-","-","-","-","-","-","-","-","-","-",null,"-","-","-","-","-","-","-","-","-","-","-","-",null,"-","-","-","-","-","-","-","-","-","-","-","-",null,"-","-","-","-","-","-","-","-","-","-","-","-",null,"-","-","-","-","-","-","-","-","-","-","-","-",null,"-","-","-","-","-","-","-","-","-","-","-","-",null,"-","-","-","-","-","-","-","-","-","-","-","-",null,"-","-","-","-","-","-","-","-","-","-","-","-",null,"-","-","-","-","-","-","-","-","-","-","-","-",null,"-","-","-","-","-","-","-","-","-","-","-","-",null,"-","-","-","-","-","-","-","-","-","-","-","-",null,"-","-","-","-","-","-","-","-","-","-","-","-",null,"-","-","-","-","-","-","-","-","-","-","-","-","-","-","-","-","-","-","-","-","-","-","-","-"]
[990,{"$f":"IFERROR(DataSiswa!B993,\"\")","v":0},{"$f":"IFERROR(DataSiswa!C993,\"\")","v":0},{"$f":"IFERROR(DataSiswa!E993,\"\")","v":0},null,null,null,null,null,null,null,null,null,null,null,null,0,0,0,0,{"$f":"IFERROR(VLOOKUP(B994,DataSiswa!$B$4:$D$1003,3,FALSE),\"-\")","v":"-"},"-","-","-","-","-","-","-","-","-","-","-","-","-","-","-","-","-","-","-","-","-","-","-","-",null,"-","-","-","-","-","-","-","-","-","-","-","-","-","-","-","-","-","-","-","-","-","-","-","-",null,"-","-","-","-","-","-","-","-","-","-","-","-",null,"-","-","-","-","-","-","-","-","-","-","-","-",null,"-","-","-","-","-","-","-","-","-","-","-","-",null,"-","-","-","-","-","-","-","-","-","-","-","-",null,"-","-","-","-","-","-","-","-","-","-","-","-",null,"-","-","-","-","-","-","-","-","-","-","-","-",null,"-","-","-","-","-","-","-","-","-","-","-","-",null,"-","-","-","-","-","-","-","-","-","-","-","-",null,"-","-","-","-","-","-","-","-","-","-","-","-",null,"-","-","-","-","-","-","-","-","-","-","-","-",null,"-","-","-","-","-","-","-","-","-","-","-","-",null,"-","-","-","-","-","-","-","-","-","-","-","-",null,"-","-","-","-","-","-","-","-","-","-","-","-",null,"-","-","-","-","-","-","-","-","-","-","-","-",null,"-","-","-","-","-","-","-","-","-","-","-","-",null,"-","-","-","-","-","-","-","-","-","-","-","-",null,"-","-","-","-","-","-","-","-","-","-","-","-",null,"-","-","-","-","-","-","-","-","-","-","-","-",null,"-","-","-","-","-","-","-","-","-","-","-","-",null,"-","-","-","-","-","-","-","-","-","-","-","-",null,"-","-","-","-","-","-","-","-","-","-","-","-",null,"-","-","-","-","-","-","-","-","-","-","-","-",null,"-","-","-","-","-","-","-","-","-","-","-","-",null,"-","-","-","-","-","-","-","-","-","-","-","-",null,"-","-","-","-","-","-","-","-","-","-","-","-","-","-","-","-","-","-","-","-","-","-","-","-"]
[991,{"$f":"IFERROR(DataSiswa!B994,\"\")","v":0},{"$f":"IFERROR(DataSiswa!C994,\"\")","v":0},{"$f":"IFERROR(DataSiswa!E994,\"\")","v":0},null,null,null,null,null,null,null,null,null,null,null,null,0,0,0,0,{"$f":"IFERROR(VLOOKUP(B995,DataSiswa!$B$4:$D$1003,3,FALSE),\"-\")","v":"-"},"-","-","-","-","-","-","-","-","-","-","-","-","-","-","-","-","-","-","-","-","-","-","-","-",null,"-","-","-","-","-","-","-","-","-","-","-","-","-","-","-","-","-","-","-","-","-","-","-","-",null,"-","-","-","-","-","-","-","-","-","-","-","-",null,"-","-","-","-","-","-","-","-","-","-","-","-",null,"-","-","-","-","-","-","-","-","-","-","-","-",null,"-","-","-","-","-","-","-","-","-","-","-","-",null,"-","-","-","-","-","-","-","-","-","-","-","-",null,"-","-","-","-","-","-","-","-","-","-","-","-",null,"-","-","-","-","-","-","-","-","-","-","-","-",null,"-","-","-","-","-","-","-","-","-","-","-","-",null,"-","-","-","-","-","-","-","-","-","-","-","-",null,"-","-","-","-","-","-","-","-","-","-","-","-",null,"-","-","-","-","-","-","-","-","-","-","-","-",null,"-","-","-","-","-","-","-","-","-","-","-","-",null,"-","-","-","-","-","-","-","-","-","-","-","-",null,"-","-","-","-","-","-","-","-","-","-","-","-",null,"-","-","-","-","-","-","-","-","-","-","-","-",null,"-","-","-","-","-","-","-","-","-","-","-","-",null,"-","-","-","-","-","-","-","-","-","-","-","-",null,"-","-","-","-","-","-","-","-","-","-","-","-",null,"-","-","-","-","-","-","-","-","-","-","-","-",null,"-","-","-","-","-","-","-","-","-","-","-","-",null,"-","-","-","-","-","-","-","-","-","-","-","-",null,"-","-","-","-","-","-","-","-","-","-","-","-",null,"-","-","-","-","-","-","-","-","-","-","-","-",null,"-","-","-","-","-","-","-","-","-","-","-","-",null,"-","-","-","-","-","-","-","-","-","-","-","-","-","-","-","-","-","-","-","-","-","-","-","-"]
[992,{"$f":"IFERROR(DataSiswa!B995,\"\")","v":0},{"$f":"IFERROR(DataSiswa!C995,\"\")","v":0},{"$f":"IFERROR(DataSiswa!E995,\"\")","v":0},null,null,null,null,null,null,null,null,null,null,null,null,0,0,0,0,{"$f":"IFERROR(VLOOKUP(B996,DataSiswa!$B$4:$D$1003,3,FALSE),\"-\")","v":"-"},"-","-","-","-","-","-","-","-","-","-","-","-","-","-","-","-","-","-","-","-","-","-","-","-",null,"-","-","-","-","-","-","-","-","-","-","-","-","-","-","-","-","-","-","-","-","-","-","-","-",null,"-","-","-","-","-","-","-","-","-","-","-","-",null,"-","-","-","-","-","-","-","-","-","-","-","-",null,"-","-","-","-","-","-","-","-","-","-","-","-",null,"-","-","-","-","-","-","-","-","-","-","-","-",null,"-","-","-","-","-","-","-","-","-","-","-","-",null,"-","-","-","-","-","-","-","-","-","-","-","-",null,"-","-","-","-","-","-","-","-","-","-","-","-",null,"-","-","-","-","-","-","-","-","-","-","-","-",null,"-","-","-","-","-","-","-","-","-","-","-","-",null,"-","-","-","-","-","-","-","-","-","-","-","-",null,"-","-","-","-","-","-","-","-","-","-","-","-",null,"-","-","-","-","-","-","-","-","-","-","-","-",null,"-","-","-","-","-","-","-","-","-","-","-","-",null,"-","-","-","-","-","-","-","-","-","-","-","-",null,"-","-","-","-","-","-","-","-","-","-","-","-",null,"-","-","-","-","-","-","-","-","-","-","-","-",null,"-","-","-","-","-","-","-","-","-","-","-","-",null,"-","-","-","-","-","-","-","-","-","-","-","-",null,"-","-","-","-","-","-","-","-","-","-","-","-",null,"-","-","-","-","-","-","-","-","-","-","-","-",null,"-","-","-","-","-","-","-","-","-","-","-","-",null,"-","-","-","-","-","-","-","-","-","-","-","-",null,"-","-","-","-","-","-","-","-","-","-","-","-",null,"-","-","-","-","-","-","-","-","-","-","-","-",null,"-","-","-","-","-","-","-","-","-","-","-","-","-","-","-","-","-","-","-","-","-","-","-","-"]
[993,{"$f":"IFERROR(DataSiswa!B996,\"\")","v":0},{"$f":"IFERROR(DataSiswa!C996,\"\")","v":0},{"$f":"IFERROR(DataSiswa!E996,\"\")","v":0},null,null,null,null,null,null,null,null,null,null,null,null,0,0,0,0,{"$f":"IFERROR(VLOOKUP(B997,DataSiswa!$B$4:$D$1003,3,FALSE),\"-\")","v":"-"},"-","-","-","-","-","-","-","-","-","-","-","-","-","-","-","-","-","-","-","-","-","-","-","-",null,"-","-","-","-","-","-","-","-","-","-","-","-","-","-","-","-","-","-","-","-","-","-","-","-",null,"-","-","-","-","-","-","-","-","-","-","-","-",null,"-","-","-","-","-","-","-","-","-","-","-","-",null,"-","-","-","-","-","-","-","-","-","-","-","-",null,"-","-","-","-","-","-","-","-","-","-","-","-",null,"-","-","-","-","-","-","-","-","-","-","-","-",null,"-","-","-","-","-","-","-","-","-","-","-","-",null,"-","-","-","-","-","-","-","-","-","-","-","-",null,"-","-","-","-","-","-","-","-","-","-","-","-",null,"-","-","-","-","-","-","-","-","-","-","-","-",null,"-","-","-","-","-","-","-","-","-","-","-","-",null,"-","-","-","-","-","-","-","-","-","-","-","-",null,"-","-","-","-","-","-","-","-","-","-","-","-",null,"-","-","-","-","-","-","-","-","-","-","-","-",null,"-","-","-","-","-","-","-","-","-","-","-","-",null,"-","-","-","-","-","-","-","-","-","-","-","-",null,"-","-","-","-","-","-","-","-","-","-","-","-",null,"-","-","-","-","-","-","-","-","-","-","-","-",null,"-","-","-","-","-","-","-","-","-","-","-","-",null,"-","-","-","-","-","-","-","-","-","-","-","-",null,"-","-","-","-","-","-","-","-","-","-","-","-",null,"-","-","-","-","-","-","-","-","-","-","-","-",null,"-","-","-","-","-","-","-","-","-","-","-","-",null,"-","-","-","-","-","-","-","-","-","-","-","-",null,"-","-","-","-","-","-","-","-","-","-","-","-",null,"-","-","-","-","-","-","-","-","-","-","-","-","-","-","-","-","-","-","-","-","-","-","-","-"]
[994,{"$f":"IFERROR(DataSiswa!B997,\"\")","v":0},{"$f":"IFERROR(DataSiswa!C997,\"\")","v":0},{"$f":"IFERROR(DataSiswa!E997,\"\")","v":0},null,null,null,null,null,null,null,null,null,null,null,null,0,0,0,0,{"$f":"IFERROR(VLOOKUP(B998,DataSiswa!$B$4:$D$1003,3,FALSE),\"-\")","v":"-"},"-","-","-","-","-","-","-","-","-","-","-","-","-","-","-","-","-","-","-","-","-","-","-","-",null,"-","-","-","-","-","-","-","-","-","-","-","-","-","-","-","-","-","-","-","-","-","-","-","-",null,"-","-","-","-","-","-","-","-","-","-","-","-",null,"-","-","-","-","-","-","-","-","-","-","-","-",null,"-","-","-","-","-","-","-","-","-","-","-","-",null,"-","-","-","-","-","-","-","-","-","-","-","-",null,"-","-","-","-","-","-","-","-","-","-","-","-",null,"-","-","-","-","-","-","-","-","-","-","-","-",null,"-","-","-","-","-","-","-","-","-","-","-","-",null,"-","-","-","-","-","-","-","-","-","-","-","-",null,"-","-","-","-","-","-","-","-","-","-","-","-",null,"-","-","-","-","-","-","-","-","-","-","-","-",null,"-","-","-","-","-","-","-","-","-","-","-","-",null,"-","-","-","-","-","-","-","-","-","-","-","-",null,"-","-","-","-","-","-","-","-","-","-","-","-",null,"-","-","-","-","-","-","-","-","-","-","-","-",null,"-","-","-","-","-","-","-","-","-","-","-","-",null,"-","-","-","-","-","-","-","-","-","-","-","-",null,"-","-","-","-","-","-","-","-","-","-","-","-",null,"-","-","-","-","-","-","-","-","-","-","-","-",null,"-","-","-","-","-","-","-","-","-","-","-","-",null,"-","-","-","-","-","-","-","-","-","-","-","-",null,"-","-","-","-","-","-","-","-","-","-","-","-",null,"-","-","-","-","-","-","-","-","-","-","-","-",null,"-","-","-","-","-","-","-","-","-","-","-","-",null,"-","-","-","-","-","-","-","-","-","-","-","-",null,"-","-","-","-","-","-","-","-","-","-","-","-","-","-","-","-","-","-","-","-","-","-","-","-"]
[995,{"$f":"IFERROR(DataSiswa!B998,\"\")","v":0},{"$f":"IFERROR(DataSiswa!C998,\"\")","v":0},{"$f":"IFERROR(DataSiswa!E998,\"\")","v":0},null,null,null,null,null,null,null,null,null,null,null,null,0,0,0,0,{"$f":"IFERROR(VLOOKUP(B999,DataSiswa!$B$4:$D$1003,3,FALSE),\"-\")","v":"-"},"-","-","-","-","-","-","-","-","-","-","-","-","-","-","-","-","-","-","-","-","-","-","-","-",null,"-","-","-","-","-","-","-","-","-","-","-","-","-","-","-","-","-","-","-","-","-","-","-","-",null,"-","-","-","-","-","-","-","-","-","-","-","-",null,"-","-","-","-","-","-","-","-","-","-","-","-",null,"-","-","-","-","-","-","-","-","-","-","-","-",null,"-","-","-","-","-","-","-","-","-","-","-","-",null,"-","-","-","-","-","-","-","-","-","-","-","-",null,"-","-","-","-","-","-","-","-","-","-","-","-",null,"-","-","-","-","-","-","-","-","-","-","-","-",null,"-","-","-","-","-","-","-","-","-","-","-","-",null,"-","-","-","-","-","-","-","-","-","-","-","-",null,"-","-","-","-","-","-","-","-","-","-","-","-",null,"-","-","-","-","-","-","-","-","-","-","-","-",null,"-","-","-","-","-","-","-","-","-","-","-","-",null,"-","-","-","-","-","-","-","-","-","-","-","-",null,"-","-","-","-","-","-","-","-","-","-","-","-",null,"-","-","-","-","-","-","-","-","-","-","-","-",null,"-","-","-","-","-","-","-","-","-","-","-","-",null,"-","-","-","-","-","-","-","-","-","-","-","-",null,"-","-","-","-","-","-","-","-","-","-","-","-",null,"-","-","-","-","-","-","-","-","-","-","-","-",null,"-","-","-","-","-","-","-","-","-","-","-","-",null,"-","-","-","-","-","-","-","-","-","-","-","-",null,"-","-","-","-","-","-","-","-","-","-","-","-",null,"-","-","-","-","-","-","-","-","-","-","-","-",null,"-","-","-","-","-","-","-","-","-","-","-","-",null,"-","-","-","-","-","-","-","-","-","-","-","-","-","-","-","-","-","-","-","-","-","-","-","-"]
[996,{"$f":"IFERROR(DataSiswa!B999,\"\")","v":0},{"$f":"IFERROR(DataSiswa!C999,\"\")","v":0},{"$f":"IFERROR(DataSiswa!E999,\"\")","v":0},null,null,null,null,null,null,null,null,null,null,null,null,0,0,0,0,{"$f":"IFERROR(VLOOKUP(B1000,DataSiswa!$B$4:$D$1003,3,FALSE),\"-\")","v":"-"},"-","-","-","-","-","-","-","-","-","-","-","-","-","-","-","-","-","-","-","-","-","-","-","-",null,"-","-","-","-","-","-","-","-","-","-","-","-","-","-","-","-","-","-","-","-","-","-","-","-",null,"-","-","-","-","-","-","-","-","-","-","-","-",null,"-","-","-","-","-","-","-","-","-","-","-","-",null,"-","-","-","-","-","-","-","-","-","-","-","-",null,"-","-","-","-","-","-","-","-","-","-","-","-",null,"-","-","-","-","-","-","-","-","-","-","-","-",null,"-","-","-","-","-","-","-","-","-","-","-","-",null,"-","-","-","-","-","-","-","-","-","-","-","-",null,"-","-","-","-","-","-","-","-","-","-","-","-",null,"-","-","-","-","-","-","-","-","-","-","-","-",null,"-","-","-","-","-","-","-","-","-","-","-","-",null,"-","-","-","-","-","-","-","-","-","-","-","-",null,"-","-","-","-","-","-","-","-","-","-","-","-",null,"-","-","-","-","-","-","-","-","-","-","-","-",null,"-","-","-","-","-","-","-","-","-","-","-","-",null,"-","-","-","-","-","-","-","-","-","-","-","-",null,"-","-","-","-","-","-","-","-","-","-","-","-",null,"-","-","-","-","-","-","-","-","-","-","-","-",null,"-","-","-","-","-","-","-","-","-","-","-","-",null,"-","-","-","-","-","-","-","-","-","-","-","-",null,"-","-","-","-","-","-","-","-","-","-","-","-",null,"-","-","-","-","-","-","-","-","-","-","-","-",null,"-","-","-","-","-","-","-","-","-","-","-","-",null,"-","-","-","-","-","-","-","-","-","-","-","-",null,"-","-","-","-","-","-","-","-","-","-","-","-",null,"-","-","-","-","-","-","-","-","-","-","-","-","-","-","-","-","-","-","-","-","-","-","-","-"]
[997,{"$f":"IFERROR(DataSiswa!B1000,\"\")","v":0},{"$f":"IFERROR(DataSiswa!C1000,\"\")","v":0},{"$f":"IFERROR(DataSiswa!E1000,\"\")","v":0},null,null,null,null,null,null,null,null,null,null,null,null,0,0,0,0,{"$f":"IFERROR(VLOOKUP(B1001,DataSiswa!$B$4:$D$1003,3,FALSE),\"-\")","v":"-"},"-","-","-","-","-","-","-","-","-","-","-","-","-","-","-","-","-","-","-","-","-","-","-","-",null,"-","-","-","-","-","-","-","-","-","-","-","-","-","-","-","-","-","-","-","-","-","-","-","-",null,"-","-","-","-","-","-","-","-","-","-","-","-",null,"-","-","-","-","-","-","-","-","-","-","-","-",null,"-","-","-","-","-","-","-","-","-","-","-","-",null,"-","-","-","-","-","-","-","-","-","-","-","-",null,"-","-","-","-","-","-","-","-","-","-","-","-",null,"-","-","-","-","-","-","-","-","-","-","-","-",null,"-","-","-","-","-","-","-","-","-","-","-","-",null,"-","-","-","-","-","-","-","-","-","-","-","-",null,"-","-","-","-","-","-","-","-","-","-","-","-",null,"-","-","-","-","-","-","-","-","-","-","-","-",null,"-","-","-","-","-","-","-","-","-","-","-","-",null,"-","-","-","-","-","-","-","-","-","-","-","-",null,"-","-","-","-","-","-","-","-","-","-","-","-",null,"-","-","-","-","-","-","-","-","-","-","-","-",null,"-","-","-","-","-","-","-","-","-","-","-","-",null,"-","-","-","-","-","-","-","-","-","-","-","-",null,"-","-","-","-","-","-","-","-","-","-","-","-",null,"-","-","-","-","-","-","-","-","-","-","-","-",null,"-","-","-","-","-","-","-","-","-","-","-","-",null,"-","-","-","-","-","-","-","-","-","-","-","-",null,"-","-","-","-","-","-","-","-","-","-","-","-",null,"-","-","-","-","-","-","-","-","-","-","-","-",null,"-","-","-","-","-","-","-","-","-","-","-","-",null,"-","-","-","-","-","-","-","-","-","-","-","-",null,"-","-","-","-","-","-","-","-","-","-","-","-","-","-","-","-","-","-","-","-","-","-","-","-"]
[998,{"$f":"IFERROR(DataSiswa!B1001,\"\")","v":0},{"$f":"IFERROR(DataSiswa!C1001,\"\")","v":0},{"$f":"IFERROR(DataSiswa!E1001,\"\")","v":0},null,null,null,null,null,null,null,null,null,null,null,null,0,0,0,0,{"$f":"IFERROR(VLOOKUP(B1002,DataSiswa!$B$4:$D$1003,3,FALSE),\"-\")","v":"-"},"-","-","-","-","-","-","-","-","-","-","-","-","-","-","-","-","-","-","-","-","-","-","-","-",null,"-","-","-","-","-","-","-","-","-","-","-","-","-","-","-","-","-","-","-","-","-","-","-","-",null,"-","-","-","-","-","-","-","-","-","-","-","-",null,"-","-","-","-","-","-","-","-","-","-","-","-",null,"-","-","-","-","-","-","-","-","-","-","-","-",null,"-","-","-","-","-","-","-","-","-","-","-","-",null,"-","-","-","-","-","-","-","-","-","-","-","-",null,"-","-","-","-","-","-","-","-","-","-","-","-",null,"-","-","-","-","-","-","-","-","-","-","-","-",null,"-","-","-","-","-","-","-","-","-","-","-","-",null,"-","-","-","-","-","-","-","-","-","-","-","-",null,"-","-","-","-","-","-","-","-","-","-","-","-",null,"-","-","-","-","-","-","-","-","-","-","-","-",null,"-","-","-","-","-","-","-","-","-","-","-","-",null,"-","-","-","-","-","-","-","-","-","-","-","-",null,"-","-","-","-","-","-","-","-","-","-","-","-",null,"-","-","-","-","-","-","-","-","-","-","-","-",null,"-","-","-","-","-","-","-","-","-","-","-","-",null,"-","-","-","-","-","-","-","-","-","-","-","-",null,"-","-","-","-","-","-","-","-","-","-","-","-",null,"-","-","-","-","-","-","-","-","-","-","-","-",null,"-","-","-","-","-","-","-","-","-","-","-","-",null,"-","-","-","-","-","-","-","-","-","-","-","-",null,"-","-","-","-","-","-","-","-","-","-","-","-",null,"-","-","-","-","-","-","-","-","-","-","-","-",null,"-","-","-","-","-","-","-","-","-","-","-","-",null,"-","-","-","-","-","-","-","-","-","-","-","-","-","-","-","-","-","-","-","-","-","-","-","-"]
[999,{"$f":"IFERROR(DataSiswa!B1002,\"\")","v":0},{"$f":"IFERROR(DataSiswa!C1002,\"\")","v":0},{"$f":"IFERROR(DataSiswa!E1002,\"\")","v":0},null,null,null,null,null,null,null,null,null,null,null,null,0,0,0,0,{"$f":"IFERROR(VLOOKUP(B1003,DataSiswa!$B$4:$D$1003,3,FALSE),\"-\")","v":"-"},"-","-","-","-","-","-","-","-","-","-","-","-","-","-","-","-","-","-","-","-","-","-","-","-",null,"-","-","-","-","-","-","-","-","-","-","-","-","-","-","-","-","-","-","-","-","-","-","-","-",null,"-","-","-","-","-","-","-","-","-","-","-","-",null,"-","-","-","-","-","-","-","-","-","-","-","-",null,"-","-","-","-","-","-","-","-","-","-","-","-",null,"-","-","-","-","-","-","-","-","-","-","-","-",null,"-","-","-","-","-","-","-","-","-","-","-","-",null,"-","-","-","-","-","-","-","-","-","-","-","-",null,"-","-","-","-","-","-","-","-","-","-","-","-",null,"-","-","-","-","-","-","-","-","-","-","-","-",null,"-","-","-","-","-","-","-","-","-","-","-","-",null,"-","-","-","-","-","-","-","-","-","-","-","-",null,"-","-","-","-","-","-","-","-","-","-","-","-",null,"-","-","-","-","-","-","-","-","-","-","-","-",null,"-","-","-","-","-","-","-","-","-","-","-","-",null,"-","-","-","-","-","-","-","-","-","-","-","-",null,"-","-","-","-","-","-","-","-","-","-","-","-",null,"-","-","-","-","-","-","-","-","-","-","-","-",null,"-","-","-","-","-","-","-","-","-","-","-","-",null,"-","-","-","-","-","-","-","-","-","-","-","-",null,"-","-","-","-","-","-","-","-","-","-","-","-",null,"-","-","-","-","-","-","-","-","-","-","-","-",null,"-","-","-","-","-","-","-","-","-","-","-","-",null,"-","-","-","-","-","-","-","-","-","-","-","-",null,"-","-","-","-","-","-","-","-","-","-","-","-",null,"-","-","-","-","-","-","-","-","-","-","-","-",null,"-","-","-","-","-","-","-","-","-","-","-","-","-","-","-","-","-","-","-","-","-","-","-","-"]
[1000,{"$f":"IFERROR(DataSiswa!B1003,\"\")","v":0},{"$f":"IFERROR(DataSiswa!C1003,\"\")","v":0},{"$f":"IFERROR(DataSiswa!E1003,\"\")","v":0},null,null,null,null,null,null,null,null,null,null,null,null,0,0,0,0,{"$f":"IFERROR(VLOOKUP(B1004,DataSiswa!$B$4:$D$1003,3,FALSE),\"-\")","v":"-"},"-","-","-","-","-","-","-","-","-","-","-","-","-","-","-","-","-","-","-","-","-","-","-","-",null,"-","-","-","-","-","-","-","-","-","-","-","-","-","-","-","-","-","-","-","-","-","-","-","-",null,"-","-","-","-","-","-","-","-","-","-","-","-",null,"-","-","-","-","-","-","-","-","-","-","-","-",null,"-","-","-","-","-","-","-","-","-","-","-","-",null,"-","-","-","-","-","-","-","-","-","-","-","-",null,"-","-","-","-","-","-","-","-","-","-","-","-",null,"-","-","-","-","-","-","-","-","-","-","-","-",null,"-","-","-","-","-","-","-","-","-","-","-","-",null,"-","-","-","-","-","-","-","-","-","-","-","-",null,"-","-","-","-","-","-","-","-","-","-","-","-",null,"-","-","-","-","-","-","-","-","-","-","-","-",null,"-","-","-","-","-","-","-","-","-","-","-","-",null,"-","-","-","-","-","-","-","-","-","-","-","-",null,"-","-","-","-","-","-","-","-","-","-","-","-",null,"-","-","-","-","-","-","-","-","-","-","-","-",null,"-","-","-","-","-","-","-","-","-","-","-","-",null,"-","-","-","-","-","-","-","-","-","-","-","-",null,"-","-","-","-","-","-","-","-","-","-","-","-",null,"-","-","-","-","-","-","-","-","-","-","-","-",null,"-","-","-","-","-","-","-","-","-","-","-","-",null,"-","-","-","-","-","-","-","-","-","-","-","-",null,"-","-","-","-","-","-","-","-","-","-","-","-",null,"-","-","-","-","-","-","-","-","-","-","-","-",null,"-","-","-","-","-","-","-","-","-","-","-","-",null,"-","-","-","-","-","-","-","-","-","-","-","-",null,"-","-","-","-","-","-","-","-","-","-","-","-","-","-","-","-","-","-","-","-","-","-","-","-"]

{"sheet":"rekapSPP","index":6,"n_rows":103,"n_cols":19,"rows_kept":103,"cut":false,"hidden":false,"merged":[[25,0,25,4],[62,4,62,8],[36,0,36,2],[77,4,77,16],[26,0,28,2],[26,3,28,4],[29,0,30,4]]}
[{"$f":"\"DAFTAR PEROLEHAN SPP TAHUN PELAJARAN \" &profil!B8","v":"DAFTAR PEROLEHAN SPP TAHUN PELAJARAN 2019/2020"}]
[{"$f":"UPPER(profil!B2)","v":"SD MUHAMMADIYAH WIROBRAJAN 3"}]
[]
["SEMESTER GANJIL",null,null,null,null,null,null,null,null,{"$f":"\"Grafik perolehan SPP semester Ganjil Tahun \" &profil!B8","v":"Grafik perolehan SPP semester Ganjil Tahun 2019/2020"}]
["Pendapatan SPP"]
["Juli",{"$f":"dibayar!K2","v":0}]
["Agustus",{"$f":"dibayar!L2","v":0}]
["September",{"$f":"dibayar!M2","v":0}]
["Oktober",{"$f":"dibayar!N2","v":0}]
["November",{"$f":"dibayar!O2","v":0}]
["Desember",{"$f":"dibayar!P2","v":0}]
["Jumlah",{"$f":"SUM(B6:B11)","v":0},"sama dengan :",{"$f":"B12/dibayar!S2*100%","v":0}]
[null,null,"  untuk semester Ganjil (periode Juli-Desember)"]
[]
["SEMESTER GENAP"]
["Pendapatan SPP"]
["Januari",{"$f":"dibayar!E2","v":0}]
["Februari",{"$f":"dibayar!F2","v":0}]
["Maret",{"$f":"dibayar!G2","v":0}]
["April",{"$f":"dibayar!H2","v":0},null,null,null,null,null,null,null,{"$f":"\"Grafik perolehan SPP semester Genap Tahun \" &profil!B8","v":"Grafik perolehan SPP semester Genap Tahun 2019/2020"}]
["Mei",{"$f":"dibayar!I2","v":0}]
["Juni",{"$f":"dibayar!J2","v":0}]
["Jumlah",{"$f":"SUM(B17:B22)","v":0},"sama dengan :",{"$f":"B23/dibayar!S2*100%","v":0}]
[null,null,"  untuk semester Genap (periode Januari-Juni)"]
[]
[{"$f":"\"TOTAL PENDAPATAN SPP SAMPAI SAAT INI TAHUN \" &profil!B8","v":"TOTAL PENDAPATAN SPP SAMPAI SAAT INI TAHUN 2019/2020"}]
[{"$f":"B12+B23","v":0},null,null,{"$f":"A27/dibayar!T2*100%","v":0}]
[]
[]
[{"$f":"\"(\" &IF(LEN(INT(A27))>LEN(_frm),\"#Maximal 12 digit angka bulat#\",SUBSTITUTE(INDEX(ListHuruf,MID(TEXT(A27,_frm),1,1)+1)&REPT(\" ratus \",0+MID(TEXT(A27,_frm),1,3)>99)&INDEX(ListHuruf,(0+MID(TEXT(A27,_frm),2,2)<20)*MID(TEXT(A27,_frm),2,2)+1)&INDEX(ListHuruf,(0+MID(TEXT(A27,_frm),2,2)>19)*MID(TEXT(A27,_frm),2,1)+1)&REPT(\" puluh \",0+MID(TEXT(A27,_frm),2,2)>19)&INDEX(ListHuruf,(0+MID(TEXT(A27,_frm),2,2)>19)*MID(TEXT(A27,_frm),3,1)+1)&REPT(\" milyar \",LEN(A27)>9) &INDEX(ListHuruf,MID(TEXT(A27,_frm),4,1)+1)&REPT(\" ratus \",0+MID(TEXT(A27,_frm),4,3)>99)&INDEX(ListHuruf,(0+MID(TEXT(A27,_frm),5,2)<20)*MID(TEXT(A27,_frm),5,2)+1)&INDEX(ListHuruf,(0+MID(TEXT(A27,_frm),5,2)>19)*MID(TEXT(A27,_frm),5,1)+1)&REPT(\" puluh \",0+MID(TEXT(A27,_frm),5,2)>19)&INDEX(ListHuruf,(0+MID(TEXT(A27,_frm),5,2)>19)*MID(TEXT(A27,_frm),6,1)+1)&REPT(\" juta \",(0+MID(TEXT(A27,_frm),4,3)>0)) &SUBSTITUTE(INDEX(ListHuruf,MID(TEXT(A27,_frm),7,1)+1)&REPT(\" ratus \",0+MID(TEXT(A27,_frm),7,3)>99)&INDEX(ListHuruf,(0+MID(TEXT(A27,_frm),8,2)<20)*MID(TEXT(A27,_frm),8,2)*(A27>=2000)+1)&INDEX(ListHuruf,(0+MID(TEXT(A27,_frm),8,2)>19)*MID(TEXT(A27,_frm),8,1)*(A27>=2000)+1)&REPT(\" puluh \",0+MID(TEXT(A27,_frm),8,2)>19)&INDEX(ListHuruf,(0+MID(TEXT(A27,_frm),8,2)>19)*MID(TEXT(A27,_frm),9,1)+1)&REPT(\"seribu \",(A27<2000)*(LEN(A27)=4))&REPT(\" ribu \",(A27>=2000)*(0+MID(TEXT(A27,_frm),7,3)>0)), \"satu ribu\",\"seribu\") &INDEX(ListHuruf,MID(TEXT(A27,_frm),10,1)+1)&REPT(\" ratus \",0+MID(TEXT(A27,_frm),10,3)>99)&INDEX(ListHuruf,(0+MID(TEXT(A27,_frm),11,2)<20)*MID(TEXT(A27,_frm),11,2)+1)&INDEX(ListHuruf,(0+MID(TEXT(A27,_frm),11,2)>19)*MID(TEXT(A27,_frm),11,1)+1)&REPT(\" puluh \",0+MID(TEXT(A27,_frm),11,2)>19)&INDEX(ListHuruf,(0+MID(TEXT(A27,_frm),11,2)>19)*MID(TEXT(A27,_frm),12,1)+1),\"satu ratus\",\"seratus\")) &\" rupiah)\"","v":"( rupiah)"}]
[]
[]
[]
[]
[]
[]
[{"$f":"\"REKAP PENDAPATAN SPP PER KELAS th. \" &profil!B8","v":"REKAP PENDAPATAN SPP PER KELAS th. 2019/2020"},null,null,"1 Sem","Blm",{"$f":"\"REKAP PENDAPATAN SPP PER KELAS PER BULAN tahun \" &profil!B8","v":"REKAP PENDAPATAN SPP PER KELAS PER BULAN tahun 2019/2020"}]
["1A",{"$f":"dibayar!V3","v":0},{"$f":"B38/dibayar!AU3*100%","v":0},{"$f":"C38*2","v":0},{"$f":"100%-D38","v":1},"KELAS","JANUARI","FEBRUARI","MARET","APRIL","MEI","JUNI","JULI","AGUSTUS","SEPTEMBER","OKTOBER","NOVEMBER ","DESEMBER","JUMLAH"]
["1B",{"$f":"dibayar!W3","v":0},{"$f":"B39/dibayar!AV3*100%","v":{"$error":"#DIV/0!"}},{"$f":"C39*2","v":{"$error":"#DIV/0!"}},{"$f":"100%-D39","v":{"$error":"#DIV/0!"}},"1A",{"$f":"dibayar!BT2","v":0},{"$f":"dibayar!BU2","v":0},{"$f":"dibayar!BV2","v":0},{"$f":"dibayar!BW2","v":0},{"$f":"dibayar!BX2","v":0},{"$f":"dibayar!BY2","v":0},{"$f":"dibayar!BZ2","v":0},{"$f":"dibayar!CA2","v":0},{"$f":"dibayar!CB2","v":0},{"$f":"dibayar!CC2","v":0},{"$f":"dibayar!CD2","v":0},{"$f":"dibayar!CE2","v":0},{"$f":"SUM(G39:R39)","v":0}]
["1C",{"$f":"dibayar!X3","v":0},{"$f":"B40/dibayar!AW3*100%","v":{"$error":"#DIV/0!"}},{"$error":"#DIV/0!"},{"$error":"#DIV/0!"},"1B",{"$f":"dibayar!CG2","v":0},{"$f":"dibayar!CH2","v":0},{"$f":"dibayar!CI2","v":0},{"$f":"dibayar!CJ2","v":0},{"$f":"dibayar!CK2","v":0},{"$f":"dibayar!CL2","v":0},{"$f":"dibayar!CM2","v":0},{"$f":"dibayar!CN2","v":0},{"$f":"dibayar!CO2","v":0},{"$f":"dibayar!CP2","v":0},{"$f":"dibayar!CQ2","v":0},{"$f":"dibayar!CR2","v":0},{"$f":"SUM(G40:R40)","v":0}]
["1D",{"$f":"dibayar!Y3","v":0},{"$f":"B41/dibayar!AX3*100%","v":{"$error":"#DIV/0!"}},{"$error":"#DIV/0!"},{"$error":"#DIV/0!"},"1C",{"$f":"dibayar!CT2","v":0},{"$f":"dibayar!CU2","v":0},{"$f":"dibayar!CV2","v":0},{"$f":"dibayar!CW2","v":0},{"$f":"dibayar!CX2","v":0},{"$f":"dibayar!CY2","v":0},{"$f":"dibayar!CZ2","v":0},{"$f":"dibayar!DA2","v":0},{"$f":"dibayar!DB2","v":0},{"$f":"dibayar!DC2","v":0},{"$f":"dibayar!DD2","v":0},{"$f":"dibayar!DE2","v":0},0]
["2A",{"$f":"dibayar!Z3","v":0},{"$f":"B42/dibayar!AY3*100%","v":{"$error":"#DIV/0!"}},{"$error":"#DIV/0!"},{"$error":"#DIV/0!"},"1D",{"$f":"dibayar!DG2","v":0},{"$f":"dibayar!DH2","v":0},{"$f":"dibayar!DI2","v":0},{"$f":"dibayar!DJ2","v":0},{"$f":"dibayar!DK2","v":0},{"$f":"dibayar!DL2","v":0},{"$f":"dibayar!DM2","v":0},{"$f":"dibayar!DN2","v":0},{"$f":"dibayar!DO2","v":0},{"$f":"dibayar!DP2","v":0},{"$f":"dibayar!DQ2","v":0},{"$f":"dibayar!DR2","v":0},0]
["2B",{"$f":"dibayar!AA3","v":0},{"$f":"B43/dibayar!AZ3*100%","v":{"$error":"#DIV/0!"}},{"$error":"#DIV/0!"},{"$error":"#DIV/0!"},"2A",{"$f":"dibayar!DT2","v":0},{"$f":"dibayar!DU2","v":0},{"$f":"dibayar!DV2","v":0},{"$f":"dibayar!DW2","v":0},{"$f":"dibayar!DX2","v":0},{"$f":"dibayar!DY2","v":0},{"$f":"dibayar!DZ2","v":0},{"$f":"dibayar!EA2","v":0},{"$f":"dibayar!EB2","v":0},{"$f":"dibayar!EC2","v":0},{"$f":"dibayar!ED2","v":0},{"$f":"dibayar!EE2","v":0},0]
["2C",{"$f":"dibayar!AB3","v":0},{"$f":"B44/dibayar!BA3*100%","v":{"$error":"#DIV/0!"}},{"$error":"#DIV/0!"},{"$error":"#DIV/0!"},"2B",{"$f":"dibayar!EG2","v":0},{"$f":"dibayar!EH2","v":0},{"$f":"dibayar!EI2","v":0},{"$f":"dibayar!EJ2","v":0},{"$f":"dibayar!EK2","v":0},{"$f":"dibayar!EL2","v":0},{"$f":"dibayar!EM2","v":0},{"$f":"dibayar!EN2","v":0},{"$f":"dibayar!EO2","v":0},{"$f":"dibayar!EP2","v":0},{"$f":"dibayar!EQ2","v":0},{"$f":"dibayar!ER2","v":0},0]
["2D",{"$f":"dibayar!AC3","v":0},{"$f":"B45/dibayar!BB3*100%","v":{"$error":"#DIV/0!"}},{"$error":"#DIV/0!"},{"$error":"#DIV/0!"},"2C",{"$f":"dibayar!ET2","v":0},{"$f":"dibayar!EU2","v":0},{"$f":"dibayar!EV2","v":0},{"$f":"dibayar!EW2","v":0},{"$f":"dibayar!EX2","v":0},{"$f":"dibayar!EY2","v":0},{"$f":"dibayar!EZ2","v":0},{"$f":"dibayar!FA2","v":0},{"$f":"dibayar!FB2","v":0},{"$f":"dibayar!FC2","v":0},{"$f":"dibayar!FD2","v":0},{"$f":"dibayar!FE2","v":0},0]
["3A",{"$f":"dibayar!AD3","v":0},{"$f":"B46/dibayar!BC3*100%","v":{"$error":"#DIV/0!"}},{"$error":"#DIV/0!"},{"$error":"#DIV/0!"},"2D",{"$f":"dibayar!FG2","v":0},{"$f":"dibayar!FH2","v":0},{"$f":"dibayar!FI2","v":0},{"$f":"dibayar!FJ2","v":0},{"$f":"dibayar!FK2","v":0},{"$f":"dibayar!FL2","v":0},{"$f":"dibayar!FM2","v":0},{"$f":"dibayar!FN2","v":0},{"$f":"dibayar!FO2","v":0},{"$f":"dibayar!FP2","v":0},{"$f":"dibayar!FQ2","v":0},{"$f":"dibayar!FR2","v":0},0]
["3B",{"$f":"dibayar!AE3","v":0},{"$f":"B47/dibayar!BD3*100%","v":{"$error":"#DIV/0!"}},{"$error":"#DIV/0!"},{"$error":"#DIV/0!"},"3A",{"$f":"dibayar!FT2","v":0},{"$f":"dibayar!FU2","v":0},{"$f":"dibayar!FV2","v":0},{"$f":"dibayar!FW2","v":0},{"$f":"dibayar!FX2","v":0},{"$f":"dibayar!FY2","v":0},{"$f":"dibayar!FZ2","v":0},{"$f":"dibayar!GA2","v":0},{"$f":"dibayar!GB2","v":0},{"$f":"dibayar!GC2","v":0},{"$f":"dibayar!GD2","v":0},{"$f":"dibayar!GE2","v":0},0]
["3C",{"$f":"dibayar!AF3","v":0},{"$f":"B48/dibayar!BE3*100%","v":{"$error":"#DIV/0!"}},{"$error":"#DIV/0!"},{"$error":"#DIV/0!"},"3B",{"$f":"dibayar!GG2","v":0},{"$f":"dibayar!GH2","v":0},{"$f":"dibayar!GI2","v":0},{"$f":"dibayar!GJ2","v":0},{"$f":"dibayar!GK2","v":0},{"$f":"dibayar!GL2","v":0},{"$f":"dibayar!GM2","v":0},{"$f":"dibayar!GN2","v":0},{"$f":"dibayar!GO2","v":0},{"$f":"dibayar!GP2","v":0},{"$f":"dibayar!GQ2","v":0},{"$f":"dibayar!GR2","v":0},0]
["3D",{"$f":"dibayar!AG3","v":0},{"$f":"B49/dibayar!BF3*100%","v":{"$error":"#DIV/0!"}},{"$error":"#DIV/0!"},{"$error":"#DIV/0!"},"3C",{"$f":"dibayar!GT2","v":0},{"$f":"dibayar!GU2","v":0},{"$f":"dibayar!GV2","v":0},{"$f":"dibayar!GW2","v":0},{"$f":"dibayar!GX2","v":0},{"$f":"dibayar!GY2","v":0},{"$f":"dibayar!GZ2","v":0},{"$f":"dibayar!HA2","v":0},{"$f":"dibayar!HB2","v":0},{"$f":"dibayar!HC2","v":0},{"$f":"dibayar!HD2","v":0},{"$f":"dibayar!HE2","v":0},0]
["4A",{"$f":"dibayar!AH3","v":0},{"$f":"B50/dibayar!BG3*100%","v":{"$error":"#DIV/0!"}},{"$error":"#DIV/0!"},{"$error":"#DIV/0!"},"3D",{"$f":"dibayar!HG2","v":0},{"$f":"dibayar!HH2","v":0},{"$f":"dibayar!HI2","v":0},{"$f":"dibayar!HJ2","v":0},{"$f":"dibayar!HK2","v":0},{"$f":"dibayar!HL2","v":0},{"$f":"dibayar!HM2","v":0},{"$f":"dibayar!HN2","v":0},{"$f":"dibayar!HO2","v":0},{"$f":"dibayar!HP2","v":0},{"$f":"dibayar!HQ2","v":0},{"$f":"dibayar!HR2","v":0},0]
["4B",{"$f":"dibayar!AI3","v":0},{"$f":"B51/dibayar!BH3*100%","v":{"$error":"#DIV/0!"}},{"$error":"#DIV/0!"},{"$error":"#DIV/0!"},"4A",{"$f":"dibayar!HT2","v":0},{"$f":"dibayar!HU2","v":0},{"$f":"dibayar!HV2","v":0},{"$f":"dibayar!HW2","v":0},{"$f":"dibayar!HX2","v":0},{"$f":"dibayar!HY2","v":0},{"$f":"dibayar!HZ2","v":0},{"$f":"dibayar!IA2","v":0},{"$f":"dibayar!IB2","v":0},{"$f":"dibayar!IC2","v":0},{"$f":"dibayar!ID2","v":0},{"$f":"dibayar!IE2","v":0},0]
["4C",{"$f":"dibayar!AJ3","v":0},{"$f":"B52/dibayar!BI3*100%","v":{"$error":"#DIV/0!"}},{"$error":"#DIV/0!"},{"$error":"#DIV/0!"},"4B",{"$f":"dibayar!IG2","v":0},{"$f":"dibayar!IH2","v":0},{"$f":"dibayar!II2","v":0},{"$f":"dibayar!IJ2","v":0},{"$f":"dibayar!IK2","v":0},{"$f":"dibayar!IL2","v":0},{"$f":"dibayar!IM2","v":0},{"$f":"dibayar!IN2","v":0},{"$f":"dibayar!IO2","v":0},{"$f":"dibayar!IP2","v":0},{"$f":"dibayar!IQ2","v":0},{"$f":"dibayar!IR2","v":0},0]
["4D",{"$f":"dibayar!AK3","v":0},{"$f":"B53/dibayar!BJ3*100%","v":{"$error":"#DIV/0!"}},{"$error":"#DIV/0!"},{"$error":"#DIV/0!"},"4C",{"$f":"dibayar!IT2","v":0},{"$f":"dibayar!IU2","v":0},{"$f":"dibayar!IV2","v":0},{"$f":"dibayar!IW2","v":0},{"$f":"dibayar!IX2","v":0},{"$f":"dibayar!IY2","v":0},{"$f":"dibayar!IZ2","v":0},{"$f":"dibayar!JA2","v":0},{"$f":"dibayar!JB2","v":0},{"$f":"dibayar!JC2","v":0},{"$f":"dibayar!JD2","v":0},{"$f":"dibayar!JE2","v":0},0]
["5A",{"$f":"dibayar!AL3","v":0},{"$f":"B54/dibayar!BK3*100%","v":{"$error":"#DIV/0!"}},{"$error":"#DIV/0!"},{"$error":"#DIV/0!"},"4D",{"$f":"dibayar!JG2","v":0},{"$f":"dibayar!JH2","v":0},{"$f":"dibayar!JI2","v":0},{"$f":"dibayar!JJ2","v":0},{"$f":"dibayar!JK2","v":0},{"$f":"dibayar!JL2","v":0},{"$f":"dibayar!JM2","v":0},{"$f":"dibayar!JN2","v":0},{"$f":"dibayar!JO2","v":0},{"$f":"dibayar!JP2","v":0},{"$f":"dibayar!JQ2","v":0},{"$f":"dibayar!JR2","v":0},0]
["5B",{"$f":"dibayar!AM3","v":0},{"$f":"B55/dibayar!BL3*100%","v":{"$error":"#DIV/0!"}},{"$error":"#DIV/0!"},{"$error":"#DIV/0!"},"5A",{"$f":"dibayar!JT2","v":0},{"$f":"dibayar!JU2","v":0},{"$f":"dibayar!JV2","v":0},{"$f":"dibayar!JW2","v":0},{"$f":"dibayar!JX2","v":0},{"$f":"dibayar!JY2","v":0},{"$f":"dibayar!JZ2","v":0},{"$f":"dibayar!KA2","v":0},{"$f":"dibayar!KB2","v":0},{"$f":"dibayar!KC2","v":0},{"$f":"dibayar!KD2","v":0},{"$f":"dibayar!KE2","v":0},0]
["5C",{"$f":"dibayar!AN3","v":0},{"$f":"B56/dibayar!BM3*100%","v":{"$error":"#DIV/0!"}},{"$error":"#DIV/0!"},{"$error":"#DIV/0!"},"5B",{"$f":"dibayar!KG2","v":0},{"$f":"dibayar!KH2","v":0},{"$f":"dibayar!KI2","v":0},{"$f":"dibayar!KJ2","v":0},{"$f":"dibayar!KK2","v":0},{"$f":"dibayar!KL2","v":0},{"$f":"dibayar!KM2","v":0},{"$f":"dibayar!KO2","v":0},{"$f":"dibayar!KO2","v":0},{"$f":"dibayar!KP2","v":0},{"$f":"dibayar!KQ2","v":0},{"$f":"dibayar!KR2","v":0},0]
["5D",{"$f":"dibayar!AO3","v":0},{"$f":"B57/dibayar!BN3*100%","v":{"$error":"#DIV/0!"}},{"$error":"#DIV/0!"},{"$error":"#DIV/0!"},"5C",{"$f":"dibayar!KT2","v":0},{"$f":"dibayar!KU2","v":0},{"$f":"dibayar!KV2","v":0},{"$f":"dibayar!KW2","v":0},{"$f":"dibayar!KX2","v":0},{"$f":"dibayar!KY2","v":0},{"$f":"dibayar!KZ2","v":0},{"$f":"dibayar!LA2","v":0},{"$f":"dibayar!LB2","v":0},{"$f":"dibayar!LC2","v":0},{"$f":"dibayar!LD2","v":0},{"$f":"dibayar!LE2","v":0},0]
["6A",{"$f":"dibayar!AP3","v":0},{"$f":"B58/dibayar!BO3*100%","v":{"$error":"#DIV/0!"}},{"$error":"#DIV/0!"},{"$error":"#DIV/0!"},"5D",{"$f":"dibayar!LG2","v":0},{"$f":"dibayar!LH2","v":0},{"$f":"dibayar!LI2","v":0},{"$f":"dibayar!LJ2","v":0},{"$f":"dibayar!LK2","v":0},{"$f":"dibayar!LL2","v":0},{"$f":"dibayar!LM2","v":0},{"$f":"dibayar!LN2","v":0},{"$f":"dibayar!LO2","v":0},{"$f":"dibayar!LP2","v":0},{"$f":"dibayar!LQ2","v":0},{"$f":"dibayar!LR2","v":0},0]
["6B",{"$f":"dibayar!AQ3","v":0},{"$f":"B59/dibayar!BP3*100%","v":{"$error":"#DIV/0!"}},{"$error":"#DIV/0!"},{"$error":"#DIV/0!"},"6A",{"$f":"dibayar!LT2","v":0},{"$f":"dibayar!LU2","v":0},{"$f":"dibayar!LV2","v":0},{"$f":"dibayar!LW2","v":0},{"$f":"dibayar!LX2","v":0},{"$f":"dibayar!LY2","v":0},{"$f":"dibayar!LZ2","v":0},{"$f":"dibayar!MA2","v":0},{"$f":"dibayar!MB2","v":0},{"$f":"dibayar!MC2","v":0},{"$f":"dibayar!MD2","v":0},{"$f":"dibayar!ME2","v":0},0]
["6C",{"$f":"dibayar!AR3","v":0},{"$f":"B60/dibayar!BQ3*100%","v":{"$error":"#DIV/0!"}},{"$error":"#DIV/0!"},{"$error":"#DIV/0!"},"6B",{"$f":"dibayar!MG2","v":0},{"$f":"dibayar!MH2","v":0},{"$f":"dibayar!MI2","v":0},{"$f":"dibayar!MJ2","v":0},{"$f":"dibayar!MK2","v":0},{"$f":"dibayar!ML2","v":0},{"$f":"dibayar!MM2","v":0},{"$f":"dibayar!MO2","v":0},{"$f":"dibayar!MO2","v":0},{"$f":"dibayar!MP2","v":0},{"$f":"dibayar!MQ2","v":0},{"$f":"dibayar!MR2","v":0},0]
["6D",{"$f":"dibayar!AS3","v":0},{"$f":"B61/dibayar!BR3*100%","v":{"$error":"#DIV/0!"}},{"$error":"#DIV/0!"},{"$error":"#DIV/0!"},"6C",{"$f":"dibayar!MT2","v":0},{"$f":"dibayar!MU2","v":0},{"$f":"dibayar!MV2","v":0},{"$f":"dibayar!MW2","v":0},{"$f":"dibayar!MX2","v":0},{"$f":"dibayar!MY2","v":0},{"$f":"dibayar!MZ2","v":0},{"$f":"dibayar!NA2","v":0},{"$f":"dibayar!NB2","v":0},{"$f":"dibayar!NC2","v":0},{"$f":"dibayar!ND2","v":0},{"$f":"dibayar!NE2","v":0},0]
["Jumlah",{"$f":"SUM(B38:B61)","v":0},null,null,null,"6D",{"$f":"dibayar!NG2","v":0},{"$f":"dibayar!NH2","v":0},{"$f":"dibayar!NI2","v":0},{"$f":"dibayar!NJ2","v":0},{"$f":"dibayar!NK2","v":0},{"$f":"dibayar!NL2","v":0},{"$f":"dibayar!NM2","v":0},{"$f":"dibayar!NN2","v":0},{"$f":"dibayar!NO2","v":0},{"$f":"dibayar!NP2","v":0},{"$f":"dibayar!NQ2","v":0},{"$f":"dibayar!NR2","v":0},0]
[null,null,null,null,{"$f":"\"GRAFIK PERKEMBANGAN SPP PER KELAS PER BULAN tahun \" &profil!B8","v":"GRAFIK PERKEMBANGAN SPP PER KELAS PER BULAN tahun 2019/2020"}]
[null,null,null,null,"3D","Jan",{"$f":"VLOOKUP($E$64,$F$39:$R$62,2)","v":0}]
[null,null,null,null,null,"Feb",{"$f":"VLOOKUP($E$64,$F$39:$R$62,3)","v":0}]
[null,null,null,null,null,"Mar",{"$f":"VLOOKUP($E$64,$F$39:$R$62,4)","v":0}]
[null,null,null,null,null,"Apr",{"$f":"VLOOKUP($E$64,$F$39:$R$62,5)","v":0}]
[null,null,null,null,null,"Mei",{"$f":"VLOOKUP($E$64,$F$39:$R$62,6)","v":0}]
[null,null,null,null,null,"Jun",{"$f":"VLOOKUP($E$64,$F$39:$R$62,7)","v":0}]
[null,null,null,null,null,"Jul",{"$f":"VLOOKUP($E$64,$F$39:$R$62,8)","v":0}]
[null,null,null,null,null,"Agus",{"$f":"VLOOKUP($E$64,$F$39:$R$62,9)","v":0}]
[null,null,null,null,null,"Sept",{"$f":"VLOOKUP($E$64,$F$39:$R$62,10)","v":0}]
[null,null,null,null,null,"Okt",{"$f":"VLOOKUP($E$64,$F$39:$R$62,11)","v":0}]
[null,null,null,null,null,"Nov",{"$f":"VLOOKUP($E$64,$F$39:$R$62,12)","v":0}]
[null,null,null,null,null,"Des",{"$f":"VLOOKUP($E$64,$F$39:$R$62,13)","v":0}]
[]
[]
[null,null,null,null,{"$f":"\"PROSENTASE REKAP PENDAPATAN SPP PER KELAS PER BULAN tahun \" &profil!B8","v":"PROSENTASE REKAP PENDAPATAN SPP PER KELAS PER BULAN tahun 2019/2020"}]
[null,null,null,null,"KELAS","JANUARI","FEBRUARI","MARET","APRIL","MEI","JUNI","JULI","AGUSTUS","SEPTEMBER","OKTOBER","NOVEMBER ","DESEMBER"]
[null,null,null,null,"1A",{"$f":"G39/dibayar!$NT$4*100%","v":0},{"$f":"H39/dibayar!$NT$4*100%","v":0},{"$f":"I39/dibayar!$NT$4*100%","v":0},{"$f":"J39/dibayar!$NT$4*100%","v":0},{"$f":"K39/dibayar!$NT$4*100%","v":0},{"$f":"L39/dibayar!$NT$4*100%","v":0},{"$f":"M39/dibayar!$NT$4*100%","v":0},{"$f":"N39/dibayar!$NT$4*100%","v":0},{"$f":"O39/dibayar!$NT$4*100%","v":0},{"$f":"P39/dibayar!$NT$4*100%","v":0},{"$f":"Q39/dibayar!$NT$4*100%","v":0},{"$f":"R39/dibayar!$NT$4*100%","v":0}]
[null,null,null,null,"1B",{"$f":"G40/dibayar!$NU$4*100%","v":{"$error":"#DIV/0!"}},{"$f":"H40/dibayar!$NU$4*100%","v":{"$error":"#DIV/0!"}},{"$f":"I40/dibayar!$NU$4*100%","v":{"$error":"#DIV/0!"}},{"$f":"J40/dibayar!$NU$4*100%","v":{"$error":"#DIV/0!"}},{"$f":"K40/dibayar!$NU$4*100%","v":{"$error":"#DIV/0!"}},{"$f":"L40/dibayar!$NU$4*100%","v":{"$error":"#DIV/0!"}},{"$f":"M40/dibayar!$NU$4*100%","v":{"$error":"#DIV/0!"}},{"$f":"N40/dibayar!$NU$4*100%","v":{"$error":"#DIV/0!"}},{"$f":"O40/dibayar!$NU$4*100%","v":{"$error":"#DIV/0!"}},{"$f":"P40/dibayar!$NU$4*100%","v":{"$error":"#DIV/0!"}},{"$f":"Q40/dibayar!$NU$4*100%","v":{"$error":"#DIV/0!"}},{"$f":"R40/dibayar!$NU$4*100%","v":{"$error":"#DIV/0!"}}]
[null,null,null,null,"1C",{"$f":"G41/dibayar!$NV$4*100%","v":{"$error":"#DIV/0!"}},{"$f":"H41/dibayar!$NV$4*100%","v":{"$error":"#DIV/0!"}},{"$f":"I41/dibayar!$NV$4*100%","v":{"$error":"#DIV/0!"}},{"$f":"J41/dibayar!$NV$4*100%","v":{"$error":"#DIV/0!"}},{"$f":"K41/dibayar!$NV$4*100%","v":{"$error":"#DIV/0!"}},{"$f":"L41/dibayar!$NV$4*100%","v":{"$error":"#DIV/0!"}},{"$f":"M41/dibayar!$NV$4*100%","v":{"$error":"#DIV/0!"}},{"$f":"N41/dibayar!$NV$4*100%","v":{"$error":"#DIV/0!"}},{"$f":"O41/dibayar!$NV$4*100%","v":{"$error":"#DIV/0!"}},{"$f":"P41/dibayar!$NV$4*100%","v":{"$error":"#DIV/0!"}},{"$f":"Q41/dibayar!$NV$4*100%","v":{"$error":"#DIV/0!"}},{"$f":"R41/dibayar!$NV$4*100%","v":{"$error":"#DIV/0!"}}]
[null,null,null,null,"1D",{"$f":"G42/dibayar!$NW$4*100%","v":{"$error":"#DIV/0!"}},{"$f":"H42/dibayar!$NW$4*100%","v":{"$error":"#DIV/0!"}},{"$f":"I42/dibayar!$NW$4*100%","v":{"$error":"#DIV/0!"}},{"$f":"J42/dibayar!$NW$4*100%","v":{"$error":"#DIV/0!"}},{"$f":"K42/dibayar!$NW$4*100%","v":{"$error":"#DIV/0!"}},{"$f":"L42/dibayar!$NW$4*100%","v":{"$error":"#DIV/0!"}},{"$f":"M42/dibayar!$NW$4*100%","v":{"$error":"#DIV/0!"}},{"$f":"N42/dibayar!$NW$4*100%","v":{"$error":"#DIV/0!"}},{"$f":"O42/dibayar!$NW$4*100%","v":{"$error":"#DIV/0!"}},{"$f":"P42/dibayar!$NW$4*100%","v":{"$error":"#DIV/0!"}},{"$f":"Q42/dibayar!$NW$4*100%","v":{"$error":"#DIV/0!"}},{"$f":"R42/dibayar!$NW$4*100%","v":{"$error":"#DIV/0!"}}]
[null,null,null,null,"2A",{"$f":"G43/dibayar!$NX$4*100%","v":{"$error":"#DIV/0!"}},{"$f":"H43/dibayar!$NX$4*100%","v":{"$error":"#DIV/0!"}},{"$f":"I43/dibayar!$NX$4*100%","v":{"$error":"#DIV/0!"}},{"$f":"J43/dibayar!$NX$4*100%","v":{"$error":"#DIV/0!"}},{"$f":"K43/dibayar!$NX$4*100%","v":{"$error":"#DIV/0!"}},{"$f":"L43/dibayar!$NX$4*100%","v":{"$error":"#DIV/0!"}},{"$f":"M43/dibayar!$NX$4*100%","v":{"$error":"#DIV/0!"}},{"$f":"N43/dibayar!$NX$4*100%","v":{"$error":"#DIV/0!"}},{"$f":"O43/dibayar!$NX$4*100%","v":{"$error":"#DIV/0!"}},{"$f":"P43/dibayar!$NX$4*100%","v":{"$error":"#DIV/0!"}},{"$f":"Q43/dibayar!$NX$4*100%","v":{"$error":"#DIV/0!"}},{"$f":"R43/dibayar!$NX$4*100%","v":{"$error":"#DIV/0!"}}]
[null,null,null,null,"2B",{"$f":"G44/dibayar!$NY$4*100%","v":{"$error":"#DIV/0!"}},{"$f":"H44/dibayar!$NY$4*100%","v":{"$error":"#DIV/0!"}},{"$f":"I44/dibayar!$NY$4*100%","v":{"$error":"#DIV/0!"}},{"$f":"J44/dibayar!$NY$4*100%","v":{"$error":"#DIV/0!"}},{"$f":"K44/dibayar!$NY$4*100%","v":{"$error":"#DIV/0!"}},{"$f":"L44/dibayar!$NY$4*100%","v":{"$error":"#DIV/0!"}},{"$f":"M44/dibayar!$NY$4*100%","v":{"$error":"#DIV/0!"}},{"$f":"N44/dibayar!$NY$4*100%","v":{"$error":"#DIV/0!"}},{"$f":"O44/dibayar!$NY$4*100%","v":{"$error":"#DIV/0!"}},{"$f":"P44/dibayar!$NY$4*100%","v":{"$error":"#DIV/0!"}},{"$f":"Q44/dibayar!$NY$4*100%","v":{"$error":"#DIV/0!"}},{"$f":"R44/dibayar!$NY$4*100%","v":{"$error":"#DIV/0!"}}]
[null,null,null,null,"2C",{"$f":"G45/dibayar!$NZ$4*100%","v":{"$error":"#DIV/0!"}},{"$f":"H45/dibayar!$NZ$4*100%","v":{"$error":"#DIV/0!"}},{"$f":"I45/dibayar!$NZ$4*100%","v":{"$error":"#DIV/0!"}},{"$f":"J45/dibayar!$NZ$4*100%","v":{"$error":"#DIV/0!"}},{"$f":"K45/dibayar!$NZ$4*100%","v":{"$error":"#DIV/0!"}},{"$f":"L45/dibayar!$NZ$4*100%","v":{"$error":"#DIV/0!"}},{"$f":"M45/dibayar!$NZ$4*100%","v":{"$error":"#DIV/0!"}},{"$f":"N45/dibayar!$NZ$4*100%","v":{"$error":"#DIV/0!"}},{"$f":"O45/dibayar!$NZ$4*100%","v":{"$error":"#DIV/0!"}},{"$f":"P45/dibayar!$NZ$4*100%","v":{"$error":"#DIV/0!"}},{"$f":"Q45/dibayar!$NZ$4*100%","v":{"$error":"#DIV/0!"}},{"$f":"R45/dibayar!$NZ$4*100%","v":{"$error":"#DIV/0!"}}]
[null,null,null,null,"2D",{"$f":"G46/dibayar!$OA$4*100%","v":{"$error":"#DIV/0!"}},{"$f":"H46/dibayar!$OA$4*100%","v":{"$error":"#DIV/0!"}},{"$f":"I46/dibayar!$OA$4*100%","v":{"$error":"#DIV/0!"}},{"$f":"J46/dibayar!$OA$4*100%","v":{"$error":"#DIV/0!"}},{"$f":"K46/dibayar!$OA$4*100%","v":{"$error":"#DIV/0!"}},{"$f":"L46/dibayar!$OA$4*100%","v":{"$error":"#DIV/0!"}},{"$f":"M46/dibayar!$OA$4*100%","v":{"$error":"#DIV/0!"}},{"$f":"N46/dibayar!$OA$4*100%","v":{"$error":"#DIV/0!"}},{"$f":"O46/dibayar!$OA$4*100%","v":{"$error":"#DIV/0!"}},{"$f":"P46/dibayar!$OA$4*100%","v":{"$error":"#DIV/0!"}},{"$f":"Q46/dibayar!$OA$4*100%","v":{"$error":"#DIV/0!"}},{"$f":"R46/dibayar!$OA$4*100%","v":{"$error":"#DIV/0!"}}]
[null,null,null,null,"3A",{"$f":"G47/dibayar!$OB$4*100%","v":{"$error":"#DIV/0!"}},{"$f":"H47/dibayar!$OB$4*100%","v":{"$error":"#DIV/0!"}},{"$f":"I47/dibayar!$OB$4*100%","v":{"$error":"#DIV/0!"}},{"$f":"J47/dibayar!$OB$4*100%","v":{"$error":"#DIV/0!"}},{"$f":"K47/dibayar!$OB$4*100%","v":{"$error":"#DIV/0!"}},{"$f":"L47/dibayar!$OB$4*100%","v":{"$error":"#DIV/0!"}},{"$f":"M47/dibayar!$OB$4*100%","v":{"$error":"#DIV/0!"}},{"$f":"N47/dibayar!$OB$4*100%","v":{"$error":"#DIV/0!"}},{"$f":"O47/dibayar!$OB$4*100%","v":{"$error":"#DIV/0!"}},{"$f":"P47/dibayar!$OB$4*100%","v":{"$error":"#DIV/0!"}},{"$f":"Q47/dibayar!$OB$4*100%","v":{"$error":"#DIV/0!"}},{"$f":"R47/dibayar!$OB$4*100%","v":{"$error":"#DIV/0!"}}]
[null,null,null,null,"3B",{"$f":"G48/dibayar!$OC$4*100%","v":{"$error":"#DIV/0!"}},{"$f":"H48/dibayar!$OC$4*100%","v":{"$error":"#DIV/0!"}},{"$f":"I48/dibayar!$OC$4*100%","v":{"$error":"#DIV/0!"}},{"$f":"J48/dibayar!$OC$4*100%","v":{"$error":"#DIV/0!"}},{"$f":"K48/dibayar!$OC$4*100%","v":{"$error":"#DIV/0!"}},{"$f":"L48/dibayar!$OC$4*100%","v":{"$error":"#DIV/0!"}},{"$f":"M48/dibayar!$OC$4*100%","v":{"$error":"#DIV/0!"}},{"$f":"N48/dibayar!$OC$4*100%","v":{"$error":"#DIV/0!"}},{"$f":"O48/dibayar!$OC$4*100%","v":{"$error":"#DIV/0!"}},{"$f":"P48/dibayar!$OC$4*100%","v":{"$error":"#DIV/0!"}},{"$f":"Q48/dibayar!$OC$4*100%","v":{"$error":"#DIV/0!"}},{"$f":"R48/dibayar!$OC$4*100%","v":{"$error":"#DIV/0!"}}]
[null,null,null,null,"3C",{"$f":"G49/dibayar!$OD$4*100%","v":{"$error":"#DIV/0!"}},{"$f":"H49/dibayar!$OD$4*100%","v":{"$error":"#DIV/0!"}},{"$f":"I49/dibayar!$OD$4*100%","v":{"$error":"#DIV/0!"}},{"$f":"J49/dibayar!$OD$4*100%","v":{"$error":"#DIV/0!"}},{"$f":"K49/dibayar!$OD$4*100%","v":{"$error":"#DIV/0!"}},{"$f":"L49/dibayar!$OD$4*100%","v":{"$error":"#DIV/0!"}},{"$f":"M49/dibayar!$OD$4*100%","v":{"$error":"#DIV/0!"}},{"$f":"N49/dibayar!$OD$4*100%","v":{"$error":"#DIV/0!"}},{"$f":"O49/dibayar!$OD$4*100%","v":{"$error":"#DIV/0!"}},{"$f":"P49/dibayar!$OD$4*100%","v":{"$error":"#DIV/0!"}},{"$f":"Q49/dibayar!$OD$4*100%","v":{"$error":"#DIV/0!"}},{"$f":"R49/dibayar!$OD$4*100%","v":{"$error":"#DIV/0!"}}]
[null,null,null,null,"3D",{"$f":"G50/dibayar!$OE$4*100%","v":{"$error":"#DIV/0!"}},{"$f":"H50/dibayar!$OE$4*100%","v":{"$error":"#DIV/0!"}},{"$f":"I50/dibayar!$OE$4*100%","v":{"$error":"#DIV/0!"}},{"$f":"J50/dibayar!$OE$4*100%","v":{"$error":"#DIV/0!"}},{"$f":"K50/dibayar!$OE$4*100%","v":{"$error":"#DIV/0!"}},{"$f":"L50/dibayar!$OE$4*100%","v":{"$error":"#DIV/0!"}},{"$f":"M50/dibayar!$OE$4*100%","v":{"$error":"#DIV/0!"}},{"$f":"N50/dibayar!$OE$4*100%","v":{"$error":"#DIV/0!"}},{"$f":"O50/dibayar!$OE$4*100%","v":{"$error":"#DIV/0!"}},{"$f":"P50/dibayar!$OE$4*100%","v":{"$error":"#DIV/0!"}},{"$f":"Q50/dibayar!$OE$4*100%","v":{"$error":"#DIV/0!"}},{"$f":"R50/dibayar!$OE$4*100%","v":{"$error":"#DIV/0!"}}]
[null,null,null,null,"4A",{"$f":"G51/dibayar!$OF$4*100%","v":{"$error":"#DIV/0!"}},{"$f":"H51/dibayar!$OF$4*100%","v":{"$error":"#DIV/0!"}},{"$f":"I51/dibayar!$OF$4*100%","v":{"$error":"#DIV/0!"}},{"$f":"J51/dibayar!$OF$4*100%","v":{"$error":"#DIV/0!"}},{"$f":"K51/dibayar!$OF$4*100%","v":{"$error":"#DIV/0!"}},{"$f":"L51/dibayar!$OF$4*100%","v":{"$error":"#DIV/0!"}},{"$f":"M51/dibayar!$OF$4*100%","v":{"$error":"#DIV/0!"}},{"$f":"N51/dibayar!$OF$4*100%","v":{"$error":"#DIV/0!"}},{"$f":"O51/dibayar!$OF$4*100%","v":{"$error":"#DIV/0!"}},{"$f":"P51/dibayar!$OF$4*100%","v":{"$error":"#DIV/0!"}},{"$f":"Q51/dibayar!$OF$4*100%","v":{"$error":"#DIV/0!"}},{"$f":"R51/dibayar!$OF$4*100%","v":{"$error":"#DIV/0!"}}]
[null,null,null,null,"4B",{"$f":"G52/dibayar!$OG$4*100%","v":{"$error":"#DIV/0!"}},{"$f":"H52/dibayar!$OG$4*100%","v":{"$error":"#DIV/0!"}},{"$f":"I52/dibayar!$OG$4*100%","v":{"$error":"#DIV/0!"}},{"$f":"J52/dibayar!$OG$4*100%","v":{"$error":"#DIV/0!"}},{"$f":"K52/dibayar!$OG$4*100%","v":{"$error":"#DIV/0!"}},{"$f":"L52/dibayar!$OG$4*100%","v":{"$error":"#DIV/0!"}},{"$f":"M52/dibayar!$OG$4*100%","v":{"$error":"#DIV/0!"}},{"$f":"N52/dibayar!$OG$4*100%","v":{"$error":"#DIV/0!"}},{"$f":"O52/dibayar!$OG$4*100%","v":{"$error":"#DIV/0!"}},{"$f":"P52/dibayar!$OG$4*100%","v":{"$error":"#DIV/0!"}},{"$f":"Q52/dibayar!$OG$4*100%","v":{"$error":"#DIV/0!"}},{"$f":"R52/dibayar!$OG$4*100%","v":{"$error":"#DIV/0!"}}]
[null,null,null,null,"4C",{"$f":"G53/dibayar!$OH$4*100%","v":{"$error":"#DIV/0!"}},{"$f":"H53/dibayar!$OH$4*100%","v":{"$error":"#DIV/0!"}},{"$f":"I53/dibayar!$OH$4*100%","v":{"$error":"#DIV/0!"}},{"$f":"J53/dibayar!$OH$4*100%","v":{"$error":"#DIV/0!"}},{"$f":"K53/dibayar!$OH$4*100%","v":{"$error":"#DIV/0!"}},{"$f":"L53/dibayar!$OH$4*100%","v":{"$error":"#DIV/0!"}},{"$f":"M53/dibayar!$OH$4*100%","v":{"$error":"#DIV/0!"}},{"$f":"N53/dibayar!$OH$4*100%","v":{"$error":"#DIV/0!"}},{"$f":"O53/dibayar!$OH$4*100%","v":{"$error":"#DIV/0!"}},{"$f":"P53/dibayar!$OH$4*100%","v":{"$error":"#DIV/0!"}},{"$f":"Q53/dibayar!$OH$4*100%","v":{"$error":"#DIV/0!"}},{"$f":"R53/dibayar!$OH$4*100%","v":{"$error":"#DIV/0!"}}]
[null,null,null,null,"4D",{"$f":"G54/dibayar!$OI$4*100%","v":{"$error":"#DIV/0!"}},{"$f":"H54/dibayar!$OI$4*100%","v":{"$error":"#DIV/0!"}},{"$f":"I54/dibayar!$OI$4*100%","v":{"$error":"#DIV/0!"}},{"$f":"J54/dibayar!$OI$4*100%","v":{"$error":"#DIV/0!"}},{"$f":"K54/dibayar!$OI$4*100%","v":{"$error":"#DIV/0!"}},{"$f":"L54/dibayar!$OI$4*100%","v":{"$error":"#DIV/0!"}},{"$f":"M54/dibayar!$OI$4*100%","v":{"$error":"#DIV/0!"}},{"$f":"N54/dibayar!$OI$4*100%","v":{"$error":"#DIV/0!"}},{"$f":"O54/dibayar!$OI$4*100%","v":{"$error":"#DIV/0!"}},{"$f":"P54/dibayar!$OI$4*100%","v":{"$error":"#DIV/0!"}},{"$f":"Q54/dibayar!$OI$4*100%","v":{"$error":"#DIV/0!"}},{"$f":"R54/dibayar!$OI$4*100%","v":{"$error":"#DIV/0!"}}]
[null,null,null,null,"5A",{"$f":"G55/dibayar!$OJ$4*100%","v":{"$error":"#DIV/0!"}},{"$f":"H55/dibayar!$OJ$4*100%","v":{"$error":"#DIV/0!"}},{"$f":"I55/dibayar!$OJ$4*100%","v":{"$error":"#DIV/0!"}},{"$f":"J55/dibayar!$OJ$4*100%","v":{"$error":"#DIV/0!"}},{"$f":"K55/dibayar!$OJ$4*100%","v":{"$error":"#DIV/0!"}},{"$f":"L55/dibayar!$OJ$4*100%","v":{"$error":"#DIV/0!"}},{"$f":"M55/dibayar!$OJ$4*100%","v":{"$error":"#DIV/0!"}},{"$f":"N55/dibayar!$OJ$4*100%","v":{"$error":"#DIV/0!"}},{"$f":"O55/dibayar!$OJ$4*100%","v":{"$error":"#DIV/0!"}},{"$f":"P55/dibayar!$OJ$4*100%","v":{"$error":"#DIV/0!"}},{"$f":"Q55/dibayar!$OJ$4*100%","v":{"$error":"#DIV/0!"}},{"$f":"R55/dibayar!$OJ$4*100%","v":{"$error":"#DIV/0!"}}]
[null,null,null,null,"5B",{"$f":"G56/dibayar!$OK$4*100%","v":{"$error":"#DIV/0!"}},{"$f":"H56/dibayar!$OK$4*100%","v":{"$error":"#DIV/0!"}},{"$f":"I56/dibayar!$OK$4*100%","v":{"$error":"#DIV/0!"}},{"$f":"J56/dibayar!$OK$4*100%","v":{"$error":"#DIV/0!"}},{"$f":"K56/dibayar!$OK$4*100%","v":{"$error":"#DIV/0!"}},{"$f":"L56/dibayar!$OK$4*100%","v":{"$error":"#DIV/0!"}},{"$f":"M56/dibayar!$OK$4*100%","v":{"$error":"#DIV/0!"}},{"$f":"N56/dibayar!$OK$4*100%","v":{"$error":"#DIV/0!"}},{"$f":"O56/dibayar!$OK$4*100%","v":{"$error":"#DIV/0!"}},{"$f":"P56/dibayar!$OK$4*100%","v":{"$error":"#DIV/0!"}},{"$f":"Q56/dibayar!$OK$4*100%","v":{"$error":"#DIV/0!"}},{"$f":"R56/dibayar!$OK$4*100%","v":{"$error":"#DIV/0!"}}]
[null,null,null,null,"5C",{"$f":"G57/dibayar!$OL$4*100%","v":{"$error":"#DIV/0!"}},{"$f":"H57/dibayar!$OL$4*100%","v":{"$error":"#DIV/0!"}},{"$f":"I57/dibayar!$OL$4*100%","v":{"$error":"#DIV/0!"}},{"$f":"J57/dibayar!$OL$4*100%","v":{"$error":"#DIV/0!"}},{"$f":"K57/dibayar!$OL$4*100%","v":{"$error":"#DIV/0!"}},{"$f":"L57/dibayar!$OL$4*100%","v":{"$error":"#DIV/0!"}},{"$f":"M57/dibayar!$OL$4*100%","v":{"$error":"#DIV/0!"}},{"$f":"N57/dibayar!$OL$4*100%","v":{"$error":"#DIV/0!"}},{"$f":"O57/dibayar!$OL$4*100%","v":{"$error":"#DIV/0!"}},{"$f":"P57/dibayar!$OL$4*100%","v":{"$error":"#DIV/0!"}},{"$f":"Q57/dibayar!$OL$4*100%","v":{"$error":"#DIV/0!"}},{"$f":"R57/dibayar!$OL$4*100%","v":{"$error":"#DIV/0!"}}]
[null,null,null,null,"5D",{"$f":"G58/dibayar!$OM$4*100%","v":{"$error":"#DIV/0!"}},{"$f":"H58/dibayar!$OM$4*100%","v":{"$error":"#DIV/0!"}},{"$f":"I58/dibayar!$OM$4*100%","v":{"$error":"#DIV/0!"}},{"$f":"J58/dibayar!$OM$4*100%","v":{"$error":"#DIV/0!"}},{"$f":"K58/dibayar!$OM$4*100%","v":{"$error":"#DIV/0!"}},{"$f":"L58/dibayar!$OM$4*100%","v":{"$error":"#DIV/0!"}},{"$f":"M58/dibayar!$OM$4*100%","v":{"$error":"#DIV/0!"}},{"$f":"N58/dibayar!$OM$4*100%","v":{"$error":"#DIV/0!"}},{"$f":"O58/dibayar!$OM$4*100%","v":{"$error":"#DIV/0!"}},{"$f":"P58/dibayar!$OM$4*100%","v":{"$error":"#DIV/0!"}},{"$f":"Q58/dibayar!$OM$4*100%","v":{"$error":"#DIV/0!"}},{"$f":"R58/dibayar!$OM$4*100%","v":{"$error":"#DIV/0!"}}]
[null,null,null,null,"6A",{"$f":"G59/dibayar!$ON$4*100%","v":{"$error":"#DIV/0!"}},{"$f":"H59/dibayar!$ON$4*100%","v":{"$error":"#DIV/0!"}},{"$f":"I59/dibayar!$ON$4*100%","v":{"$error":"#DIV/0!"}},{"$f":"J59/dibayar!$ON$4*100%","v":{"$error":"#DIV/0!"}},{"$f":"K59/dibayar!$ON$4*100%","v":{"$error":"#DIV/0!"}},{"$f":"L59/dibayar!$ON$4*100%","v":{"$error":"#DIV/0!"}},{"$f":"M59/dibayar!$ON$4*100%","v":{"$error":"#DIV/0!"}},{"$f":"N59/dibayar!$ON$4*100%","v":{"$error":"#DIV/0!"}},{"$f":"O59/dibayar!$ON$4*100%","v":{"$error":"#DIV/0!"}},{"$f":"P59/dibayar!$ON$4*100%","v":{"$error":"#DIV/0!"}},{"$f":"Q59/dibayar!$ON$4*100%","v":{"$error":"#DIV/0!"}},{"$f":"R59/dibayar!$ON$4*100%","v":{"$error":"#DIV/0!"}}]
[null,null,null,null,"6B",{"$f":"G60/dibayar!$OO$4*100%","v":{"$error":"#DIV/0!"}},{"$f":"H60/dibayar!$OO$4*100%","v":{"$error":"#DIV/0!"}},{"$f":"I60/dibayar!$OO$4*100%","v":{"$error":"#DIV/0!"}},{"$f":"J60/dibayar!$OO$4*100%","v":{"$error":"#DIV/0!"}},{"$f":"K60/dibayar!$OO$4*100%","v":{"$error":"#DIV/0!"}},{"$f":"L60/dibayar!$OO$4*100%","v":{"$error":"#DIV/0!"}},{"$f":"M60/dibayar!$OO$4*100%","v":{"$error":"#DIV/0!"}},{"$f":"N60/dibayar!$OO$4*100%","v":{"$error":"#DIV/0!"}},{"$f":"O60/dibayar!$OO$4*100%","v":{"$error":"#DIV/0!"}},{"$f":"P60/dibayar!$OO$4*100%","v":{"$error":"#DIV/0!"}},{"$f":"Q60/dibayar!$OO$4*100%","v":{"$error":"#DIV/0!"}},{"$f":"R60/dibayar!$OO$4*100%","v":{"$error":"#DIV/0!"}}]
[null,null,null,null,"6C",{"$f":"G61/dibayar!$OP$4*100%","v":{"$error":"#DIV/0!"}},{"$f":"H61/dibayar!$OP$4*100%","v":{"$error":"#DIV/0!"}},{"$f":"I61/dibayar!$OP$4*100%","v":{"$error":"#DIV/0!"}},{"$f":"J61/dibayar!$OP$4*100%","v":{"$error":"#DIV/0!"}},{"$f":"K61/dibayar!$OP$4*100%","v":{"$error":"#DIV/0!"}},{"$f":"L61/dibayar!$OP$4*100%","v":{"$error":"#DIV/0!"}},{"$f":"M61/dibayar!$OP$4*100%","v":{"$error":"#DIV/0!"}},{"$f":"N61/dibayar!$OP$4*100%","v":{"$error":"#DIV/0!"}},{"$f":"O61/dibayar!$OP$4*100%","v":{"$error":"#DIV/0!"}},{"$f":"P61/dibayar!$OP$4*100%","v":{"$error":"#DIV/0!"}},{"$f":"Q61/dibayar!$OP$4*100%","v":{"$error":"#DIV/0!"}},{"$f":"R61/dibayar!$OP$4*100%","v":{"$error":"#DIV/0!"}}]
[null,null,null,null,"6D",{"$f":"G62/dibayar!$OQ$4*100%","v":{"$error":"#DIV/0!"}},{"$f":"H62/dibayar!$OQ$4*100%","v":{"$error":"#DIV/0!"}},{"$f":"I62/dibayar!$OQ$4*100%","v":{"$error":"#DIV/0!"}},{"$f":"J62/dibayar!$OQ$4*100%","v":{"$error":"#DIV/0!"}},{"$f":"K62/dibayar!$OQ$4*100%","v":{"$error":"#DIV/0!"}},{"$f":"L62/dibayar!$OQ$4*100%","v":{"$error":"#DIV/0!"}},{"$f":"M62/dibayar!$OQ$4*100%","v":{"$error":"#DIV/0!"}},{"$f":"N62/dibayar!$OQ$4*100%","v":{"$error":"#DIV/0!"}},{"$f":"O62/dibayar!$OQ$4*100%","v":{"$error":"#DIV/0!"}},{"$f":"P62/dibayar!$OQ$4*100%","v":{"$error":"#DIV/0!"}},{"$f":"Q62/dibayar!$OQ$4*100%","v":{"$error":"#DIV/0!"}},{"$f":"R62/dibayar!$OQ$4*100%","v":{"$error":"#DIV/0!"}}]

{"sheet":"info","index":7,"n_rows":3,"n_cols":2,"rows_kept":3,"cut":false,"hidden":false,"merged":[[2,1,12,8]]}
[]
[]
[null,"Aplikasi ini dibuat oleh Septa Rismanto untuk digunakan di SD Muhammadiyah Wirobrajan 3 Yogyakarta. Anda boleh mengkopi atau pun menyebarluaskan program ini dengan syarat tanpa bersifat komersil. Jika anda ingin membeli aplikasi ini, silahkan masukkan uang pembelian anda ke kotak infak masjid terdekat atau berikan kepada pengurus panti asuhan terdekat. Semoga aplikasi ini bisa memberikan manfaat kepada semua"]